Workbook

Sheet NAIO1
A1: Primære beregninger | AK1: Beregninger af ENS baseret på foreløbige IO-tabeller. De foreløbige IO-tabelværdier nede i arket er manuelt indtastet
C2: Energistyrelsen - CO2e egen anvendelse - slududledninger | D2: 1990 | E2: 1991 | F2: 1992 | G2: 1993 | H2: 1994 | I2: 1995 | J2: 1996 | K2: 1997 | L2: 1998 | M2: 1999 | N2: 2000 | O2: 2001 | P2: 2002 | Q2: 2003 | R2: 2004 | S2: 2005 | T2: 2006 | U2: 2007 | V2: 2008 | W2: 2009 | X2: 2010 | Y2: 2011 | Z2: 2012 | AA2: 2013 | AB2: 2014 | AC2: 2015 | AD2: 2016 | AE2: 2017 | AF2: 2018 | AG2: 2019 | AH2: 2020 | AI2: 2021 | AJ2: 2022 | AK2: 2023 | AL2: 2024
A3: Slutudledninger | B3: Mio. ton. | C3: Nybyggeri | D3: 3.013854 | E3: 2.703794 | F3: 2.539899 | G3: 1.978144 | H3: 1.992198 | I3: 2.495239 | J3: 2.914936 | K3: 3.184235 | L3: 3.677322 | M3: 3.172135 | N3: 3.16692 | O3: 3.38538 | P3: 3.255852 | Q3: 3.649387 | R3: 3.961329 | S3: 3.987113 | T3: 4.493035 | U3: 4.785827 | V3: 4.012955 | W3: 2.450701 | X3: 2.025046 | Y3: 2.400895 | Z3: 2.08437 | AA3: 1.953299 | AB3: 2.113334 | AC3: 2.097445 | AD3: 2.309776 | AE3: 2.611169 | AF3: 2.806185 | AG3: 2.828909 | AH3: 2.944717 | AI3: 3.043128 | AJ3: 3.206705 | AK3: 2.995373 | AL3: 3.003288 | AM3: Tal fra Energistyrelsens Global afrapportering (slutudledninger)
C4: Anlægsvirksomhed | D4: 2.584207 | E4: 2.639991 | F4: 2.68712 | G4: 2.939017 | H4: 2.686625 | I4: 2.980484 | J4: 3.338286 | K4: 3.035835 | L4: 3.19536 | M4: 2.396933 | N4: 2.155346 | O4: 2.413802 | P4: 2.326573 | Q4: 2.501835 | R4: 2.457593 | S4: 2.138376 | T4: 2.26735 | U4: 2.146039 | V4: 2.207437 | W4: 1.937231 | X4: 2.012339 | Y4: 2.161165 | Z4: 2.257852 | AA4: 2.365475 | AB4: 2.323181 | AC4: 2.259194 | AD4: 2.20917 | AE4: 1.917817 | AF4: 1.937979 | AG4: 2.256864 | AH4: 2.486207 | AI4: 2.827838 | AJ4: 2.642038 | AK4: 2.744533 | AL4: 2.983889
C5: Prof. rep. og vedl. | D5: 1.406667 | E5: 1.496197 | F5: 1.499194 | G5: 1.380038 | H5: 1.533843 | I5: 1.6491 | J5: 1.695171 | K5: 1.663129 | L5: 1.53197 | M5: 1.731323 | N5: 1.999301 | O5: 1.796881 | P5: 1.686774 | Q5: 1.868094 | R5: 2.006087 | S5: 2.129699 | T5: 2.418269 | U5: 2.370843 | V5: 2.074549 | W5: 1.721487 | X5: 1.598558 | Y5: 1.844564 | Z5: 1.692869 | AA5: 1.72693 | AB5: 1.854319 | AC5: 1.716426 | AD5: 1.764252 | AE5: 1.755533 | AF5: 1.807575 | AG5: 1.677032 | AH5: 1.647637 | AI5: 1.801519 | AJ5: 1.881586 | AK5: 1.69186 | AL5: 1.635947
C6: Gør-det-selv rep. og vedl. | D6: 0.292215 | E6: 0.307135 | F6: 0.313259 | G6: 0.316332 | H6: 0.323923 | I6: 0.366077 | J6: 0.414641 | K6: 0.441907 | L6: 0.384616 | M6: 0.495847 | N6: 0.73303 | O6: 0.553111 | P6: 0.542683 | Q6: 0.738435 | R6: 0.689153 | S6: 0.862764 | T6: 1.23445 | U6: 1.004363 | V6: 0.754942 | W6: 0.585143 | X6: 0.558841 | Y6: 0.638445 | Z6: 0.570706 | AA6: 0.472939 | AB6: 0.385228 | AC6: 0.358534 | AD6: 0.430978 | AE6: 0.458925 | AF6: 0.491088 | AG6: 0.469127 | AH6: 0.401528 | AI6: 0.62592 | AJ6: 0.699014 | AK6: 0.580971 | AL6: 0.555546
C7: Egen anvendelse (DK+import-eksport)
B8: Mio. kr. | C8: =C3 -> Nybyggeri | D8: =D139-D148+D215-D224 -> 32005.803 | E8: =E139-E148+E215-E224 -> 28358.02 | F8: =F139-F148+F215-F224 -> 26664.746 | G8: =G139-G148+G215-G224 -> 22467.456 | H8: =H139-H148+H215-H224 -> 23453.594 | I8: =I139-I148+I215-I224 -> 28053.106 | J8: =J139-J148+J215-J224 -> 34164.042 | K8: =K139-K148+K215-K224 -> 40446.33 | ... AL8: =AL139-AL148+AL215-AL224 -> 112478.64 | AM8: Tal beregnes på baggrund af indhentede data fra NAIO1 fra DST omkring sommer når IO-tabeller ajourføres
C9: =C4 -> Anlægsvirksomhed | D9: =D158-D167+D234-D243 -> 24592.688 | E9: =E158-E167+E234-E243 -> 23448.966 | F9: =F158-F167+F234-F243 -> 24333.893 | G9: =G158-G167+G234-G243 -> 26889.213 | H9: =H158-H167+H234-H243 -> 26097.254 | I9: =I158-I167+I234-I243 -> 27647.521 | J9: =J158-J167+J234-J243 -> 31548.753 | K9: =K158-K167+K234-K243 -> 31465.348 | ... AL9: =AL158-AL167+AL234-AL243 -> 76477.119
C10: =C5 -> Prof. rep. og vedl. | D10: =D177-D186+D253-D262 -> 17896.916 | E10: =E177-E186+E253-E262 -> 17948.437 | F10: =F177-F186+F253-F262 -> 19415.293 | G10: =G177-G186+G253-G262 -> 19041.982 | H10: =H177-H186+H253-H262 -> 21188.1 | I10: =I177-I186+I253-I262 -> 22843.713 | J10: =J177-J186+J253-J262 -> 23660.168 | K10: =K177-K186+K253-K262 -> 24795.609 | ... AL10: =AL177-AL186+AL253-AL262 -> 67432.759
C11: =C6 -> Gør-det-selv rep. og vedl. | D11: =D196-D205+D272-D281 -> 2297.083 | E11: =E196-E205+E272-E281 -> 2260.801 | F11: =F196-F205+F272-F281 -> 2381.77 | G11: =G196-G205+G272-G281 -> 2384.216 | H11: =H196-H205+H272-H281 -> 2489.578 | I11: =I196-I205+I272-I281 -> 2863.6 | J11: =J196-J205+J272-J281 -> 3139.597 | K11: =K196-K205+K272-K281 -> 3839.215 | ... AL11: =AL196-AL205+AL272-AL281 -> 11560.103
C12: Kroneintensitet
B13: Kilo CO2e pr. kr. aktivitet | C13: =C8 -> Nybyggeri | D13: =D3*1000/D8 -> 0.094165861 | E13: =E3*1000/E8 -> 0.09534495 | F13: =F3*1000/F8 -> 0.095253073 | G13: =G3*1000/G8 -> 0.088044859 | H13: =H3*1000/H8 -> 0.08494212 | I13: =I3*1000/I8 -> 0.088946978 | J13: =J3*1000/J8 -> 0.085321754 | K13: =K3*1000/K8 -> 0.078727415 | ... AL13: =AL3*1000/AL8 -> 0.026700963 | AM13: Kroneintensitet beregnes på baggrund af ENS CO2 der baserer sig på endelig anvendelse alene i IO-tabellerne
C14: =C9 -> Anlægsvirksomhed | D14: =D4*1000/D9 -> 0.1050803 | E14: =E4*1000/E9 -> 0.11258454 | F14: =F4*1000/F9 -> 0.11042705 | G14: =G4*1000/G9 -> 0.10930097 | H14: =H4*1000/H9 -> 0.10294665 | I14: =I4*1000/I9 -> 0.10780294 | J14: =J4*1000/J9 -> 0.10581356 | K14: =K4*1000/K9 -> 0.09648185 | ... AL14: =AL4*1000/AL9 -> 0.039016755
C15: =C10 -> Prof. rep. og vedl. | D15: =D5*1000/D10 -> 0.07859829 | E15: =E5*1000/E10 -> 0.083360852 | F15: =F5*1000/F10 -> 0.077217171 | G15: =G5*1000/G10 -> 0.072473443 | H15: =H5*1000/H10 -> 0.07239172 | I15: =I5*1000/I10 -> 0.072190541 | J15: =J5*1000/J10 -> 0.071646617 | K15: =K5*1000/K10 -> 0.067073529 | ... AL15: =AL5*1000/AL10 -> 0.024260419
C16: =C11 -> Gør-det-selv rep. og vedl. | D16: =D6*1000/D11 -> 0.12721134 | E16: =E6*1000/E11 -> 0.13585229 | F16: =F6*1000/F11 -> 0.13152361 | G16: =G6*1000/G11 -> 0.13267758 | H16: =H6*1000/H11 -> 0.13011161 | I16: =I6*1000/I11 -> 0.12783804 | J16: =J6*1000/J11 -> 0.13206822 | K16: =K6*1000/K11 -> 0.11510348 | ... AL16: =AL6*1000/AL11 -> 0.048057186
C17: CO2e fra inputudledninger i andre brancher
A18: Inputudledninger | B18: Mio. ton. | C18: =C13 -> Nybyggeri | D18: =D13*(D131-SUM(D132:D135)+D207-SUM(D208:D211))/1000 -> 0 | E18: =E13*(E131-SUM(E132:E135)+E207-SUM(E208:E211))/1000 -> 0 | F18: =F13*(F131-SUM(F132:F135)+F207-SUM(F208:F211))/1000 -> 0 | G18: =G13*(G131-SUM(G132:G135)+G207-SUM(G208:G211))/1000 -> 0 | H18: =H13*(H131-SUM(H132:H135)+H207-SUM(H208:H211))/1000 -> 0.0010455526 | I18: =I13*(I131-SUM(I132:I135)+I207-SUM(I208:I211))/1000 -> 0.0026273158 | J18: =J13*(J131-SUM(J132:J135)+J207-SUM(J208:J211))/1000 -> 0 | K18: =K13*(K131-SUM(K132:K135)+K207-SUM(K208:K211))/1000 -> 0.00042339604 | ... AL18: =AL13*(AL131-SUM(AL132:AL135)+AL207-SUM(AL208:AL211))/1000 -> 8.8100057e-06 | AM18: Beregnet CO2 fra input til andre brancher på baggrund af IO-tabeller i kombination med ovenstående kroneintensitet (inputudledninger)
C19: =C14 -> Anlægsvirksomhed | D19: =D14*(D150-SUM(D151:D154)+D226-SUM(D227:D230))/1000 -> 0.87639438 | E19: =E14*(E150-SUM(E151:E154)+E226-SUM(E227:E230))/1000 -> 0.79207658 | F19: =F14*(F150-SUM(F151:F154)+F226-SUM(F227:F230))/1000 -> 0.7422215 | G19: =G14*(G150-SUM(G151:G154)+G226-SUM(G227:G230))/1000 -> 0.64202437 | H19: =H14*(H150-SUM(H151:H154)+H226-SUM(H227:H230))/1000 -> 0.69900748 | I19: =I14*(I150-SUM(I151:I154)+I226-SUM(I227:I230))/1000 -> 0.71040368 | J19: =J14*(J150-SUM(J151:J154)+J226-SUM(J227:J230))/1000 -> 0.74999861 | K19: =K14*(K150-SUM(K151:K154)+K226-SUM(K227:K230))/1000 -> 0.7154246 | ... AL19: =AL14*(AL150-SUM(AL151:AL154)+AL226-SUM(AL227:AL230))/1000 -> 0.57211031
C20: =C15 -> Prof. rep. og vedl. | D20: =D15*(D169-SUM(D170:D173)+D245-SUM(D246:D249))/1000 -> 0.74347412 | E20: =E15*(E169-SUM(E170:E173)+E245-SUM(E246:E249))/1000 -> 0.82777101 | F20: =F15*(F169-SUM(F170:F173)+F245-SUM(F246:F249))/1000 -> 0.84763937 | G20: =G15*(G169-SUM(G170:G173)+G245-SUM(G246:G249))/1000 -> 0.90025033 | H20: =H15*(H169-SUM(H170:H173)+H245-SUM(H246:H249))/1000 -> 0.97056636 | I20: =I15*(I169-SUM(I170:I173)+I245-SUM(I246:I249))/1000 -> 1.0009808 | J20: =J15*(J169-SUM(J170:J173)+J245-SUM(J246:J249))/1000 -> 1.0568796 | K20: =K15*(K169-SUM(K170:K173)+K245-SUM(K246:K249))/1000 -> 1.056011 | ... AL20: =AL15*(AL169-SUM(AL170:AL173)+AL245-SUM(AL246:AL249))/1000 -> 1.2759231
C21: =C16 -> Gør-det-selv rep. og vedl. | D21: =D16*(D188-SUM(D189:D192)+D264-SUM(D265:D268))/1000 -> 0.60804895 | E21: =E16*(E188-SUM(E189:E192)+E264-SUM(E265:E268))/1000 -> 0.71205254 | F21: =F16*(F188-SUM(F189:F192)+F264-SUM(F265:F268))/1000 -> 0.79524807 | G21: =G16*(G188-SUM(G189:G192)+G264-SUM(G265:G268))/1000 -> 0.9396754 | H21: =H16*(H188-SUM(H189:H192)+H264-SUM(H265:H268))/1000 -> 1.0226088 | I21: =I16*(I188-SUM(I189:I192)+I264-SUM(I265:I268))/1000 -> 1.1670823 | J21: =J16*(J188-SUM(J189:J192)+J264-SUM(J265:J268))/1000 -> 1.3150059 | K21: =K16*(K188-SUM(K189:K192)+K264-SUM(K265:K268))/1000 -> 1.2669015 | ... AL21: =AL16*(AL188-SUM(AL189:AL192)+AL264-SUM(AL265:AL268))/1000 -> 1.6980263
C22: CO2e i alt fra egen udledning og ind i andre brancher
A23: Samlede udledninger fra bygge- og anlægsbrancherne (input+slutudledninger) | C23: =C18 -> Nybyggeri | D23: =D3+D18 -> 3.013854 | E23: =E3+E18 -> 2.703794 | F23: =F3+F18 -> 2.539899 | G23: =G3+G18 -> 1.978144 | H23: =H3+H18 -> 1.9932436 | I23: =I3+I18 -> 2.4978663 | J23: =J3+J18 -> 2.914936 | K23: =K3+K18 -> 3.1846584 | ... AL23: =AL3+AL18 -> 3.0032968 | AM23: Samlet CO2-udledning fra egen anvendelse (slutudledninger) og input til andres produktion (inputudledninger)
C24: =C19 -> Anlægsvirksomhed | D24: =D4+D19 -> 3.4606014 | E24: =E4+E19 -> 3.4320676 | F24: =F4+F19 -> 3.4293415 | G24: =G4+G19 -> 3.5810414 | H24: =H4+H19 -> 3.3856325 | I24: =I4+I19 -> 3.6908877 | J24: =J4+J19 -> 4.0882846 | K24: =K4+K19 -> 3.7512596 | ... AL24: =AL4+AL19 -> 3.5559993
C25: =C20 -> Prof. rep. og vedl. | D25: =D5+D20 -> 2.1501411 | E25: =E5+E20 -> 2.323968 | F25: =F5+F20 -> 2.3468334 | G25: =G5+G20 -> 2.2802883 | H25: =H5+H20 -> 2.5044094 | I25: =I5+I20 -> 2.6500808 | J25: =J5+J20 -> 2.7520506 | K25: =K5+K20 -> 2.71914 | ... AL25: =AL5+AL20 -> 2.9118701
C26: =C21 -> Gør-det-selv rep. og vedl. | D26: =D6+D21 -> 0.90026395 | E26: =E6+E21 -> 1.0191875 | F26: =F6+F21 -> 1.1085071 | G26: =G6+G21 -> 1.2560074 | H26: =H6+H21 -> 1.3465318 | I26: =I6+I21 -> 1.5331593 | J26: =J6+J21 -> 1.7296469 | K26: =K6+K21 -> 1.7088085 | ... AL26: =AL6+AL21 -> 2.2535723
C27: I alt | D27: =SUM(D23:D26) -> 9.5248605 | E27: =SUM(E23:E26) -> 9.4790171 | F27: =SUM(F23:F26) -> 9.4245809 | G27: =SUM(G23:G26) -> 9.0954811 | H27: =SUM(H23:H26) -> 9.2298172 | I27: =SUM(I23:I26) -> 10.371994 | J27: =SUM(J23:J26) -> 11.484918 | K27: =SUM(K23:K26) -> 11.363867 | ... AL27: =SUM(AL23:AL26) -> 11.724739
A28: BEREGNINGER AF FORSKELLIGE FORDELINGER AF BYGGERI
A29: Slutudledninger | C29: Nybyggeri, boligbyggeri, slut | D29: =D13*(D145+D221)/1000 -> 1.2841822 | E29: =E13*(E145+E221)/1000 -> 1.0710866 | F29: =F13*(F145+F221)/1000 -> 1.0059118 | G29: =G13*(G145+G221)/1000 -> 0.80210874 | H29: =H13*(H145+H221)/1000 -> 0.85739659 | I29: =I13*(I145+I221)/1000 -> 1.0705099 | J29: =J13*(J145+J221)/1000 -> 1.2194846 | K29: =K13*(K145+K221)/1000 -> 1.3905164 | ... AL29: =AL13*(AL145+AL221)/1000 -> 0.99970417
C30: Nybyggeri, øvrigt byggeri, slut | D30: =D23-D29 -> 1.7296718 | E30: =E23-E29 -> 1.6327074 | F30: =F23-F29 -> 1.5339872 | G30: =G23-G29 -> 1.1760353 | H30: =H23-H29 -> 1.135847 | I30: =I23-I29 -> 1.4273564 | J30: =J23-J29 -> 1.6954514 | K30: =K23-K29 -> 1.794142 | ... AL30: =AL23-AL29 -> 2.0035926
C31: Anlægsvirksomhed, slut | D31: =D4 -> 2.584207 | E31: =E4 -> 2.639991 | F31: =F4 -> 2.68712 | G31: =G4 -> 2.939017 | H31: =H4 -> 2.686625 | I31: =I4 -> 2.980484 | J31: =J4 -> 3.338286 | K31: =K4 -> 3.035835 | ... AL31: =AL4 -> 2.983889
C32: Prof R&V, boligbyggeri, slut | D32: =D15*(D183+D259+D179+D255)/1000 -> 0.97366084 | E32: =E15*(E183+E259+E179+E255)/1000 -> 1.0324962 | F32: =F15*(F183+F259+F179+F255)/1000 -> 1.0045535 | G32: =G15*(G183+G259+G179+G255)/1000 -> 1.0162777 | H32: =H15*(H183+H259+H179+H255)/1000 -> 1.164739 | I32: =I15*(I183+I259+I179+I255)/1000 -> 1.1985017 | J32: =J15*(J183+J259+J179+J255)/1000 -> 1.1828447 | K32: =K15*(K183+K259+K179+K255)/1000 -> 1.0919566 | ... AL32: =AL15*(AL183+AL259+AL179+AL255)/1000 -> 1.3114822
C33: Prof R&V, øvrigt byggeri, slut | D33: =D15*(D177-D186-D183+D253-D262-D259-D179-D255)/1000 -> 0.43300616 | E33: =E15*(E177-E186-E183+E253-E262-E259-E179-E255)/1000 -> 0.46370082 | F33: =F15*(F177-F186-F183+F253-F262-F259-F179-F255)/1000 -> 0.49464053 | G33: =G15*(G177-G186-G183+G253-G262-G259-G179-G255)/1000 -> 0.3637603 | H33: =H15*(H177-H186-H183+H253-H262-H259-H179-H255)/1000 -> 0.36910395 | I33: =I15*(I177-I186-I183+I253-I262-I259-I179-I255)/1000 -> 0.45059834 | J33: =J15*(J177-J186-J183+J253-J262-J259-J179-J255)/1000 -> 0.51232633 | K33: =K15*(K177-K186-K183+K253-K262-K259-K179-K255)/1000 -> 0.57117242 | ... AL33: =AL15*(AL177-AL186-AL183+AL253-AL262-AL259-AL179-AL255)/1000 -> 0.32446479
C34: Gør-det-selv R&V, boligbyggeri, slut | D34: =D16*(D202+D278+D198+D274)/1000 -> 0.28675382 | E34: =E16*(E202+E278+E198+E274)/1000 -> 0.29891403 | F34: =F16*(F202+F278+F198+F274)/1000 -> 0.30385283 | G34: =G16*(G202+G278+G198+G274)/1000 -> 0.30522888 | H34: =H16*(H202+H278+H198+H274)/1000 -> 0.31206216 | I34: =I16*(I202+I278+I198+I274)/1000 -> 0.35394709 | J34: =J16*(J202+J278+J198+J274)/1000 -> 0.40174467 | K34: =K16*(K202+K278+K198+K274)/1000 -> 0.43057644 | ... AL34: =AL16*(AL202+AL278+AL198+AL274)/1000 -> 0.54899391
C35: Gør-det-selv R&V, øvrigt byggeri, slut | D35: =D16*(D196-D202-D205+D272-D278-D281-D198-D274)/1000 -> 0.0054611827 | E35: =E16*(E196-E202-E205+E272-E278-E281-E198-E274)/1000 -> 0.0082209657 | F35: =F16*(F196-F202-F205+F272-F278-F281-F198-F274)/1000 -> 0.0094061744 | G35: =G16*(G196-G202-G205+G272-G278-G281-G198-G274)/1000 -> 0.011103123 | H35: =H16*(H196-H202-H205+H272-H278-H281-H198-H274)/1000 -> 0.011860844 | I35: =I16*(I196-I202-I205+I272-I278-I281-I198-I274)/1000 -> 0.012129912 | J35: =J16*(J196-J202-J205+J272-J278-J281-J198-J274)/1000 -> 0.01289633 | K35: =K16*(K196-K202-K205+K272-K278-K281-K198-K274)/1000 -> 0.011330556 | ... AL35: =AL16*(AL196-AL202-AL205+AL272-AL278-AL281-AL198-AL274)/1000 -> 0.0065520909
A36: Inputudledninger | C36: Prof R&V, boligbyggeri, input | D36: =D15*(D175+D176+D251+D252)/1000 -> 0.44851093 | E36: =E15*(E175+E176+E251+E252)/1000 -> 0.48186565 | F36: =F15*(F175+F176+F251+F252)/1000 -> 0.46799242 | G36: =G15*(G175+G176+G251+G252)/1000 -> 0.47994204 | H36: =H15*(H175+H176+H251+H252)/1000 -> 0.51113332 | I36: =I15*(I175+I176+I251+I252)/1000 -> 0.44376984 | J36: =J15*(J175+J176+J251+J252)/1000 -> 0.48962639 | K36: =K15*(K175+K176+K251+K252)/1000 -> 0.54649479 | ... AL36: =AL15*(AL175+AL176+AL251+AL252)/1000 -> 0.35794536
C37: Prof R&V, øvrigt byggeri, input | D37: =D15*(D169-D175-D176+D245-D251-D252-SUM(D170:D173)-SUM(D246:D249))/1000 -> 0.29496319 | E37: =E15*(E169-E175-E176+E245-E251-E252-SUM(E170:E173)-SUM(E246:E249))/1000 -> 0.34590536 | F37: =F15*(F169-F175-F176+F245-F251-F252-SUM(F170:F173)-SUM(F246:F249))/1000 -> 0.37964695 | G37: =G15*(G169-G175-G176+G245-G251-G252-SUM(G170:G173)-SUM(G246:G249))/1000 -> 0.42030828 | H37: =H15*(H169-H175-H176+H245-H251-H252-SUM(H170:H173)-SUM(H246:H249))/1000 -> 0.45943304 | I37: =I15*(I169-I175-I176+I245-I251-I252-SUM(I170:I173)-SUM(I246:I249))/1000 -> 0.55721099 | J37: =J15*(J169-J175-J176+J245-J251-J252-SUM(J170:J173)-SUM(J246:J249))/1000 -> 0.56725321 | K37: =K15*(K169-K175-K176+K245-K251-K252-SUM(K170:K173)-SUM(K246:K249))/1000 -> 0.50951622 | ... AL37: =AL15*(AL169-AL175-AL176+AL245-AL251-AL252-SUM(AL170:AL173)-SUM(AL246:AL249))/1000 -> 0.91797777
C38: Gør-det-selv R&V, boligbyggeri, input | D38: =D16*(D194+D195+D270+D271)/1000 -> 0.34371257 | E38: =E16*(E194+E195+E270+E271)/1000 -> 0.39253895 | F38: =F16*(F194+F195+F270+F271)/1000 -> 0.41701154 | G38: =G16*(G194+G195+G270+G271)/1000 -> 0.47879609 | H38: =H16*(H194+H195+H270+H271)/1000 -> 0.51728329 | I38: =I16*(I194+I195+I270+I271)/1000 -> 0.48812269 | J38: =J16*(J194+J195+J270+J271)/1000 -> 0.58023606 | K38: =K16*(K194+K195+K270+K271)/1000 -> 0.63618038 | ... AL38: =AL16*(AL194+AL195+AL270+AL271)/1000 -> 0.46707859
C39: Gør-det-selv R&V, øvrigt byggeri, input | D39: =D16*(D188-D194-D195+D264-D270-D271-SUM(D189:D192)-SUM(D265:D268))/1000 -> 0.26433638 | E39: =E16*(E188-E194-E195+E264-E270-E271-SUM(E189:E192)-SUM(E265:E268))/1000 -> 0.31951359 | F39: =F16*(F188-F194-F195+F264-F270-F271-SUM(F189:F192)-SUM(F265:F268))/1000 -> 0.37823653 | G39: =G16*(G188-G194-G195+G264-G270-G271-SUM(G189:G192)-SUM(G265:G268))/1000 -> 0.46087931 | H39: =H16*(H188-H194-H195+H264-H270-H271-SUM(H189:H192)-SUM(H265:H268))/1000 -> 0.50532552 | I39: =I16*(I188-I194-I195+I264-I270-I271-SUM(I189:I192)-SUM(I265:I268))/1000 -> 0.67895957 | J39: =J16*(J188-J194-J195+J264-J270-J271-SUM(J189:J192)-SUM(J265:J268))/1000 -> 0.73476988 | K39: =K16*(K188-K194-K195+K264-K270-K271-SUM(K189:K192)-SUM(K265:K268))/1000 -> 0.63072113 | ... AL39: =AL16*(AL188-AL194-AL195+AL264-AL270-AL271-SUM(AL189:AL192)-SUM(AL265:AL268))/1000 -> 1.2309477
C40: Anlægsvirksomhed, input | D40: =D19 -> 0.87639438 | E40: =E19 -> 0.79207658 | F40: =F19 -> 0.7422215 | G40: =G19 -> 0.64202437 | H40: =H19 -> 0.69900748 | I40: =I19 -> 0.71040368 | J40: =J19 -> 0.74999861 | K40: =K19 -> 0.7154246 | ... AL40: =AL19 -> 0.57211031
A41: Input- og slutudledninger slået sammen | C41: R&V, gør-det-selv, boligbyggeri | D41: =D16*(D194+D195+D270+D271+D202+D278+D198+D274)/1000 -> 0.63046638 | E41: =E16*(E194+E195+E270+E271+E202+E278+E198+E274)/1000 -> 0.69145299 | F41: =F16*(F194+F195+F270+F271+F202+F278+F198+F274)/1000 -> 0.72086436 | G41: =G16*(G194+G195+G270+G271+G202+G278+G198+G274)/1000 -> 0.78402497 | H41: =H16*(H194+H195+H270+H271+H202+H278+H198+H274)/1000 -> 0.82934545 | I41: =I16*(I194+I195+I270+I271+I202+I278+I198+I274)/1000 -> 0.84206978 | J41: =J16*(J194+J195+J270+J271+J202+J278+J198+J274)/1000 -> 0.98198073 | K41: =K16*(K194+K195+K270+K271+K202+K278+K198+K274)/1000 -> 1.0667568 | ... AL41: =AL16*(AL194+AL195+AL270+AL271+AL202+AL278+AL198+AL274)/1000 -> 1.0160725
C42: R&V, prof, boligbyggeri | D42: =D15*(D175+D176+D183+D179+D251+D252+D255+D259)/1000 -> 1.4221718 | E42: =E15*(E175+E176+E183+E179+E251+E252+E255+E259)/1000 -> 1.5143618 | F42: =F15*(F175+F176+F183+F179+F251+F252+F255+F259)/1000 -> 1.4725459 | G42: =G15*(G175+G176+G183+G179+G251+G252+G255+G259)/1000 -> 1.4962197 | H42: =H15*(H175+H176+H183+H179+H251+H252+H255+H259)/1000 -> 1.6758724 | I42: =I15*(I175+I176+I183+I179+I251+I252+I255+I259)/1000 -> 1.6422715 | J42: =J15*(J175+J176+J183+J179+J251+J252+J255+J259)/1000 -> 1.6724711 | K42: =K15*(K175+K176+K183+K179+K251+K252+K255+K259)/1000 -> 1.6384514 | ... AL42: =AL15*(AL175+AL176+AL183+AL179+AL251+AL252+AL255+AL259)/1000 -> 1.6694276
C43: Nybyggeri, boligbyggeri | D43: =D13*(D145+D221)/1000 -> 1.2841822 | E43: =E13*(E145+E221)/1000 -> 1.0710866 | F43: =F13*(F145+F221)/1000 -> 1.0059118 | G43: =G13*(G145+G221)/1000 -> 0.80210874 | H43: =H13*(H145+H221)/1000 -> 0.85739659 | I43: =I13*(I145+I221)/1000 -> 1.0705099 | J43: =J13*(J145+J221)/1000 -> 1.2194846 | K43: =K13*(K145+K221)/1000 -> 1.3905164 | ... AL43: =AL13*(AL145+AL221)/1000 -> 0.99970417
C44: Nybyggeri, øvrigt byggeri | D44: =D23-D43 -> 1.7296718 | E44: =E23-E43 -> 1.6327074 | F44: =F23-F43 -> 1.5339872 | G44: =G23-G43 -> 1.1760353 | H44: =H23-H43 -> 1.135847 | I44: =I23-I43 -> 1.4273564 | J44: =J23-J43 -> 1.6954514 | K44: =K23-K43 -> 1.794142 | ... AL44: =AL23-AL43 -> 2.0035926
C45: R&V, gør-det-selv, øvrigt byggeri | D45: =D26-D41 -> 0.26979756 | E45: =E26-E41 -> 0.32773455 | F45: =F26-F41 -> 0.38764271 | G45: =G26-G41 -> 0.47198243 | H45: =H26-H41 -> 0.51718636 | I45: =I26-I41 -> 0.69108948 | J45: =J26-J41 -> 0.74766621 | K45: =K26-K41 -> 0.64205169 | ... AL45: =AL26-AL41 -> 1.2374998
C46: R&V, prof, øvrigt byggeri | D46: =D25-D42 -> 0.72796935 | E46: =E25-E42 -> 0.80960618 | F46: =F25-F42 -> 0.87428748 | G46: =G25-G42 -> 0.78406858 | H46: =H25-H42 -> 0.82853699 | I46: =I25-I42 -> 1.0078093 | J46: =J25-J42 -> 1.0795795 | K46: =K25-K42 -> 1.0806886 | ... AL46: =AL25-AL42 -> 1.2424426
C47: Anlægsvirksomhed | D47: =D24 -> 3.4606014 | E47: =E24 -> 3.4320676 | F47: =F24 -> 3.4293415 | G47: =G24 -> 3.5810414 | H47: =H24 -> 3.3856325 | I47: =I24 -> 3.6908877 | J47: =J24 -> 4.0882846 | K47: =K24 -> 3.7512596 | ... AL47: =AL24 -> 3.5559993
A48: Bolig vs. bygninger | C48: Boligbyggeri i alt | D48: =D41+D42+D43 -> 3.3368204 | E48: =E41+E42+E43 -> 3.2769014 | F48: =F41+F42+F43 -> 3.199322 | G48: =G41+G42+G43 -> 3.0823535 | H48: =H41+H42+H43 -> 3.3626144 | I48: =I41+I42+I43 -> 3.5548512 | J48: =J41+J42+J43 -> 3.8739363 | K48: =K41+K42+K43 -> 4.0957246 | ... AL48: =AL41+AL42+AL43 -> 3.6852042
C49: Øvrigt byggeri i alt | D49: =D44+D45+D46 -> 2.7274387 | E49: =E44+E45+E46 -> 2.7700482 | F49: =F44+F45+F46 -> 2.7959174 | G49: =G44+G45+G46 -> 2.4320863 | H49: =H44+H45+H46 -> 2.4815703 | I49: =I44+I45+I46 -> 3.1262553 | J49: =J44+J45+J46 -> 3.5226972 | K49: =K44+K45+K46 -> 3.5168823 | ... AL49: =AL44+AL45+AL46 -> 4.483535
C50: Anlægsvirksomhed | D50: =D24 -> 3.4606014 | E50: =E24 -> 3.4320676 | F50: =F24 -> 3.4293415 | G50: =G24 -> 3.5810414 | H50: =H24 -> 3.3856325 | I50: =I24 -> 3.6908877 | J50: =J24 -> 4.0882846 | K50: =K24 -> 3.7512596 | ... AL50: =AL24 -> 3.5559993
A51: R&V vs. boligbyggeri | C51: R&V-boligbyggeri | D51: =D41+D42 -> 2.0526382 | E51: =E41+E42 -> 2.2058148 | F51: =F41+F42 -> 2.1934103 | G51: =G41+G42 -> 2.2802447 | H51: =H41+H42 -> 2.5052178 | I51: =I41+I42 -> 2.4843413 | J51: =J41+J42 -> 2.6544518 | K51: =K41+K42 -> 2.7052082 | ... AL51: =AL41+AL42 -> 2.6855001
C52: R&V-øvrigt byggeri | D52: =D45+D46 -> 0.99776691 | E52: =E45+E46 -> 1.1373407 | F52: =F45+F46 -> 1.2619302 | G52: =G45+G46 -> 1.256051 | H52: =H45+H46 -> 1.3457233 | I52: =I45+I46 -> 1.6988988 | J52: =J45+J46 -> 1.8272458 | K52: =K45+K46 -> 1.7227403 | ... AL52: =AL45+AL46 -> 2.4799423
C53: Nybyggeri boligbyggeri | D53: =D43 -> 1.2841822 | E53: =E43 -> 1.0710866 | F53: =F43 -> 1.0059118 | G53: =G43 -> 0.80210874 | H53: =H43 -> 0.85739659 | I53: =I43 -> 1.0705099 | J53: =J43 -> 1.2194846 | K53: =K43 -> 1.3905164 | ... AL53: =AL43 -> 0.99970417
C54: Nybyggeri øvrigt byggeri | D54: =D44 -> 1.7296718 | E54: =E44 -> 1.6327074 | F54: =F44 -> 1.5339872 | G54: =G44 -> 1.1760353 | H54: =H44 -> 1.135847 | I54: =I44 -> 1.4273564 | J54: =J44 -> 1.6954514 | K54: =K44 -> 1.794142 | ... AL54: =AL44 -> 2.0035926
C55: Anlægsvirksomhed | D55: =D47 -> 3.4606014 | E55: =E47 -> 3.4320676 | F55: =F47 -> 3.4293415 | G55: =G47 -> 3.5810414 | H55: =H47 -> 3.3856325 | I55: =I47 -> 3.6908877 | J55: =J47 -> 4.0882846 | K55: =K47 -> 3.7512596 | ... AL55: =AL47 -> 3.5559993
A56: MELLEMREGNINGER FORUD FOR ALTERNATIV FORDELING AF CO2-UDLEDNINGER PÅ HUSHOLDNINGER, OFFENTLIGT FORBRUG OG INVESTERINGER FRATRUKKET BYGGE- OG ANLÆGSSEKTORENS UDLEDNINGER
A57: Særberegning for at kunne opgøre samlet Forbrugsbaseret klimaaftryk på forbrugsgrupper | C57: Husholdningers forbrug fra byggeri aktivitet
C58: =C23 -> Nybyggeri | D58: =D13*(D140+D216)/1000 -> 0.0044671343 | E58: =E13*(E140+E216)/1000 -> 0.004971095 | F58: =F13*(F140+F216)/1000 -> 0.0051605257 | G58: =G13*(G140+G216)/1000 -> 0.0046841626 | H58: =H13*(H140+H216)/1000 -> 0.0044464652 | I58: =I13*(I140+I216)/1000 -> 0.0057538911 | J58: =J13*(J140+J216)/1000 -> 0.006066718 | K58: =K13*(K140+K216)/1000 -> 0.0055105254 | ... AL58: =AL13*(AL140+AL216)/1000 -> 0.014454047
C59: =C24 -> Anlægsvirksomhed | D59: =D14*(D159+D235)/1000 -> 0.0027930343 | E59: =E14*(E159+E235)/1000 -> 0.0032715941 | F59: =F14*(F159+F235)/1000 -> 0.0035104759 | G59: =G14*(G159+G235)/1000 -> 0.002887513 | H59: =H14*(H159+H235)/1000 -> 0.0027032762 | I59: =I14*(I159+I235)/1000 -> 0.0026241391 | J59: =J14*(J159+J235)/1000 -> 0.0035950158 | K59: =K14*(K159+K235)/1000 -> 0.0039087692 | ... AL59: =AL14*(AL159+AL235)/1000 -> 0.0069850859
C60: =C25 -> Prof. rep. og vedl. | D60: =D15*(D178+D254)/1000 -> 0.15858698 | E60: =E15*(E178+E254)/1000 -> 0.16219046 | F60: =F15*(F178+F254)/1000 -> 0.15128913 | G60: =G15*(G178+G254)/1000 -> 0.14122994 | H60: =H15*(H178+H254)/1000 -> 0.13995426 | I60: =I15*(I178+I254)/1000 -> 0.11999887 | J60: =J15*(J178+J254)/1000 -> 0.12477215 | K60: =K15*(K178+K254)/1000 -> 0.12672463 | ... AL60: =AL15*(AL178+AL254)/1000 -> 0.074616597
C61: =C26 -> Gør-det-selv rep. og vedl. | D61: =D16*(D197+D273)/1000 -> 0.093208128 | E61: =E16*(E197+E273)/1000 -> 0.089087858 | F61: =F16*(F197+F273)/1000 -> 0.080579258 | G61: =G16*(G197+G273)/1000 -> 0.071443823 | H61: =H16*(H197+H273)/1000 -> 0.061167159 | I61: =I16*(I197+I273)/1000 -> 0.050969408 | J61: =J16*(J197+J273)/1000 -> 0.050546603 | K61: =K16*(K197+K273)/1000 -> 0.045968185 | ... AL61: =AL16*(AL197+AL273)/1000 -> 0.050184744
C62: I alt | D62: =SUM(D58:D61) -> 0.25905528 | E62: =SUM(E58:E61) -> 0.25952101 | F62: =SUM(F58:F61) -> 0.24053939 | G62: =SUM(G58:G61) -> 0.22024544 | H62: =SUM(H58:H61) -> 0.20827116 | I62: =SUM(I58:I61) -> 0.17934631 | J62: =SUM(J58:J61) -> 0.18498049 | K62: =SUM(K58:K61) -> 0.18211211 | ... AL62: =SUM(AL58:AL61) -> 0.14624048
C63: Offentligt forbrug fra byggeri aktivitet
B64: Mio. ton Co2e | C64: =C58 -> Nybyggeri | D64: =D13*(D143+D219)/1000 -> 0 | E64: =E13*(E143+E219)/1000 -> 0 | F64: =F13*(F143+F219)/1000 -> 0 | G64: =G13*(G143+G219)/1000 -> 0 | H64: =H13*(H143+H219)/1000 -> 0 | I64: =I13*(I143+I219)/1000 -> 0 | J64: =J13*(J143+J219)/1000 -> 0 | K64: =K13*(K143+K219)/1000 -> 0 | ... AL64: =AL13*(AL143+AL219)/1000 -> 0
C65: =C59 -> Anlægsvirksomhed | D65: =D14*(D162+D238)/1000 -> 0.24442318 | E65: =E14*(E162+E238)/1000 -> 0.43074202 | F65: =F14*(F162+F238)/1000 -> 0.46526858 | G65: =G14*(G162+G238)/1000 -> 0.51436795 | H65: =H14*(H162+H238)/1000 -> 0.46570771 | I65: =I14*(I162+I238)/1000 -> 0.57082109 | J65: =J14*(J162+J238)/1000 -> 0.59743523 | K65: =K14*(K162+K238)/1000 -> 0.52323516 | ... AL65: =AL14*(AL162+AL238)/1000 -> 0.21799689
C66: =C60 -> Prof. rep. og vedl. | D66: =D15*(D181+D257)/1000 -> 0.0060262095 | E66: =E15*(E181+E257)/1000 -> 0.0086786149 | F66: =F15*(F181+F257)/1000 -> 0.0092487639 | G66: =G15*(G181+G257)/1000 -> 0.009947125 | H66: =H15*(H181+H257)/1000 -> 0.01067662 | I66: =I15*(I181+I257)/1000 -> 0.009875666 | J66: =J15*(J181+J257)/1000 -> 0.0098430989 | K66: =K15*(K181+K257)/1000 -> 0.0090911461 | ... AL66: =AL15*(AL181+AL257)/1000 -> 0.004886214
C67: =C61 -> Gør-det-selv rep. og vedl. | D67: =D16*(D200+D276)/1000 -> 0.0054611827 | E67: =E16*(E200+E276)/1000 -> 0.0082209657 | F67: =F16*(F200+F276)/1000 -> 0.0094061744 | G67: =G16*(G200+G276)/1000 -> 0.011103123 | H67: =H16*(H200+H276)/1000 -> 0.011860844 | I67: =I16*(I200+I276)/1000 -> 0.012129912 | J67: =J16*(J200+J276)/1000 -> 0.01289633 | K67: =K16*(K200+K276)/1000 -> 0.011330671 | ... AL67: =AL16*(AL200+AL276)/1000 -> 0.0065520909
C68: I alt | D68: =SUM(D64:D67) -> 0.25591058 | E68: =SUM(E64:E67) -> 0.44764161 | F68: =SUM(F64:F67) -> 0.48392352 | G68: =SUM(G64:G67) -> 0.5354182 | H68: =SUM(H64:H67) -> 0.48824517 | I68: =SUM(I64:I67) -> 0.59282666 | J68: =SUM(J64:J67) -> 0.62017466 | K68: =SUM(K64:K67) -> 0.54365698 | ... AL68: =SUM(AL64:AL67) -> 0.22943519
C69: Investeringers forbrug fra byggeri aktivitet
C70: =C64 -> Nybyggeri | D70: =D13*(D144+D220)/1000 -> 3.0093869 | E70: =E13*(E144+E220)/1000 -> 2.6988229 | F70: =F13*(F144+F220)/1000 -> 2.5347385 | G70: =G13*(G144+G220)/1000 -> 1.9734598 | H70: =H13*(H144+H220)/1000 -> 1.9877515 | I70: =I13*(I144+I220)/1000 -> 2.4894851 | J70: =J13*(J144+J220)/1000 -> 2.9088693 | K70: =K13*(K144+K220)/1000 -> 3.1787244 | ... AL70: =AL13*(AL144+AL220)/1000 -> 2.988834
C71: =C65 -> Anlægsvirksomhed | D71: =D14*(D163+D239)/1000 -> 2.3369908 | E71: =E14*(E163+E239)/1000 -> 2.2059774 | F71: =F14*(F163+F239)/1000 -> 2.2183409 | G71: =G14*(G163+G239)/1000 -> 2.4217615 | H71: =H14*(H163+H239)/1000 -> 2.218214 | I71: =I14*(I163+I239)/1000 -> 2.4070388 | J71: =J14*(J163+J239)/1000 -> 2.7372557 | K71: =K14*(K163+K239)/1000 -> 2.5086911 | ... AL71: =AL14*(AL163+AL239)/1000 -> 2.758907
C72: =C66 -> Prof. rep. og vedl. | D72: =D15*(D182+D258)/1000 -> 1.2420537 | E72: =E15*(E182+E258)/1000 -> 1.3253279 | F72: =F15*(F182+F258)/1000 -> 1.3386561 | G72: =G15*(G182+G258)/1000 -> 1.2288609 | H72: =H15*(H182+H258)/1000 -> 1.3832121 | I72: =I15*(I182+I258)/1000 -> 1.5192255 | J72: =J15*(J182+J258)/1000 -> 1.5605557 | K72: =K15*(K182+K258)/1000 -> 1.5273132 | ... AL72: =AL15*(AL182+AL258)/1000 -> 1.5564442
C73: =C67 -> Gør-det-selv rep. og vedl. | D73: =D16*(D201+D277)/1000 -> 0.19354569 | E73: =E16*(E201+E277)/1000 -> 0.20982618 | F73: =F16*(F201+F277)/1000 -> 0.22327357 | G73: =G16*(G201+G277)/1000 -> 0.23378505 | H73: =H16*(H201+H277)/1000 -> 0.250895 | I73: =I16*(I201+I277)/1000 -> 0.30297768 | J73: =J16*(J201+J277)/1000 -> 0.35119807 | K73: =K16*(K201+K277)/1000 -> 0.38460826 | ... AL73: =AL16*(AL201+AL277)/1000 -> 0.49880916
C74: I alt | D74: =SUM(D70:D73) -> 6.7819771 | E74: =SUM(E70:E73) -> 6.4399544 | F74: =SUM(F70:F73) -> 6.3150091 | G74: =SUM(G70:G73) -> 5.8578674 | H74: =SUM(H70:H73) -> 5.8400727 | I74: =SUM(I70:I73) -> 6.718727 | J74: =SUM(J70:J73) -> 7.5578788 | K74: =SUM(K70:K73) -> 7.5993369 | ... AL74: =SUM(AL70:AL73) -> 7.8029943
A75: Særberegning for at kunne opgøre Husholdningers forbrugsbaserede klimaaftryk på underkategorier | C75: Husholdningers forbrug fra byggeri aktivitet - rep. og vedligeholde (ENS service)
C76: =C70 -> Nybyggeri | D76: =D13*(D141+D217)/1000 -> 0 | E76: =E13*(E141+E217)/1000 -> 0 | F76: =F13*(F141+F217)/1000 -> 0 | G76: =G13*(G141+G217)/1000 -> 0 | H76: =H13*(H141+H217)/1000 -> 0 | I76: =I13*(I141+I217)/1000 -> 0 | J76: =J13*(J141+J217)/1000 -> 0 | K76: =K13*(K141+K217)/1000 -> 0 | ... AL76: =AL13*(AL141+AL217)/1000 -> 0
C77: =C71 -> Anlægsvirksomhed | D77: =D14*(D160+D236)/1000 -> 0 | E77: =E14*(E160+E236)/1000 -> 0 | F77: =F14*(F160+F236)/1000 -> 0 | G77: =G14*(G160+G236)/1000 -> 0 | H77: =H14*(H160+H236)/1000 -> 0 | I77: =I14*(I160+I236)/1000 -> 0 | J77: =J14*(J160+J236)/1000 -> 0 | K77: =K14*(K160+K236)/1000 -> 0 | ... AL77: =AL14*(AL160+AL236)/1000 -> 0
C78: =C72 -> Prof. rep. og vedl. | D78: =D15*(D179+D255)/1000 -> 0.15497767 | E78: =E15*(E179+E255)/1000 -> 0.1578096 | F78: =F15*(F179+F255)/1000 -> 0.1468554 | G78: =G15*(G179+G255)/1000 -> 0.13639502 | H78: =H15*(H179+H255)/1000 -> 0.13509258 | I78: =I15*(I179+I255)/1000 -> 0.11467099 | J78: =J15*(J179+J255)/1000 -> 0.11892457 | K78: =K15*(K179+K255)/1000 -> 0.12208932 | ... AL78: =AL15*(AL179+AL255)/1000 -> 0.069456901
C79: =C73 -> Gør-det-selv rep. og vedl. | D79: =D16*(D198+D274)/1000 -> 0.093208128 | E79: =E16*(E198+E274)/1000 -> 0.089087858 | F79: =F16*(F198+F274)/1000 -> 0.080579258 | G79: =G16*(G198+G274)/1000 -> 0.071443823 | H79: =H16*(H198+H274)/1000 -> 0.061167159 | I79: =I16*(I198+I274)/1000 -> 0.050969408 | J79: =J16*(J198+J274)/1000 -> 0.050546603 | K79: =K16*(K198+K274)/1000 -> 0.045968185 | ... AL79: =AL16*(AL198+AL274)/1000 -> 0.050184744
C80: I alt | D80: =SUM(D76:D79) -> 0.2481858 | E80: =SUM(E76:E79) -> 0.24689745 | F80: =SUM(F76:F79) -> 0.22743466 | G80: =SUM(G76:G79) -> 0.20783884 | H80: =SUM(H76:H79) -> 0.19625974 | I80: =SUM(I76:I79) -> 0.1656404 | J80: =SUM(J76:J79) -> 0.16947118 | K80: =SUM(K76:K79) -> 0.1680575 | ... AL80: =SUM(AL76:AL79) -> 0.11964165
C81: Husholdningers forbrug fra byggeri aktivitet - biludlejning og køretimer (ENS Transport)
B82: Mio. ton Co2e | C82: =C76 -> Nybyggeri | D82: =D13*(D142+D218)/1000 -> 0.0044671343 | E82: =E13*(E142+E218)/1000 -> 0.004971095 | F82: =F13*(F142+F218)/1000 -> 0.0051605257 | G82: =G13*(G142+G218)/1000 -> 0.0046841626 | H82: =H13*(H142+H218)/1000 -> 0.0044464652 | I82: =I13*(I142+I218)/1000 -> 0.0057538911 | J82: =J13*(J142+J218)/1000 -> 0.006066718 | K82: =K13*(K142+K218)/1000 -> 0.0055105254 | ... AL82: =AL13*(AL142+AL218)/1000 -> 0.014454047
C83: =C77 -> Anlægsvirksomhed | D83: =D14*(D161+D237)/1000 -> 0.0027930343 | E83: =E14*(E161+E237)/1000 -> 0.0032715941 | F83: =F14*(F161+F237)/1000 -> 0.0035104759 | G83: =G14*(G161+G237)/1000 -> 0.002887513 | H83: =H14*(H161+H237)/1000 -> 0.0027032762 | I83: =I14*(I161+I237)/1000 -> 0.0026241391 | J83: =J14*(J161+J237)/1000 -> 0.0035950158 | K83: =K14*(K161+K237)/1000 -> 0.0039087692 | ... AL83: =AL14*(AL161+AL237)/1000 -> 0.0069850859
C84: =C78 -> Prof. rep. og vedl. | D84: =D15*(D180+D256)/1000 -> 0.0036093907 | E84: =E15*(E180+E256)/1000 -> 0.0043808629 | F84: =F15*(F180+F256)/1000 -> 0.0044336555 | G84: =G15*(G180+G256)/1000 -> 0.0048349208 | H84: =H15*(H180+H256)/1000 -> 0.0048616831 | I84: =I15*(I180+I256)/1000 -> 0.0053278785 | J84: =J15*(J180+J256)/1000 -> 0.005847582 | K84: =K15*(K180+K256)/1000 -> 0.0046353174 | ... AL84: =AL15*(AL180+AL256)/1000 -> 0.0051596967
C85: =C79 -> Gør-det-selv rep. og vedl. | D85: =D16*(D199+D275)/1000 -> 0 | E85: =E16*(E199+E275)/1000 -> 0 | F85: =F16*(F199+F275)/1000 -> 0 | G85: =G16*(G199+G275)/1000 -> 0 | H85: =H16*(H199+H275)/1000 -> 0 | I85: =I16*(I199+I275)/1000 -> 0 | J85: =J16*(J199+J275)/1000 -> 0 | K85: =K16*(K199+K275)/1000 -> 0 | ... AL85: =AL16*(AL199+AL275)/1000 -> 0
C86: =C80 -> I alt | D86: =SUM(D82:D85) -> 0.010869559 | E86: =SUM(E82:E85) -> 0.012623552 | F86: =SUM(F82:F85) -> 0.013104657 | G86: =SUM(G82:G85) -> 0.012406596 | H86: =SUM(H82:H85) -> 0.012011424 | I86: =SUM(I82:I85) -> 0.013705909 | J86: =SUM(J82:J85) -> 0.015509316 | K86: =SUM(K82:K85) -> 0.014054612 | ... AL86: =SUM(AL82:AL85) -> 0.02659883
C87: I alt | D87: =D86+D80 -> 0.25905536 | E87: =E86+E80 -> 0.25952101 | F87: =F86+F80 -> 0.24053931 | G87: =G86+G80 -> 0.22024544 | H87: =H86+H80 -> 0.20827116 | I87: =I86+I80 -> 0.17934631 | J87: =J86+J80 -> 0.18498049 | K87: =K86+K80 -> 0.18211211 | ... AL87: =AL86+AL80 -> 0.14624048
A89: ALTERNATIV OPGØRELSE AF DANMARKS FORBRUGSBASEREDE KLIMAAFTRYK MED BYGGE- OG ANLÆGSBRANCHERNE TRUKKET UD
A90: Samlet opgørelse fordel på 5 kategorier - de originale 3 forbrugsgrupper og byggeri trukket ud | C90: Udledninger på forbrugsgruppe jf. ENS
C91: ='Ny ENS 26 forbrugsgr.'!Q2135 -> Husholdninger | D91: ='Ny ENS 26 forbrugsgr.'!R2135 -> 54.496349 | E91: ='Ny ENS 26 forbrugsgr.'!S2135 -> 60.015183 | F91: ='Ny ENS 26 forbrugsgr.'!T2135 -> 57.489897 | G91: ='Ny ENS 26 forbrugsgr.'!U2135 -> 58.471118 | H91: ='Ny ENS 26 forbrugsgr.'!V2135 -> 60.640557 | I91: ='Ny ENS 26 forbrugsgr.'!W2135 -> 59.20472 | J91: ='Ny ENS 26 forbrugsgr.'!X2135 -> 63.02549 | ... AL91: ='Ny ENS 26 forbrugsgr.'!AZ2135 -> 34.76238 | AM91: INDHENTES FRA ENS ARK
C92: ='Ny ENS 26 forbrugsgr.'!Q2136 -> Investeringer | D92: ='Ny ENS 26 forbrugsgr.'!R2136 -> 14.889457 | E92: ='Ny ENS 26 forbrugsgr.'!S2136 -> 14.593991 | F92: ='Ny ENS 26 forbrugsgr.'!T2136 -> 13.828684 | G92: ='Ny ENS 26 forbrugsgr.'!U2136 -> 12.014336 | H92: ='Ny ENS 26 forbrugsgr.'!V2136 -> 14.166941 | I92: ='Ny ENS 26 forbrugsgr.'!W2136 -> 18.379444 | J92: ='Ny ENS 26 forbrugsgr.'!X2136 -> 17.728668 | ... AL92: ='Ny ENS 26 forbrugsgr.'!AZ2136 -> 16.353825
C93: ='Ny ENS 26 forbrugsgr.'!Q2137 -> Offentligt forbrug | D93: ='Ny ENS 26 forbrugsgr.'!R2137 -> 7.578317 | E93: ='Ny ENS 26 forbrugsgr.'!S2137 -> 9.092875 | F93: ='Ny ENS 26 forbrugsgr.'!T2137 -> 8.257307 | G93: ='Ny ENS 26 forbrugsgr.'!U2137 -> 8.804937 | H93: ='Ny ENS 26 forbrugsgr.'!V2137 -> 9.062917 | I93: ='Ny ENS 26 forbrugsgr.'!W2137 -> 9.272627 | J93: ='Ny ENS 26 forbrugsgr.'!X2137 -> 10.199047 | ... AL93: ='Ny ENS 26 forbrugsgr.'!AZ2137 -> 6.879462
C94: ='Ny ENS 26 forbrugsgr.'!Q2138 -> I alt | D94: ='Ny ENS 26 forbrugsgr.'!R2138 -> 76.964123 | E94: ='Ny ENS 26 forbrugsgr.'!S2138 -> 83.702049 | F94: ='Ny ENS 26 forbrugsgr.'!T2138 -> 79.575888 | G94: ='Ny ENS 26 forbrugsgr.'!U2138 -> 79.290391 | H94: ='Ny ENS 26 forbrugsgr.'!V2138 -> 83.870415 | I94: ='Ny ENS 26 forbrugsgr.'!W2138 -> 86.856791 | J94: ='Ny ENS 26 forbrugsgr.'!X2138 -> 90.953205 | ... AL94: ='Ny ENS 26 forbrugsgr.'!AZ2138 -> 57.995667
C96: Fordelingsnøgle til indirekte byggeri udledninger på bagrund af direkte
C97: =C103 -> Husholdninger ex. Byggeri | D97: =D62/(D$62+D$68+D$74) -> 0.035501892 | E97: =E62/(E$62+E$68+E$74) -> 0.036311285 | F97: =F62/(F$62+F$68+F$74) -> 0.03417009 | G97: =G62/(G$62+G$68+G$74) -> 0.033302246 | H97: =H62/(H$62+H$68+H$74) -> 0.031862361 | I97: =I62/(I$62+I$68+I$74) -> 0.023941891 | J97: =J62/(J$62+J$68+J$74) -> 0.022118826 | K97: =K62/(K$62+K$68+K$74) -> 0.02187505 | ... AL97: =AL62/(AL$62+AL$68+AL$74) -> 0.017880716
C98: =C104 -> Investeringer ex. Byggeri | D98: =D74/(D$62+D$68+D$74) -> 0.92942718 | E98: =E74/(E$62+E$68+E$74) -> 0.90105624 | F98: =F74/(F$62+F$68+F$74) -> 0.89708562 | G98: =G74/(G$62+G$68+G$74) -> 0.88573976 | H98: =H74/(H$62+H$68+H$74) -> 0.89344346 | I98: =I74/(I$62+I$68+I$74) -> 0.89691853 | J98: =J74/(J$62+J$68+J$74) -> 0.90372451 | K98: =K74/(K$62+K$68+K$74) -> 0.91282164 | ... AL98: =AL74/(AL$62+AL$68+AL$74) -> 0.95406641
C99: =C105 -> Offentlig forbrug ex. Byggeri | D99: =D68/(D$62+D$68+D$74) -> 0.03507093 | E99: =E68/(E$62+E$68+E$74) -> 0.062632472 | F99: =F68/(F$62+F$68+F$74) -> 0.068744292 | G99: =G68/(G$62+G$68+G$74) -> 0.080957993 | H99: =H68/(H$62+H$68+H$74) -> 0.074694183 | I99: =I68/(I$62+I$68+I$74) -> 0.079139578 | J99: =J68/(J$62+J$68+J$74) -> 0.074156659 | K99: =K68/(K$62+K$68+K$74) -> 0.06530331 | ... AL99: =AL68/(AL$62+AL$68+AL$74) -> 0.028052874
C101: Byggeri, slutudledninger | D101: =SUM(D3:D6) -> 7.296943 | E101: =SUM(E3:E6) -> 7.147117 | F101: =SUM(F3:F6) -> 7.039472 | G101: =SUM(G3:G6) -> 6.613531 | H101: =SUM(H3:H6) -> 6.536589 | I101: =SUM(I3:I6) -> 7.4909 | J101: =SUM(J3:J6) -> 8.363034 | K101: =SUM(K3:K6) -> 8.325106 | ... AL101: =SUM(AL3:AL6) -> 8.17867
C102: Byggeri, inputudledninger | D102: =SUM(D18:D21) -> 2.2279175 | E102: =SUM(E18:E21) -> 2.3319001 | F102: =SUM(F18:F21) -> 2.3851089 | G102: =SUM(G18:G21) -> 2.4819501 | H102: =SUM(H18:H21) -> 2.6932282 | I102: =SUM(I18:I21) -> 2.8810941 | J102: =SUM(J18:J21) -> 3.1218842 | K102: =SUM(K18:K21) -> 3.0387605 | ... AL102: =SUM(AL18:AL21) -> 3.5460685
C103: Husholdninger ex. Byggeri | D103: =D91-D62-D97*D102 -> 54.158198 | E103: =E91-E62-E97*E102 -> 59.670988 | F103: =F91-F62-F97*F102 -> 57.167858 | G103: =G91-G62-G97*G102 -> 58.168218 | H103: =H91-H62-H97*H102 -> 60.346473 | I103: =I91-I62-I97*I102 -> 58.956395 | J103: =J91-J62-J97*J102 -> 62.771457 | K103: =K91-K62-K97*K102 -> 58.643771 | ... AL103: =AL91-AL62-AL97*AL102 -> 34.552733
...

Sheet Absolutte og pct-fordelinger
A3: Måleenhed | B3: Udledningstype | C3: Fordelingstype | D3: Branche | E3: 1990 | F3: 1991 | G3: 1992 | H3: 1993 | I3: 1994 | J3: 1995 | K3: 1996 | L3: 1997 | M3: 1998 | N3: 1999 | O3: 2000 | P3: 2001 | Q3: 2002 | R3: 2003 | S3: 2004 | T3: 2005 | U3: 2006 | V3: 2007 | W3: 2008 | X3: 2009 | Y3: 2010 | Z3: 2011 | AA3: 2012 | AB3: 2013 | AC3: 2014 | AD3: 2015 | AE3: 2016 | AF3: 2017 | AG3: 2018 | AH3: 2019 | AI3: 2020 | AJ3: 2021 | AK3: 2022 | AL3: 2023 | AM3: 2024
A4: Mio. ton CO2e | B4: Slutudledninger | C4: Fordeling 1 - byggeriets 4 delbrancher | D4: =NAIO1!C3 -> Nybyggeri | E4: =NAIO1!D3 -> 3.013854 | F4: =NAIO1!E3 -> 2.703794 | G4: =NAIO1!F3 -> 2.539899 | H4: =NAIO1!G3 -> 1.978144 | I4: =NAIO1!H3 -> 1.992198 | J4: =NAIO1!I3 -> 2.495239 | K4: =NAIO1!J3 -> 2.914936 | ... AM4: =NAIO1!AL3 -> 3.003288
A5: Mio. ton CO2e | B5: Slutudledninger | C5: Fordeling 1 - byggeriets 4 delbrancher | D5: =NAIO1!C4 -> Anlægsvirksomhed | E5: =NAIO1!D4 -> 2.584207 | F5: =NAIO1!E4 -> 2.639991 | G5: =NAIO1!F4 -> 2.68712 | H5: =NAIO1!G4 -> 2.939017 | I5: =NAIO1!H4 -> 2.686625 | J5: =NAIO1!I4 -> 2.980484 | K5: =NAIO1!J4 -> 3.338286 | ... AM5: =NAIO1!AL4 -> 2.983889
A6: Mio. ton CO2e | B6: Slutudledninger | C6: Fordeling 1 - byggeriets 4 delbrancher | D6: =NAIO1!C5 -> Prof. rep. og vedl. | E6: =NAIO1!D5 -> 1.406667 | F6: =NAIO1!E5 -> 1.496197 | G6: =NAIO1!F5 -> 1.499194 | H6: =NAIO1!G5 -> 1.380038 | I6: =NAIO1!H5 -> 1.533843 | J6: =NAIO1!I5 -> 1.6491 | K6: =NAIO1!J5 -> 1.695171 | ... AM6: =NAIO1!AL5 -> 1.635947
A7: Mio. ton CO2e | B7: Slutudledninger | C7: Fordeling 1 - byggeriets 4 delbrancher | D7: =NAIO1!C6 -> Gør-det-selv rep. og vedl. | E7: =NAIO1!D6 -> 0.292215 | F7: =NAIO1!E6 -> 0.307135 | G7: =NAIO1!F6 -> 0.313259 | H7: =NAIO1!G6 -> 0.316332 | I7: =NAIO1!H6 -> 0.323923 | J7: =NAIO1!I6 -> 0.366077 | K7: =NAIO1!J6 -> 0.414641 | ... AM7: =NAIO1!AL6 -> 0.555546
A8: Mio. ton CO2e | B8: Input | C8: Fordeling 1 - byggeriets 4 delbrancher | D8: =D4 -> Nybyggeri | E8: =NAIO1!D18 -> 0 | F8: =NAIO1!E18 -> 0 | G8: =NAIO1!F18 -> 0 | H8: =NAIO1!G18 -> 0 | I8: =NAIO1!H18 -> 0.0010455526 | J8: =NAIO1!I18 -> 0.0026273158 | K8: =NAIO1!J18 -> 0 | L8: =NAIO1!K18 -> 0.00042339604 | ... AM8: =NAIO1!AL18 -> 8.8100057e-06
A9: Mio. ton CO2e | B9: Input | C9: Fordeling 1 - byggeriets 4 delbrancher | D9: =D5 -> Anlægsvirksomhed | E9: =NAIO1!D19 -> 0.87639438 | F9: =NAIO1!E19 -> 0.79207658 | G9: =NAIO1!F19 -> 0.7422215 | H9: =NAIO1!G19 -> 0.64202437 | I9: =NAIO1!H19 -> 0.69900748 | J9: =NAIO1!I19 -> 0.71040368 | K9: =NAIO1!J19 -> 0.74999861 | L9: =NAIO1!K19 -> 0.7154246 | ... AM9: =NAIO1!AL19 -> 0.57211031
A10: Mio. ton CO2e | B10: Input | C10: Fordeling 1 - byggeriets 4 delbrancher | D10: =D6 -> Prof. rep. og vedl. | E10: =NAIO1!D20 -> 0.74347412 | F10: =NAIO1!E20 -> 0.82777101 | G10: =NAIO1!F20 -> 0.84763937 | H10: =NAIO1!G20 -> 0.90025033 | I10: =NAIO1!H20 -> 0.97056636 | J10: =NAIO1!I20 -> 1.0009808 | K10: =NAIO1!J20 -> 1.0568796 | L10: =NAIO1!K20 -> 1.056011 | ... AM10: =NAIO1!AL20 -> 1.2759231
A11: Mio. ton CO2e | B11: Input | C11: Fordeling 1 - byggeriets 4 delbrancher | D11: =D7 -> Gør-det-selv rep. og vedl. | E11: =NAIO1!D21 -> 0.60804895 | F11: =NAIO1!E21 -> 0.71205254 | G11: =NAIO1!F21 -> 0.79524807 | H11: =NAIO1!G21 -> 0.9396754 | I11: =NAIO1!H21 -> 1.0226088 | J11: =NAIO1!I21 -> 1.1670823 | K11: =NAIO1!J21 -> 1.3150059 | L11: =NAIO1!K21 -> 1.2669015 | ... AM11: =NAIO1!AL21 -> 1.6980263
A12: Mio. ton CO2e | B12: Slut- og inputudledninger | C12: Fordeling 1 - byggeriets 4 delbrancher | D12: =D8 -> Nybyggeri | E12: =NAIO1!D23 -> 3.013854 | F12: =NAIO1!E23 -> 2.703794 | G12: =NAIO1!F23 -> 2.539899 | H12: =NAIO1!G23 -> 1.978144 | I12: =NAIO1!H23 -> 1.9932436 | J12: =NAIO1!I23 -> 2.4978663 | K12: =NAIO1!J23 -> 2.914936 | L12: =NAIO1!K23 -> 3.1846584 | ... AM12: =NAIO1!AL23 -> 3.0032968
A13: Mio. ton CO2e | B13: Slut- og inputudledninger | C13: Fordeling 1 - byggeriets 4 delbrancher | D13: =D9 -> Anlægsvirksomhed | E13: =NAIO1!D24 -> 3.4606014 | F13: =NAIO1!E24 -> 3.4320676 | G13: =NAIO1!F24 -> 3.4293415 | H13: =NAIO1!G24 -> 3.5810414 | I13: =NAIO1!H24 -> 3.3856325 | J13: =NAIO1!I24 -> 3.6908877 | K13: =NAIO1!J24 -> 4.0882846 | L13: =NAIO1!K24 -> 3.7512596 | ... AM13: =NAIO1!AL24 -> 3.5559993
A14: Mio. ton CO2e | B14: Slut- og inputudledninger | C14: Fordeling 1 - byggeriets 4 delbrancher | D14: =D10 -> Prof. rep. og vedl. | E14: =NAIO1!D25 -> 2.1501411 | F14: =NAIO1!E25 -> 2.323968 | G14: =NAIO1!F25 -> 2.3468334 | H14: =NAIO1!G25 -> 2.2802883 | I14: =NAIO1!H25 -> 2.5044094 | J14: =NAIO1!I25 -> 2.6500808 | K14: =NAIO1!J25 -> 2.7520506 | L14: =NAIO1!K25 -> 2.71914 | ... AM14: =NAIO1!AL25 -> 2.9118701
A15: Mio. ton CO2e | B15: Slut- og inputudledninger | C15: Fordeling 1 - byggeriets 4 delbrancher | D15: =D11 -> Gør-det-selv rep. og vedl. | E15: =NAIO1!D26 -> 0.90026395 | F15: =NAIO1!E26 -> 1.0191875 | G15: =NAIO1!F26 -> 1.1085071 | H15: =NAIO1!G26 -> 1.2560074 | I15: =NAIO1!H26 -> 1.3465318 | J15: =NAIO1!I26 -> 1.5331593 | K15: =NAIO1!J26 -> 1.7296469 | L15: =NAIO1!K26 -> 1.7088085 | ... AM15: =NAIO1!AL26 -> 2.2535723
A16: Mio. ton CO2e | B16: Slutudledninger | C16: Fordeling 2 (boligbyggeri vs. øvrigt byggeri) | D16: =D30 -> Nybyggeri, boligbyggeri | E16: =NAIO1!D29 -> 1.2841822 | F16: =NAIO1!E29 -> 1.0710866 | G16: =NAIO1!F29 -> 1.0059118 | H16: =NAIO1!G29 -> 0.80210874 | I16: =NAIO1!H29 -> 0.85739659 | J16: =NAIO1!I29 -> 1.0705099 | K16: =NAIO1!J29 -> 1.2194846 | L16: =NAIO1!K29 -> 1.3905164 | ... AM16: =NAIO1!AL29 -> 0.99970417
A17: Mio. ton CO2e | B17: Slutudledninger | C17: Fordeling 2 (boligbyggeri vs. øvrigt byggeri) | D17: =D31 -> Nybyggeri, øvrigt byggeri | E17: =NAIO1!D30 -> 1.7296718 | F17: =NAIO1!E30 -> 1.6327074 | G17: =NAIO1!F30 -> 1.5339872 | H17: =NAIO1!G30 -> 1.1760353 | I17: =NAIO1!H30 -> 1.135847 | J17: =NAIO1!I30 -> 1.4273564 | K17: =NAIO1!J30 -> 1.6954514 | L17: =NAIO1!K30 -> 1.794142 | ... AM17: =NAIO1!AL30 -> 2.0035926
A18: Mio. ton CO2e | B18: Slutudledninger | C18: Fordeling 2 (boligbyggeri vs. øvrigt byggeri) | D18: =D32 -> R&V, prof, boligbyggeri | E18: =NAIO1!D32 -> 0.97366084 | F18: =NAIO1!E32 -> 1.0324962 | G18: =NAIO1!F32 -> 1.0045535 | H18: =NAIO1!G32 -> 1.0162777 | I18: =NAIO1!H32 -> 1.164739 | J18: =NAIO1!I32 -> 1.1985017 | K18: =NAIO1!J32 -> 1.1828447 | L18: =NAIO1!K32 -> 1.0919566 | ... AM18: =NAIO1!AL32 -> 1.3114822
A19: Mio. ton CO2e | B19: Slutudledninger | C19: Fordeling 2 (boligbyggeri vs. øvrigt byggeri) | D19: =D33 -> R&V, prof, øvrigt byggeri | E19: =NAIO1!D33 -> 0.43300616 | F19: =NAIO1!E33 -> 0.46370082 | G19: =NAIO1!F33 -> 0.49464053 | H19: =NAIO1!G33 -> 0.3637603 | I19: =NAIO1!H33 -> 0.36910395 | J19: =NAIO1!I33 -> 0.45059834 | K19: =NAIO1!J33 -> 0.51232633 | L19: =NAIO1!K33 -> 0.57117242 | ... AM19: =NAIO1!AL33 -> 0.32446479
A20: Mio. ton CO2e | B20: Slutudledninger | C20: Fordeling 2 (boligbyggeri vs. øvrigt byggeri) | D20: =D34 -> R&V, gør-det-selv, boligbyggeri | E20: =NAIO1!D34 -> 0.28675382 | F20: =NAIO1!E34 -> 0.29891403 | G20: =NAIO1!F34 -> 0.30385283 | H20: =NAIO1!G34 -> 0.30522888 | I20: =NAIO1!H34 -> 0.31206216 | J20: =NAIO1!I34 -> 0.35394709 | K20: =NAIO1!J34 -> 0.40174467 | L20: =NAIO1!K34 -> 0.43057644 | ... AM20: =NAIO1!AL34 -> 0.54899391
A21: Mio. ton CO2e | B21: Slutudledninger | C21: Fordeling 2 (boligbyggeri vs. øvrigt byggeri) | D21: =D35 -> R&V, gør-det-selv, øvrigt byggeri | E21: =NAIO1!D35 -> 0.0054611827 | F21: =NAIO1!E35 -> 0.0082209657 | G21: =NAIO1!F35 -> 0.0094061744 | H21: =NAIO1!G35 -> 0.011103123 | I21: =NAIO1!H35 -> 0.011860844 | J21: =NAIO1!I35 -> 0.012129912 | K21: =NAIO1!J35 -> 0.01289633 | L21: =NAIO1!K35 -> 0.011330556 | ... AM21: =NAIO1!AL35 -> 0.0065520909
A22: Mio. ton CO2e | B22: Slutudledninger | C22: Fordeling 2 (boligbyggeri vs. øvrigt byggeri) | D22: =D36 -> Anlægsvirksomhed | E22: =NAIO1!D31 -> 2.584207 | F22: =NAIO1!E31 -> 2.639991 | G22: =NAIO1!F31 -> 2.68712 | H22: =NAIO1!G31 -> 2.939017 | I22: =NAIO1!H31 -> 2.686625 | J22: =NAIO1!I31 -> 2.980484 | K22: =NAIO1!J31 -> 3.338286 | L22: =NAIO1!K31 -> 3.035835 | ... AM22: =NAIO1!AL31 -> 2.983889
A23: Mio. ton CO2e | B23: Input | C23: Fordeling 2 (boligbyggeri vs. øvrigt byggeri) | D23: =D30 -> Nybyggeri, boligbyggeri | E23: 0 | F23: 0 | G23: 0 | H23: 0 | I23: 0 | J23: 0 | K23: 0 | L23: 0 | M23: 0 | N23: 0 | O23: 0 | P23: 0 | Q23: 0 | R23: 0 | S23: 0 | T23: 0 | U23: 0 | V23: 0 | W23: 0 | X23: 0 | Y23: 0 | Z23: 0 | AA23: 0 | AB23: 0 | AC23: 0 | AD23: 0 | AE23: 0 | AF23: 0 | AG23: 0 | AH23: 0 | AI23: 0 | AJ23: 0 | AK23: 0 | AL23: 0 | AM23: 0
A24: Mio. ton CO2e | B24: Input | C24: Fordeling 2 (boligbyggeri vs. øvrigt byggeri) | D24: =D31 -> Nybyggeri, øvrigt byggeri | E24: 0 | F24: 0 | G24: 0 | H24: 0 | I24: 0 | J24: 0 | K24: 0 | L24: 0 | M24: 0 | N24: 0 | O24: 0 | P24: 0 | Q24: 0 | R24: 0 | S24: 0 | T24: 0 | U24: 0 | V24: 0 | W24: 0 | X24: 0 | Y24: 0 | Z24: 0 | AA24: 0 | AB24: 0 | AC24: 0 | AD24: 0 | AE24: 0 | AF24: 0 | AG24: 0 | AH24: 0 | AI24: 0 | AJ24: 0 | AK24: 0 | AL24: 0 | AM24: 0
A25: Mio. ton CO2e | B25: Input | C25: Fordeling 2 (boligbyggeri vs. øvrigt byggeri) | D25: =D32 -> R&V, prof, boligbyggeri | E25: =NAIO1!D36 -> 0.44851093 | F25: =NAIO1!E36 -> 0.48186565 | G25: =NAIO1!F36 -> 0.46799242 | H25: =NAIO1!G36 -> 0.47994204 | I25: =NAIO1!H36 -> 0.51113332 | J25: =NAIO1!I36 -> 0.44376984 | K25: =NAIO1!J36 -> 0.48962639 | L25: =NAIO1!K36 -> 0.54649479 | ... AM25: =NAIO1!AL36 -> 0.35794536
A26: Mio. ton CO2e | B26: Input | C26: Fordeling 2 (boligbyggeri vs. øvrigt byggeri) | D26: =D33 -> R&V, prof, øvrigt byggeri | E26: =NAIO1!D37 -> 0.29496319 | F26: =NAIO1!E37 -> 0.34590536 | G26: =NAIO1!F37 -> 0.37964695 | H26: =NAIO1!G37 -> 0.42030828 | I26: =NAIO1!H37 -> 0.45943304 | J26: =NAIO1!I37 -> 0.55721099 | K26: =NAIO1!J37 -> 0.56725321 | L26: =NAIO1!K37 -> 0.50951622 | ... AM26: =NAIO1!AL37 -> 0.91797777
A27: Mio. ton CO2e | B27: Input | C27: Fordeling 2 (boligbyggeri vs. øvrigt byggeri) | D27: =D34 -> R&V, gør-det-selv, boligbyggeri | E27: =NAIO1!D38 -> 0.34371257 | F27: =NAIO1!E38 -> 0.39253895 | G27: =NAIO1!F38 -> 0.41701154 | H27: =NAIO1!G38 -> 0.47879609 | I27: =NAIO1!H38 -> 0.51728329 | J27: =NAIO1!I38 -> 0.48812269 | K27: =NAIO1!J38 -> 0.58023606 | L27: =NAIO1!K38 -> 0.63618038 | ... AM27: =NAIO1!AL38 -> 0.46707859
A28: Mio. ton CO2e | B28: Input | C28: Fordeling 2 (boligbyggeri vs. øvrigt byggeri) | D28: =D35 -> R&V, gør-det-selv, øvrigt byggeri | E28: =NAIO1!D39 -> 0.26433638 | F28: =NAIO1!E39 -> 0.31951359 | G28: =NAIO1!F39 -> 0.37823653 | H28: =NAIO1!G39 -> 0.46087931 | I28: =NAIO1!H39 -> 0.50532552 | J28: =NAIO1!I39 -> 0.67895957 | K28: =NAIO1!J39 -> 0.73476988 | L28: =NAIO1!K39 -> 0.63072113 | ... AM28: =NAIO1!AL39 -> 1.2309477
A29: Mio. ton CO2e | B29: Input | C29: Fordeling 2 (boligbyggeri vs. øvrigt byggeri) | D29: =D36 -> Anlægsvirksomhed | E29: =NAIO1!D40 -> 0.87639438 | F29: =NAIO1!E40 -> 0.79207658 | G29: =NAIO1!F40 -> 0.7422215 | H29: =NAIO1!G40 -> 0.64202437 | I29: =NAIO1!H40 -> 0.69900748 | J29: =NAIO1!I40 -> 0.71040368 | K29: =NAIO1!J40 -> 0.74999861 | L29: =NAIO1!K40 -> 0.7154246 | ... AM29: =NAIO1!AL40 -> 0.57211031
A30: Mio. ton CO2e | B30: Slut- og inputudledninger | C30: Fordeling 2 (boligbyggeri vs. øvrigt byggeri) | D30: =NAIO1!C43 -> Nybyggeri, boligbyggeri | E30: =NAIO1!D43 -> 1.2841822 | F30: =NAIO1!E43 -> 1.0710866 | G30: =NAIO1!F43 -> 1.0059118 | H30: =NAIO1!G43 -> 0.80210874 | I30: =NAIO1!H43 -> 0.85739659 | J30: =NAIO1!I43 -> 1.0705099 | K30: =NAIO1!J43 -> 1.2194846 | ... AM30: =NAIO1!AL43 -> 0.99970417
A31: Mio. ton CO2e | B31: Slut- og inputudledninger | C31: Fordeling 2 (boligbyggeri vs. øvrigt byggeri) | D31: =NAIO1!C44 -> Nybyggeri, øvrigt byggeri | E31: =NAIO1!D44 -> 1.7296718 | F31: =NAIO1!E44 -> 1.6327074 | G31: =NAIO1!F44 -> 1.5339872 | H31: =NAIO1!G44 -> 1.1760353 | I31: =NAIO1!H44 -> 1.135847 | J31: =NAIO1!I44 -> 1.4273564 | K31: =NAIO1!J44 -> 1.6954514 | ... AM31: =NAIO1!AL44 -> 2.0035926
A32: Mio. ton CO2e | B32: Slut- og inputudledninger | C32: Fordeling 2 (boligbyggeri vs. øvrigt byggeri) | D32: =NAIO1!C42 -> R&V, prof, boligbyggeri | E32: =NAIO1!D42 -> 1.4221718 | F32: =NAIO1!E42 -> 1.5143618 | G32: =NAIO1!F42 -> 1.4725459 | H32: =NAIO1!G42 -> 1.4962197 | I32: =NAIO1!H42 -> 1.6758724 | J32: =NAIO1!I42 -> 1.6422715 | K32: =NAIO1!J42 -> 1.6724711 | ... AM32: =NAIO1!AL42 -> 1.6694276
A33: Mio. ton CO2e | B33: Slut- og inputudledninger | C33: Fordeling 2 (boligbyggeri vs. øvrigt byggeri) | D33: =NAIO1!C46 -> R&V, prof, øvrigt byggeri | E33: =NAIO1!D46 -> 0.72796935 | F33: =NAIO1!E46 -> 0.80960618 | G33: =NAIO1!F46 -> 0.87428748 | H33: =NAIO1!G46 -> 0.78406858 | I33: =NAIO1!H46 -> 0.82853699 | J33: =NAIO1!I46 -> 1.0078093 | K33: =NAIO1!J46 -> 1.0795795 | ... AM33: =NAIO1!AL46 -> 1.2424426
A34: Mio. ton CO2e | B34: Slut- og inputudledninger | C34: Fordeling 2 (boligbyggeri vs. øvrigt byggeri) | D34: =NAIO1!C41 -> R&V, gør-det-selv, boligbyggeri | E34: =NAIO1!D41 -> 0.63046638 | F34: =NAIO1!E41 -> 0.69145299 | G34: =NAIO1!F41 -> 0.72086436 | H34: =NAIO1!G41 -> 0.78402497 | I34: =NAIO1!H41 -> 0.82934545 | J34: =NAIO1!I41 -> 0.84206978 | K34: =NAIO1!J41 -> 0.98198073 | ... AM34: =NAIO1!AL41 -> 1.0160725
A35: Mio. ton CO2e | B35: Slut- og inputudledninger | C35: Fordeling 2 (boligbyggeri vs. øvrigt byggeri) | D35: =NAIO1!C45 -> R&V, gør-det-selv, øvrigt byggeri | E35: =NAIO1!D45 -> 0.26979756 | F35: =NAIO1!E45 -> 0.32773455 | G35: =NAIO1!F45 -> 0.38764271 | H35: =NAIO1!G45 -> 0.47198243 | I35: =NAIO1!H45 -> 0.51718636 | J35: =NAIO1!I45 -> 0.69108948 | K35: =NAIO1!J45 -> 0.74766621 | ... AM35: =NAIO1!AL45 -> 1.2374998
A36: Mio. ton CO2e | B36: Slut- og inputudledninger | C36: Fordeling 2 (boligbyggeri vs. øvrigt byggeri) | D36: =NAIO1!C47 -> Anlægsvirksomhed | E36: =NAIO1!D47 -> 3.4606014 | F36: =NAIO1!E47 -> 3.4320676 | G36: =NAIO1!F47 -> 3.4293415 | H36: =NAIO1!G47 -> 3.5810414 | I36: =NAIO1!H47 -> 3.3856325 | J36: =NAIO1!I47 -> 3.6908877 | K36: =NAIO1!J47 -> 4.0882846 | ... AM36: =NAIO1!AL47 -> 3.5559993
A37: Mio. ton CO2e | B37: Slut- og inputudledninger | C37: Fordeling 3 boligbyggeri vs. øvrigt byggeri - i alt | D37: =NAIO1!C48 -> Boligbyggeri i alt | E37: =NAIO1!D48 -> 3.3368204 | F37: =NAIO1!E48 -> 3.2769014 | G37: =NAIO1!F48 -> 3.199322 | H37: =NAIO1!G48 -> 3.0823535 | I37: =NAIO1!H48 -> 3.3626144 | J37: =NAIO1!I48 -> 3.5548512 | K37: =NAIO1!J48 -> 3.8739363 | ... AM37: =NAIO1!AL48 -> 3.6852042
A38: Mio. ton CO2e | B38: Slut- og inputudledninger | C38: Fordeling 3 boligbyggeri vs. øvrigt byggeri - i alt | D38: =NAIO1!C49 -> Øvrigt byggeri i alt | E38: =NAIO1!D49 -> 2.7274387 | F38: =NAIO1!E49 -> 2.7700482 | G38: =NAIO1!F49 -> 2.7959174 | H38: =NAIO1!G49 -> 2.4320863 | I38: =NAIO1!H49 -> 2.4815703 | J38: =NAIO1!I49 -> 3.1262553 | K38: =NAIO1!J49 -> 3.5226972 | ... AM38: =NAIO1!AL49 -> 4.483535
A39: Mio. ton CO2e | B39: Slut- og inputudledninger | C39: Fordeling 3 boligbyggeri vs. øvrigt byggeri - i alt | D39: =NAIO1!C50 -> Anlægsvirksomhed | E39: =NAIO1!D50 -> 3.4606014 | F39: =NAIO1!E50 -> 3.4320676 | G39: =NAIO1!F50 -> 3.4293415 | H39: =NAIO1!G50 -> 3.5810414 | I39: =NAIO1!H50 -> 3.3856325 | J39: =NAIO1!I50 -> 3.6908877 | K39: =NAIO1!J50 -> 4.0882846 | ... AM39: =NAIO1!AL50 -> 3.5559993
A40: Mio. ton CO2e | B40: Slut- og inputudledninger | C40: Fordeling 4 byggeritype og Rep. og vedligehold | D40: =NAIO1!C51 -> R&V-boligbyggeri | E40: =NAIO1!D51 -> 2.0526382 | F40: =NAIO1!E51 -> 2.2058148 | G40: =NAIO1!F51 -> 2.1934103 | H40: =NAIO1!G51 -> 2.2802447 | I40: =NAIO1!H51 -> 2.5052178 | J40: =NAIO1!I51 -> 2.4843413 | K40: =NAIO1!J51 -> 2.6544518 | ... AM40: =NAIO1!AL51 -> 2.6855001
A41: Mio. ton CO2e | B41: Slut- og inputudledninger | C41: Fordeling 4 byggeritype og Rep. og vedligehold | D41: =NAIO1!C52 -> R&V-øvrigt byggeri | E41: =NAIO1!D52 -> 0.99776691 | F41: =NAIO1!E52 -> 1.1373407 | G41: =NAIO1!F52 -> 1.2619302 | H41: =NAIO1!G52 -> 1.256051 | I41: =NAIO1!H52 -> 1.3457233 | J41: =NAIO1!I52 -> 1.6988988 | K41: =NAIO1!J52 -> 1.8272458 | ... AM41: =NAIO1!AL52 -> 2.4799423
A42: Mio. ton CO2e | B42: Slut- og inputudledninger | C42: Fordeling 4 byggeritype og Rep. og vedligehold | D42: =NAIO1!C53 -> Nybyggeri boligbyggeri | E42: =NAIO1!D53 -> 1.2841822 | F42: =NAIO1!E53 -> 1.0710866 | G42: =NAIO1!F53 -> 1.0059118 | H42: =NAIO1!G53 -> 0.80210874 | I42: =NAIO1!H53 -> 0.85739659 | J42: =NAIO1!I53 -> 1.0705099 | K42: =NAIO1!J53 -> 1.2194846 | ... AM42: =NAIO1!AL53 -> 0.99970417
A43: Mio. ton CO2e | B43: Slut- og inputudledninger | C43: Fordeling 4 byggeritype og Rep. og vedligehold | D43: =NAIO1!C54 -> Nybyggeri øvrigt byggeri | E43: =NAIO1!D54 -> 1.7296718 | F43: =NAIO1!E54 -> 1.6327074 | G43: =NAIO1!F54 -> 1.5339872 | H43: =NAIO1!G54 -> 1.1760353 | I43: =NAIO1!H54 -> 1.135847 | J43: =NAIO1!I54 -> 1.4273564 | K43: =NAIO1!J54 -> 1.6954514 | ... AM43: =NAIO1!AL54 -> 2.0035926
A44: Mio. ton CO2e | B44: Slut- og inputudledninger | C44: Fordeling 4 byggeritype og Rep. og vedligehold | D44: =NAIO1!C55 -> Anlægsvirksomhed | E44: =NAIO1!D55 -> 3.4606014 | F44: =NAIO1!E55 -> 3.4320676 | G44: =NAIO1!F55 -> 3.4293415 | H44: =NAIO1!G55 -> 3.5810414 | I44: =NAIO1!H55 -> 3.3856325 | J44: =NAIO1!I55 -> 3.6908877 | K44: =NAIO1!J55 -> 4.0882846 | ... AM44: =NAIO1!AL55 -> 3.5559993
A45: Mio. ton CO2e | B45: Slut- og inputudledninger | C45: Størrelser i alt | D45: Byggeri i alt | E45: =NAIO1!D27 -> 9.5248605 | F45: =NAIO1!E27 -> 9.4790171 | G45: =NAIO1!F27 -> 9.4245809 | H45: =NAIO1!G27 -> 9.0954811 | I45: =NAIO1!H27 -> 9.2298172 | J45: =NAIO1!I27 -> 10.371994 | K45: =NAIO1!J27 -> 11.484918 | L45: =NAIO1!K27 -> 11.363867 | ... AM45: =NAIO1!AL27 -> 11.724739
A46: Mio. ton CO2e | B46: Slut- og inputudledninger | C46: Størrelser i alt | D46: Energi husholdninger | E46: =NAIO1!D107 -> 20.252566 | F46: =NAIO1!E107 -> 23.801924 | G46: =NAIO1!F107 -> 20.985409 | H46: =NAIO1!G107 -> 23.065295 | I46: =NAIO1!H107 -> 23.448611 | J46: =NAIO1!I107 -> 21.728387 | K46: =NAIO1!J107 -> 24.780852 | L46: =NAIO1!K107 -> 21.850029 | ... AM46: =NAIO1!AL107 -> 5.439888
A47: Mio. ton CO2e | B47: Slut- og inputudledninger | C47: Størrelser i alt | D47: Byggeri+Energi fra husholdninger | E47: =E45+E46 -> 29.777426 | F47: =F45+F46 -> 33.280941 | G47: =G45+G46 -> 30.40999 | H47: =H45+H46 -> 32.160776 | I47: =I45+I46 -> 32.678428 | J47: =J45+J46 -> 32.100381 | K47: =K45+K46 -> 36.26577 | L47: =L45+L46 -> 33.213896 | ... AM47: =AM45+AM46 -> 17.164627
A48: Mio. ton CO2e | B48: Slut- og inputudledninger | C48: Størrelser i alt | D48: CO2e i alt i Danmark | E48: =NAIO1!D94 -> 76.964123 | F48: =NAIO1!E94 -> 83.702049 | G48: =NAIO1!F94 -> 79.575888 | H48: =NAIO1!G94 -> 79.290391 | I48: =NAIO1!H94 -> 83.870415 | J48: =NAIO1!I94 -> 86.856791 | K48: =NAIO1!J94 -> 90.953205 | L48: =NAIO1!K94 -> 87.150812 | ... AM48: =NAIO1!AL94 -> 57.995667
E50: =E3 -> 1990 | F50: =F3 -> 1991 | G50: =G3 -> 1992 | H50: =H3 -> 1993 | I50: =I3 -> 1994 | J50: =J3 -> 1995 | K50: =K3 -> 1996 | L50: =L3 -> 1997 | ... AM50: =AM3 -> 2024
A51: Pct. | B51: Slutudledninger | C51: Fordeling 1 - byggeriets 4 delbrancher | D51: =D4 -> Nybyggeri | E51: =E4/E$48 -> 0.039159207 | F51: =F4/F$48 -> 0.032302602 | G51: =G4/G$48 -> 0.031917947 | H51: =H4/H$48 -> 0.024948092 | I51: =I4/I$48 -> 0.023753287 | J51: =J4/J$48 -> 0.028728197 | K51: =K4/K$48 -> 0.032048744 | L51: =L4/L$48 -> 0.036537066 | ... AM51: =AM4/AM$48 -> 0.051784696
A52: Pct. | B52: Slutudledninger | C52: Fordeling 1 - byggeriets 4 delbrancher | D52: =D5 -> Anlægsvirksomhed | E52: =E5/E$48 -> 0.033576774 | F52: =F5/F$48 -> 0.031540339 | G52: =G5/G$48 -> 0.033768018 | H52: =H5/H$48 -> 0.037066496 | I52: =I5/I$48 -> 0.032033048 | J52: =J5/J$48 -> 0.034314922 | K52: =K5/K$48 -> 0.036703336 | L52: =L5/L$48 -> 0.034834271 | ... AM52: =AM5/AM$48 -> 0.051450206
A53: Pct. | B53: Slutudledninger | C53: Fordeling 1 - byggeriets 4 delbrancher | D53: =D6 -> Prof. rep. og vedl. | E53: =E6/E$48 -> 0.018276918 | F53: =F6/F$48 -> 0.017875273 | G53: =G6/G$48 -> 0.018839802 | H53: =H6/H$48 -> 0.017404858 | I53: =I6/I$48 -> 0.018288249 | J53: =J6/J$48 -> 0.018986426 | K53: =K6/K$48 -> 0.018637837 | L53: =L6/L$48 -> 0.019083345 | ... AM53: =AM6/AM$48 -> 0.02820809
A54: Pct. | B54: Slutudledninger | C54: Fordeling 1 - byggeriets 4 delbrancher | D54: =D7 -> Gør-det-selv rep. og vedl. | E54: =E7/E$48 -> 0.003796769 | F54: =F7/F$48 -> 0.0036693845 | G54: =G7/G$48 -> 0.003936607 | H54: =H7/H$48 -> 0.0039895376 | I54: =I7/I$48 -> 0.0038621843 | J54: =J7/J$48 -> 0.0042147194 | K54: =K7/K$48 -> 0.0045588388 | L54: =L7/L$48 -> 0.0050706011 | ... AM54: =AM7/AM$48 -> 0.0095790949
A55: Pct. | B55: Input | C55: Fordeling 1 - byggeriets 4 delbrancher | D55: =D8 -> Nybyggeri | E55: =E8/E$48 -> 0 | F55: =F8/F$48 -> 0 | G55: =G8/G$48 -> 0 | H55: =H8/H$48 -> 0 | I55: =I8/I$48 -> 1.2466286e-05 | J55: =J8/J$48 -> 3.0248825e-05 | K55: =K8/K$48 -> 0 | L55: =L8/L$48 -> 4.8581996e-06 | ... AM55: =AM8/AM$48 -> 1.51908e-07
A56: Pct. | B56: Input | C56: Fordeling 1 - byggeriets 4 delbrancher | D56: =D9 -> Anlægsvirksomhed | E56: =E9/E$48 -> 0.011387051 | F56: =F9/F$48 -> 0.0094630489 | G56: =G9/G$48 -> 0.009327216 | H56: =H9/H$48 -> 0.0080971271 | I56: =I9/I$48 -> 0.0083343749 | J56: =J9/J$48 -> 0.0081790229 | K56: =K9/K$48 -> 0.0082459833 | L56: =L9/L$48 -> 0.0082090411 | ... AM56: =AM9/AM$48 -> 0.0098647079
A57: Pct. | B57: Input | C57: Fordeling 1 - byggeriets 4 delbrancher | D57: =D10 -> Prof. rep. og vedl. | E57: =E10/E$48 -> 0.009660009 | F57: =F10/F$48 -> 0.0098894952 | G57: =G10/G$48 -> 0.010651962 | H57: =H10/H$48 -> 0.011353839 | I57: =I10/I$48 -> 0.011572214 | J57: =J10/J$48 -> 0.011524497 | K57: =K10/K$48 -> 0.011620037 | L57: =L10/L$48 -> 0.012117053 | ... AM57: =AM10/AM$48 -> 0.022000318
A58: Pct. | B58: Input | C58: Fordeling 1 - byggeriets 4 delbrancher | D58: =D11 -> Gør-det-selv rep. og vedl. | E58: =E11/E$48 -> 0.0079004207 | F58: =F11/F$48 -> 0.0085069906 | G58: =G11/G$48 -> 0.0099935808 | H58: =H11/H$48 -> 0.011851063 | I58: =I11/I$48 -> 0.012192724 | J58: =J11/J$48 -> 0.013436857 | K58: =K11/K$48 -> 0.01445805 | L58: =L11/L$48 -> 0.014536887 | ... AM58: =AM11/AM$48 -> 0.029278502
A59: Pct. | B59: Slut- og inputudledninger | C59: Fordeling 1 - byggeriets 4 delbrancher | D59: =D12 -> Nybyggeri | E59: =E12/E$48 -> 0.039159207 | F59: =F12/F$48 -> 0.032302602 | G59: =G12/G$48 -> 0.031917947 | H59: =H12/H$48 -> 0.024948092 | I59: =I12/I$48 -> 0.023765753 | J59: =J12/J$48 -> 0.028758446 | K59: =K12/K$48 -> 0.032048744 | L59: =L12/L$48 -> 0.036541925 | ... AM59: =AM12/AM$48 -> 0.051784848
A60: Pct. | B60: Slut- og inputudledninger | C60: Fordeling 1 - byggeriets 4 delbrancher | D60: =D13 -> Anlægsvirksomhed | E60: =E13/E$48 -> 0.044963825 | F60: =F13/F$48 -> 0.041003388 | G60: =G13/G$48 -> 0.043095234 | H60: =H13/H$48 -> 0.045163624 | I60: =I13/I$48 -> 0.040367423 | J60: =J13/J$48 -> 0.042493945 | K60: =K13/K$48 -> 0.044949319 | L60: =L13/L$48 -> 0.043043312 | ... AM60: =AM13/AM$48 -> 0.061314914
A61: Pct. | B61: Slut- og inputudledninger | C61: Fordeling 1 - byggeriets 4 delbrancher | D61: =D14 -> Prof. rep. og vedl. | E61: =E14/E$48 -> 0.027936927 | F61: =F14/F$48 -> 0.027764768 | G61: =G14/G$48 -> 0.029491765 | H61: =H14/H$48 -> 0.028758697 | I61: =I14/I$48 -> 0.029860462 | J61: =J14/J$48 -> 0.030510923 | K61: =K14/K$48 -> 0.030257874 | L61: =L14/L$48 -> 0.031200398 | ... AM61: =AM14/AM$48 -> 0.050208408
A62: Pct. | B62: Slut- og inputudledninger | C62: Fordeling 1 - byggeriets 4 delbrancher | D62: =D15 -> Gør-det-selv rep. og vedl. | E62: =E15/E$48 -> 0.01169719 | F62: =F15/F$48 -> 0.012176375 | G62: =G15/G$48 -> 0.013930188 | H62: =H15/H$48 -> 0.0158406 | I62: =I15/I$48 -> 0.016054908 | J62: =J15/J$48 -> 0.017651576 | K62: =K15/K$48 -> 0.019016888 | L62: =L15/L$48 -> 0.019607488 | ... AM62: =AM15/AM$48 -> 0.038857597
... A69: Pct. | B69: Slutudledninger | C69: Fordeling 2 (boligbyggeri vs. øvrigt byggeri) | D69: =D22 -> Anlægsvirksomhed | E69: =E22/E$48 -> 0.033576774 | F69: =F22/F$48 -> 0.031540339 | G69: =G22/G$48 -> 0.033768018 | H69: =H22/H$48 -> 0.037066496 | I69: =I22/I$48 -> 0.032033048 | J69: =J22/J$48 -> 0.034314922 | K69: =K22/K$48 -> 0.036703336 | L69: =L22/L$48 -> 0.034834271 | ... AM69: =AM22/AM$48 -> 0.051450206
A70: Pct. | B70: Input | C70: Fordeling 2 (boligbyggeri vs. øvrigt byggeri) | D70: =D23 -> Nybyggeri, boligbyggeri | E70: 0 | F70: 0 | G70: 0 | H70: 0 | I70: 0 | J70: 0 | K70: 0 | L70: 0 | M70: 0 | N70: 0 | O70: 0 | P70: 0 | Q70: 0 | R70: 0 | S70: 0 | T70: 0 | U70: 0 | V70: 0 | W70: 0 | X70: 0 | Y70: 0 | Z70: 0 | AA70: 0 | AB70: 0 | AC70: 0 | AD70: 0 | AE70: 0 | AF70: 0 | AG70: 0 | AH70: 0 | AI70: 0 | AJ70: 0 | AK70: 0 | AL70: 0 | AM70: 0
A71: Pct. | B71: Input | C71: Fordeling 2 (boligbyggeri vs. øvrigt byggeri) | D71: =D24 -> Nybyggeri, øvrigt byggeri | E71: 0 | F71: 0 | G71: 0 | H71: 0 | I71: 0 | J71: 0 | K71: 0 | L71: 0 | M71: 0 | N71: 0 | O71: 0 | P71: 0 | Q71: 0 | R71: 0 | S71: 0 | T71: 0 | U71: 0 | V71: 0 | W71: 0 | X71: 0 | Y71: 0 | Z71: 0 | AA71: 0 | AB71: 0 | AC71: 0 | AD71: 0 | AE71: 0 | AF71: 0 | AG71: 0 | AH71: 0 | AI71: 0 | AJ71: 0 | AK71: 0 | AL71: 0 | AM71: 0
A72: Pct. | B72: Input | C72: Fordeling 2 (boligbyggeri vs. øvrigt byggeri) | D72: =D25 -> R&V, prof, boligbyggeri | E72: =E25/E$48 -> 0.0058275325 | F72: =F25/F$48 -> 0.0057569159 | G72: =G25/G$48 -> 0.0058810833 | H72: =H25/H$48 -> 0.006052966 | I72: =I25/I$48 -> 0.0060943221 | J72: =J25/J$48 -> 0.0051092129 | K72: =K25/K$48 -> 0.005383278 | L72: =L25/L$48 -> 0.0062706793 | ... AM72: =AM25/AM$48 -> 0.0061719328
A73: Pct. | B73: Input | C73: Fordeling 2 (boligbyggeri vs. øvrigt byggeri) | D73: =D26 -> R&V, prof, øvrigt byggeri | E73: =E26/E$48 -> 0.0038324765 | F73: =F26/F$48 -> 0.0041325793 | G73: =G26/G$48 -> 0.0047708792 | H73: =H26/H$48 -> 0.0053008729 | I73: =I26/I$48 -> 0.0054778915 | J73: =J26/J$48 -> 0.0064152841 | K73: =K26/K$48 -> 0.0062367589 | L73: =L26/L$48 -> 0.0058463737 | ... AM73: =AM26/AM$48 -> 0.015828385
A74: Pct. | B74: Input | C74: Fordeling 2 (boligbyggeri vs. øvrigt byggeri) | D74: =D27 -> R&V, gør-det-selv, boligbyggeri | E74: =E27/E$48 -> 0.0044658804 | F74: =F27/F$48 -> 0.0046897174 | G74: =G27/G$48 -> 0.0052404258 | H74: =H27/H$48 -> 0.0060385134 | I74: =I27/I$48 -> 0.0061676491 | J74: =J27/J$48 -> 0.0056198564 | K74: =K27/K$48 -> 0.006379501 | L74: =L27/L$48 -> 0.0072997642 | ... AM74: =AM27/AM$48 -> 0.0080536807
A75: Pct. | B75: Input | C75: Fordeling 2 (boligbyggeri vs. øvrigt byggeri) | D75: =D28 -> R&V, gør-det-selv, øvrigt byggeri | E75: =E28/E$48 -> 0.0034345403 | F75: =F28/F$48 -> 0.0038172732 | G75: =G28/G$48 -> 0.004753155 | H75: =H28/H$48 -> 0.0058125493 | I75: =I28/I$48 -> 0.0060250747 | J75: =J28/J$48 -> 0.0078170004 | K75: =K28/K$48 -> 0.0080785486 | L75: =L28/L$48 -> 0.0072371229 | ... AM75: =AM28/AM$48 -> 0.021224822
A76: Pct. | B76: Input | C76: Fordeling 2 (boligbyggeri vs. øvrigt byggeri) | D76: =D29 -> Anlægsvirksomhed | E76: =E29/E$48 -> 0.011387051 | F76: =F29/F$48 -> 0.0094630489 | G76: =G29/G$48 -> 0.009327216 | H76: =H29/H$48 -> 0.0080971271 | I76: =I29/I$48 -> 0.0083343749 | J76: =J29/J$48 -> 0.0081790229 | K76: =K29/K$48 -> 0.0082459833 | L76: =L29/L$48 -> 0.0082090411 | ... AM76: =AM29/AM$48 -> 0.0098647079
A77: Pct. | B77: Slut- og inputudledninger | C77: Fordeling 2 (boligbyggeri vs. øvrigt byggeri) | D77: =D30 -> Nybyggeri, boligbyggeri | E77: =E30/E$48 -> 0.016685466 | F77: =F30/F$48 -> 0.01279642 | G77: =G30/G$48 -> 0.012640912 | H77: =H30/H$48 -> 0.01011609 | I77: =I30/I$48 -> 0.010222873 | J77: =J30/J$48 -> 0.012324999 | K77: =K30/K$48 -> 0.013407824 | L77: =L30/L$48 -> 0.015955289 | ... AM77: =AM30/AM$48 -> 0.017237567
A78: Pct. | B78: Slut- og inputudledninger | C78: Fordeling 2 (boligbyggeri vs. øvrigt byggeri) | D78: =D31 -> Nybyggeri, øvrigt byggeri | E78: =E31/E$48 -> 0.022473741 | F78: =F31/F$48 -> 0.019506182 | G78: =G31/G$48 -> 0.019277035 | H78: =H31/H$48 -> 0.014832002 | I78: =I31/I$48 -> 0.01354288 | J78: =J31/J$48 -> 0.016433447 | K78: =K31/K$48 -> 0.01864092 | L78: =L31/L$48 -> 0.020586635 | ... AM78: =AM31/AM$48 -> 0.034547282
A79: Pct. | B79: Slut- og inputudledninger | C79: Fordeling 2 (boligbyggeri vs. øvrigt byggeri) | D79: =D32 -> R&V, prof, boligbyggeri | E79: =E32/E$48 -> 0.018478373 | F79: =F32/F$48 -> 0.018092291 | G79: =G32/G$48 -> 0.018504926 | H79: =H32/H$48 -> 0.018870127 | I79: =I32/I$48 -> 0.019981687 | J79: =J32/J$48 -> 0.018907808 | K79: =K32/K$48 -> 0.018388259 | L79: =L32/L$48 -> 0.018800185 | ... AM79: =AM32/AM$48 -> 0.028785384
A80: Pct. | B80: Slut- og inputudledninger | C80: Fordeling 2 (boligbyggeri vs. øvrigt byggeri) | D80: =D33 -> R&V, prof, øvrigt byggeri | E80: =E33/E$48 -> 0.0094585545 | F80: =F33/F$48 -> 0.0096724774 | G80: =G33/G$48 -> 0.010986839 | H80: =H33/H$48 -> 0.00988857 | I80: =I33/I$48 -> 0.0098787754 | J80: =J33/J$48 -> 0.011603115 | K80: =K33/K$48 -> 0.011869615 | L80: =L33/L$48 -> 0.012400213 | ... AM80: =AM33/AM$48 -> 0.021423024
A81: Pct. | B81: Slut- og inputudledninger | C81: Fordeling 2 (boligbyggeri vs. øvrigt byggeri) | D81: =D34 -> R&V, gør-det-selv, boligbyggeri | E81: =E34/E$48 -> 0.0081916919 | F81: =F34/F$48 -> 0.0082608848 | G81: =G34/G$48 -> 0.009058829 | H81: =H34/H$48 -> 0.0098880199 | I81: =I34/I$48 -> 0.0098884148 | J81: =J34/J$48 -> 0.0096949216 | K81: =K34/K$48 -> 0.010796549 | L81: =L34/L$48 -> 0.012240354 | ... AM81: =AM34/AM$48 -> 0.0175198
A82: Pct. | B82: Slut- og inputudledninger | C82: Fordeling 2 (boligbyggeri vs. øvrigt byggeri) | D82: =D35 -> R&V, gør-det-selv, øvrigt byggeri | E82: =E35/E$48 -> 0.0035054978 | F82: =F35/F$48 -> 0.0039154902 | G82: =G35/G$48 -> 0.0048713589 | H82: =H35/H$48 -> 0.0059525805 | I82: =I35/I$48 -> 0.0061664934 | J82: =J35/J$48 -> 0.0079566546 | K82: =K35/K$48 -> 0.0082203394 | L82: =L35/L$48 -> 0.0073671338 | ... AM82: =AM35/AM$48 -> 0.021337797
A83: Pct. | B83: Slut- og inputudledninger | C83: Fordeling 2 (boligbyggeri vs. øvrigt byggeri) | D83: =D36 -> Anlægsvirksomhed | E83: =E36/E$48 -> 0.044963825 | F83: =F36/F$48 -> 0.041003388 | G83: =G36/G$48 -> 0.043095234 | H83: =H36/H$48 -> 0.045163624 | I83: =I36/I$48 -> 0.040367423 | J83: =J36/J$48 -> 0.042493945 | K83: =K36/K$48 -> 0.044949319 | L83: =L36/L$48 -> 0.043043312 | ... AM83: =AM36/AM$48 -> 0.061314914
... A91: Pct. | B91: Slut- og inputudledninger | C91: Fordeling 4 byggeritype og Rep. og vedligehold | D91: =D44 -> Anlægsvirksomhed | E91: =E44/E$48 -> 0.044963825 | F91: =F44/F$48 -> 0.041003388 | G91: =G44/G$48 -> 0.043095234 | H91: =H44/H$48 -> 0.045163624 | I91: =I44/I$48 -> 0.040367423 | J91: =J44/J$48 -> 0.042493945 | K91: =K44/K$48 -> 0.044949319 | L91: =L44/L$48 -> 0.043043312 | ... AM91: =AM44/AM$48 -> 0.061314914
A92: Pct. | B92: Slut- og inputudledninger | C92: Størrelser i alt | D92: Byggeri i alt | E92: =E45/E$48 -> 0.12375715 | F92: =F45/F$48 -> 0.11324713 | G92: =G45/G$48 -> 0.11843513 | H92: =H45/H$48 -> 0.11471101 | I92: =I45/I$48 -> 0.11004855 | J92: =J45/J$48 -> 0.11941489 | K92: =K45/K$48 -> 0.12627283 | L92: =L45/L$48 -> 0.13039312 | ... AM92: =AM45/AM$48 -> 0.20216577
A93: Pct. | B93: Slut- og inputudledninger | C93: Størrelser i alt | D93: Energi fra husholdninger | E93: =E46/E$48 -> 0.26314295 | F93: =F46/F$48 -> 0.28436489 | G93: =G46/G$48 -> 0.26371567 | H93: =H46/H$48 -> 0.29089647 | I93: =I46/I$48 -> 0.27958144 | J93: =J46/J$48 -> 0.25016336 | K93: =K46/K$48 -> 0.27245716 | L93: =L46/L$48 -> 0.25071515 | ... AM93: =AM46/AM$48 -> 0.09379818
A94: Pct. | B94: Slut- og inputudledninger | C94: Størrelser i alt | D94: Byggeri+Energi fra husholdninger | E94: =E92+E93 -> 0.38690009 | F94: =F92+F93 -> 0.39761202 | G94: =G92+G93 -> 0.38215081 | H94: =H92+H93 -> 0.40560749 | I94: =I92+I93 -> 0.38962998 | J94: =J92+J93 -> 0.36957825 | K94: =K92+K93 -> 0.39872999 | L94: =L92+L93 -> 0.38110827 | ... AM94: =AM92+AM93 -> 0.29596395
E97: 1990 | F97: 1991 | G97: 1992 | H97: 1993 | I97: 1994 | J97: 1995 | K97: 1996 | L97: 1997 | M97: 1998 | N97: 1999 | O97: 2000 | P97: 2001 | Q97: 2002 | R97: 2003 | S97: 2004 | T97: 2005 | U97: 2006 | V97: 2007 | W97: 2008 | X97: 2009 | Y97: 2010 | Z97: 2011 | AA97: 2012 | AB97: 2013 | AC97: 2014 | AD97: 2015 | AE97: 2016 | AF97: 2017 | AG97: 2018 | AH97: 2019 | AI97: 2020 | AJ97: 2021 | AK97: 2022 | AL97: 2023 | AM97: 2024
D98: Byggeri CO2 (venstre akse) | E98: =E45 -> 9.5248605 | F98: =F45 -> 9.4790171 | G98: =G45 -> 9.4245809 | H98: =H45 -> 9.0954811 | I98: =I45 -> 9.2298172 | J98: =J45 -> 10.371994 | K98: =K45 -> 11.484918 | L98: =L45 -> 11.363867 | ... AM98: =AM45 -> 11.724739
D99: Byggeri andel af DK-CO2 (højre akse) | E99: =E92 -> 0.12375715 | F99: =F92 -> 0.11324713 | G99: =G92 -> 0.11843513 | H99: =H92 -> 0.11471101 | I99: =I92 -> 0.11004855 | J99: =J92 -> 0.11941489 | K99: =K92 -> 0.12627283 | L99: =L92 -> 0.13039312 | ... AM99: =AM92 -> 0.20216577
E121: =E97 -> 1990 | F121: =F97 -> 1991 | G121: =G97 -> 1992 | H121: =H97 -> 1993 | I121: =I97 -> 1994 | J121: =J97 -> 1995 | K121: =K97 -> 1996 | L121: =L97 -> 1997 | ... AM121: =AM97 -> 2024
D122: Slutudledninger | E122: =SUM(E16:E22) -> 7.296943 | F122: =SUM(F16:F22) -> 7.147117 | G122: =SUM(G16:G22) -> 7.039472 | H122: =SUM(H16:H22) -> 6.613531 | I122: =SUM(I16:I22) -> 6.5376346 | J122: =SUM(J16:J22) -> 7.4935273 | K122: =SUM(K16:K22) -> 8.363034 | L122: =SUM(L16:L22) -> 8.3255294 | ... AM122: =SUM(AM16:AM22) -> 8.1786788
D123: Inputudledninger | E123: =SUM(E23:E29) -> 2.2279175 | F123: =SUM(F23:F29) -> 2.3319001 | G123: =SUM(G23:G29) -> 2.3851089 | H123: =SUM(H23:H29) -> 2.4819501 | I123: =SUM(I23:I29) -> 2.6921826 | J123: =SUM(J23:J29) -> 2.8784668 | K123: =SUM(K23:K29) -> 3.1218842 | L123: =SUM(L23:L29) -> 3.0383371 | ... AM123: =SUM(AM23:AM29) -> 3.5460597
E124: =E123+E122 -> 9.5248605 | AM124: =AM123+AM122 -> 11.724739
AM125: =AM124/E124 -> 1.2309617
AK127: =AVERAGE(E122:AI122) -> 7.6635103
AK128: =AVERAGE(E123:AI123) -> 3.1302094 | AL128: =AK128/AK127 -> 0.40845634
D150: Andel af inputudledninger fra rep. og vedligeholde | E150: =E121 -> 1990 | F150: =F121 -> 1991 | G150: =G121 -> 1992 | H150: =H121 -> 1993 | I150: =I121 -> 1994 | J150: =J121 -> 1995 | K150: =K121 -> 1996 | L150: =L121 -> 1997 | ... AM150: =AM121 -> 2024
D151: Input rep. og vedligehold | E151: =SUM(E25:E28) -> 1.3515231 | F151: =SUM(F25:F28) -> 1.5398236 | G151: =SUM(G25:G28) -> 1.6428874 | H151: =SUM(H25:H28) -> 1.8399257 | I151: =SUM(I25:I28) -> 1.9931752 | J151: =SUM(J25:J28) -> 2.1680631 | K151: =SUM(K25:K28) -> 2.3718855 | L151: =SUM(L25:L28) -> 2.3229125 | ... AM151: =SUM(AM25:AM28) -> 2.9739494
D152: Input anlægsvirksomhed | E152: =E29 -> 0.87639438 | F152: =F29 -> 0.79207658 | G152: =G29 -> 0.7422215 | H152: =H29 -> 0.64202437 | I152: =I29 -> 0.69900748 | J152: =J29 -> 0.71040368 | K152: =K29 -> 0.74999861 | L152: =L29 -> 0.7154246 | ... AM152: =AM29 -> 0.57211031
D178: Bolig, andet byggeri og anlæg | E178: =E150 -> 1990 | F178: =F150 -> 1991 | G178: =G150 -> 1992 | H178: =H150 -> 1993 | I178: =I150 -> 1994 | J178: =J150 -> 1995 | K178: =K150 -> 1996 | L178: =L150 -> 1997 | ... AM178: =AM150 -> 2024
D179: Bolig | E179: =E37 -> 3.3368204 | F179: =F37 -> 3.2769014 | G179: =G37 -> 3.199322 | H179: =H37 -> 3.0823535 | I179: =I37 -> 3.3626144 | J179: =J37 -> 3.5548512 | K179: =K37 -> 3.8739363 | L179: =L37 -> 4.0957246 | ... AM179: =AM37 -> 3.6852042
D180: Øvrigt byggeri | E180: =E38 -> 2.7274387 | F180: =F38 -> 2.7700482 | G180: =G38 -> 2.7959174 | H180: =H38 -> 2.4320863 | I180: =I38 -> 2.4815703 | J180: =J38 -> 3.1262553 | K180: =K38 -> 3.5226972 | L180: =L38 -> 3.5168823 | ... AM180: =AM38 -> 4.483535
D181: Anlæg | E181: =E39 -> 3.4606014 | F181: =F39 -> 3.4320676 | G181: =G39 -> 3.4293415 | H181: =H39 -> 3.5810414 | I181: =I39 -> 3.3856325 | J181: =J39 -> 3.6908877 | K181: =K39 -> 4.0882846 | L181: =L39 -> 3.7512596 | ... AM181: =AM39 -> 3.5559993
D182: =D179 -> Bolig | E182: =E179/(SUM(E$179:E$181)) -> 0.35032748 | F182: =F179/(SUM(F$179:F$181)) -> 0.34570055 | G182: =G179/(SUM(G$179:G$181)) -> 0.33946571 | H182: =H179/(SUM(H$179:H$181)) -> 0.33888845 | I182: =I179/(SUM(I$179:I$181)) -> 0.3643208 | J182: =J179/(SUM(J$179:J$181)) -> 0.34273556 | K182: =K179/(SUM(K$179:K$181)) -> 0.3373064 | L182: =L179/(SUM(L$179:L$181)) -> 0.36041647 | ... AM182: =AM179/(SUM(AM$179:AM$181)) -> 0.31431014 | AO182: =AVERAGE(E182:AI182) -> 0.37567842
D183: =D180 -> Øvrigt byggeri | E183: =E180/(SUM(E$179:E$181)) -> 0.28634946 | F183: =F180/(SUM(F$179:F$181)) -> 0.29222947 | G183: =G180/(SUM(G$179:G$181)) -> 0.29666225 | H183: =H180/(SUM(H$179:H$181)) -> 0.26739501 | I183: =I180/(SUM(I$179:I$181)) -> 0.26886451 | J183: =J180/(SUM(J$179:J$181)) -> 0.30141313 | K183: =K180/(SUM(K$179:K$181)) -> 0.30672375 | L183: =L180/(SUM(L$179:L$181)) -> 0.30947937 | ... AM183: =AM180/(SUM(AM$179:AM$181)) -> 0.38239957 | AO183: =AVERAGE(E183:AI183) -> 0.32255655
D184: =D181 -> Anlæg | E184: =E181/(SUM(E$179:E$181)) -> 0.36332305 | F184: =F181/(SUM(F$179:F$181)) -> 0.36206998 | G184: =G181/(SUM(G$179:G$181)) -> 0.36387204 | H184: =H181/(SUM(H$179:H$181)) -> 0.39371654 | I184: =I181/(SUM(I$179:I$181)) -> 0.36681468 | J184: =J181/(SUM(J$179:J$181)) -> 0.35585131 | K184: =K181/(SUM(K$179:K$181)) -> 0.35596985 | L184: =L181/(SUM(L$179:L$181)) -> 0.33010416 | ... AM184: =AM181/(SUM(AM$179:AM$181)) -> 0.30329029 | AO184: =AVERAGE(E184:AI184) -> 0.30176504
E209: 1990 | F209: 1991 | G209: 1992 | H209: 1993 | I209: 1994 | J209: 1995 | K209: 1996 | L209: 1997 | M209: 1998 | N209: 1999 | O209: 2000 | P209: 2001 | Q209: 2002 | R209: 2003 | S209: 2004 | T209: 2005 | U209: 2006 | V209: 2007 | W209: 2008 | X209: 2009 | Y209: 2010 | Z209: 2011 | AA209: 2012 | AB209: 2013 | AC209: 2014 | AD209: 2015 | AE209: 2016 | AF209: 2017 | AG209: 2018 | AH209: 2019 | AI209: 2020 | AJ209: 2021 | AK209: 2022 | AL209: 2023 | AM209: 2024
D210: =D30 -> Nybyggeri, boligbyggeri | E210: =E30 -> 1.2841822 | F210: =F30 -> 1.0710866 | G210: =G30 -> 1.0059118 | H210: =H30 -> 0.80210874 | I210: =I30 -> 0.85739659 | J210: =J30 -> 1.0705099 | K210: =K30 -> 1.2194846 | ... AM210: =AM30 -> 0.99970417
...

Sheet Figur 3.7+3.8+3.14+5.1+5.2
A3: Måleenhed | B3: Udledningstype | C3: Fordelingstype | D3: Branche | E3: 1990 | F3: 1991 | G3: 1992 | H3: 1993 | I3: 1994 | J3: 1995 | K3: 1996 | L3: 1997 | M3: 1998 | N3: 1999 | O3: 2000 | P3: 2001 | Q3: 2002 | R3: 2003 | S3: 2004 | T3: 2005 | U3: 2006 | V3: 2007 | W3: 2008 | X3: 2009 | Y3: 2010 | Z3: 2011 | AA3: 2012 | AB3: 2013 | AC3: 2014 | AD3: 2015 | AE3: 2016 | AF3: 2017 | AG3: 2018 | AH3: 2019 | AI3: 2020 | AJ3: 2021 | AK3: 2022 | AL3: 2023 | AM3: 2024
A4: Mio. ton CO2e | B4: Slutudledninger | C4: Fordeling 1 - byggeriets 4 delbrancher | D4: =NAIO1!C3 -> Nybyggeri | E4: =NAIO1!D3 -> 3.013854 | F4: =NAIO1!E3 -> 2.703794 | G4: =NAIO1!F3 -> 2.539899 | H4: =NAIO1!G3 -> 1.978144 | I4: =NAIO1!H3 -> 1.992198 | J4: =NAIO1!I3 -> 2.495239 | K4: =NAIO1!J3 -> 2.914936 | ... AM4: =NAIO1!AL3 -> 3.003288
A5: Mio. ton CO2e | B5: Slutudledninger | C5: Fordeling 1 - byggeriets 4 delbrancher | D5: =NAIO1!C4 -> Anlægsvirksomhed | E5: =NAIO1!D4 -> 2.584207 | F5: =NAIO1!E4 -> 2.639991 | G5: =NAIO1!F4 -> 2.68712 | H5: =NAIO1!G4 -> 2.939017 | I5: =NAIO1!H4 -> 2.686625 | J5: =NAIO1!I4 -> 2.980484 | K5: =NAIO1!J4 -> 3.338286 | ... AM5: =NAIO1!AL4 -> 2.983889
A6: Mio. ton CO2e | B6: Slutudledninger | C6: Fordeling 1 - byggeriets 4 delbrancher | D6: =NAIO1!C5 -> Prof. rep. og vedl. | E6: =NAIO1!D5 -> 1.406667 | F6: =NAIO1!E5 -> 1.496197 | G6: =NAIO1!F5 -> 1.499194 | H6: =NAIO1!G5 -> 1.380038 | I6: =NAIO1!H5 -> 1.533843 | J6: =NAIO1!I5 -> 1.6491 | K6: =NAIO1!J5 -> 1.695171 | ... AM6: =NAIO1!AL5 -> 1.635947
A7: Mio. ton CO2e | B7: Slutudledninger | C7: Fordeling 1 - byggeriets 4 delbrancher | D7: =NAIO1!C6 -> Gør-det-selv rep. og vedl. | E7: =NAIO1!D6 -> 0.292215 | F7: =NAIO1!E6 -> 0.307135 | G7: =NAIO1!F6 -> 0.313259 | H7: =NAIO1!G6 -> 0.316332 | I7: =NAIO1!H6 -> 0.323923 | J7: =NAIO1!I6 -> 0.366077 | K7: =NAIO1!J6 -> 0.414641 | ... AM7: =NAIO1!AL6 -> 0.555546
A8: Mio. ton CO2e | B8: Input | C8: Fordeling 1 - byggeriets 4 delbrancher | D8: =D4 -> Nybyggeri | E8: =NAIO1!D18 -> 0 | F8: =NAIO1!E18 -> 0 | G8: =NAIO1!F18 -> 0 | H8: =NAIO1!G18 -> 0 | I8: =NAIO1!H18 -> 0.0010455526 | J8: =NAIO1!I18 -> 0.0026273158 | K8: =NAIO1!J18 -> 0 | L8: =NAIO1!K18 -> 0.00042339604 | ... AM8: =NAIO1!AL18 -> 8.8100057e-06
A9: Mio. ton CO2e | B9: Input | C9: Fordeling 1 - byggeriets 4 delbrancher | D9: =D5 -> Anlægsvirksomhed | E9: =NAIO1!D19 -> 0.87639438 | F9: =NAIO1!E19 -> 0.79207658 | G9: =NAIO1!F19 -> 0.7422215 | H9: =NAIO1!G19 -> 0.64202437 | I9: =NAIO1!H19 -> 0.69900748 | J9: =NAIO1!I19 -> 0.71040368 | K9: =NAIO1!J19 -> 0.74999861 | L9: =NAIO1!K19 -> 0.7154246 | ... AM9: =NAIO1!AL19 -> 0.57211031
A10: Mio. ton CO2e | B10: Input | C10: Fordeling 1 - byggeriets 4 delbrancher | D10: =D6 -> Prof. rep. og vedl. | E10: =NAIO1!D20 -> 0.74347412 | F10: =NAIO1!E20 -> 0.82777101 | G10: =NAIO1!F20 -> 0.84763937 | H10: =NAIO1!G20 -> 0.90025033 | I10: =NAIO1!H20 -> 0.97056636 | J10: =NAIO1!I20 -> 1.0009808 | K10: =NAIO1!J20 -> 1.0568796 | L10: =NAIO1!K20 -> 1.056011 | ... AM10: =NAIO1!AL20 -> 1.2759231
A11: Mio. ton CO2e | B11: Input | C11: Fordeling 1 - byggeriets 4 delbrancher | D11: =D7 -> Gør-det-selv rep. og vedl. | E11: =NAIO1!D21 -> 0.60804895 | F11: =NAIO1!E21 -> 0.71205254 | G11: =NAIO1!F21 -> 0.79524807 | H11: =NAIO1!G21 -> 0.9396754 | I11: =NAIO1!H21 -> 1.0226088 | J11: =NAIO1!I21 -> 1.1670823 | K11: =NAIO1!J21 -> 1.3150059 | L11: =NAIO1!K21 -> 1.2669015 | ... AM11: =NAIO1!AL21 -> 1.6980263
A12: Mio. ton CO2e | B12: Slut- og inputudledninger | C12: Fordeling 1 - byggeriets 4 delbrancher | D12: =D8 -> Nybyggeri | E12: =NAIO1!D23 -> 3.013854 | F12: =NAIO1!E23 -> 2.703794 | G12: =NAIO1!F23 -> 2.539899 | H12: =NAIO1!G23 -> 1.978144 | I12: =NAIO1!H23 -> 1.9932436 | J12: =NAIO1!I23 -> 2.4978663 | K12: =NAIO1!J23 -> 2.914936 | L12: =NAIO1!K23 -> 3.1846584 | ... AM12: =NAIO1!AL23 -> 3.0032968
A13: Mio. ton CO2e | B13: Slut- og inputudledninger | C13: Fordeling 1 - byggeriets 4 delbrancher | D13: =D9 -> Anlægsvirksomhed | E13: =NAIO1!D24 -> 3.4606014 | F13: =NAIO1!E24 -> 3.4320676 | G13: =NAIO1!F24 -> 3.4293415 | H13: =NAIO1!G24 -> 3.5810414 | I13: =NAIO1!H24 -> 3.3856325 | J13: =NAIO1!I24 -> 3.6908877 | K13: =NAIO1!J24 -> 4.0882846 | L13: =NAIO1!K24 -> 3.7512596 | ... AM13: =NAIO1!AL24 -> 3.5559993
A14: Mio. ton CO2e | B14: Slut- og inputudledninger | C14: Fordeling 1 - byggeriets 4 delbrancher | D14: =D10 -> Prof. rep. og vedl. | E14: =NAIO1!D25 -> 2.1501411 | F14: =NAIO1!E25 -> 2.323968 | G14: =NAIO1!F25 -> 2.3468334 | H14: =NAIO1!G25 -> 2.2802883 | I14: =NAIO1!H25 -> 2.5044094 | J14: =NAIO1!I25 -> 2.6500808 | K14: =NAIO1!J25 -> 2.7520506 | L14: =NAIO1!K25 -> 2.71914 | ... AM14: =NAIO1!AL25 -> 2.9118701
A15: Mio. ton CO2e | B15: Slut- og inputudledninger | C15: Fordeling 1 - byggeriets 4 delbrancher | D15: =D11 -> Gør-det-selv rep. og vedl. | E15: =NAIO1!D26 -> 0.90026395 | F15: =NAIO1!E26 -> 1.0191875 | G15: =NAIO1!F26 -> 1.1085071 | H15: =NAIO1!G26 -> 1.2560074 | I15: =NAIO1!H26 -> 1.3465318 | J15: =NAIO1!I26 -> 1.5331593 | K15: =NAIO1!J26 -> 1.7296469 | L15: =NAIO1!K26 -> 1.7088085 | ... AM15: =NAIO1!AL26 -> 2.2535723
A16: Mio. ton CO2e | B16: Slutudledninger | C16: Fordeling 2 (boligbyggeri vs. øvrigt byggeri) | D16: =D30 -> Nybyggeri, boligbyggeri | E16: =NAIO1!D29 -> 1.2841822 | F16: =NAIO1!E29 -> 1.0710866 | G16: =NAIO1!F29 -> 1.0059118 | H16: =NAIO1!G29 -> 0.80210874 | I16: =NAIO1!H29 -> 0.85739659 | J16: =NAIO1!I29 -> 1.0705099 | K16: =NAIO1!J29 -> 1.2194846 | L16: =NAIO1!K29 -> 1.3905164 | ... AM16: =NAIO1!AL29 -> 0.99970417
A17: Mio. ton CO2e | B17: Slutudledninger | C17: Fordeling 2 (boligbyggeri vs. øvrigt byggeri) | D17: =D31 -> Nybyggeri, øvrigt byggeri | E17: =NAIO1!D30 -> 1.7296718 | F17: =NAIO1!E30 -> 1.6327074 | G17: =NAIO1!F30 -> 1.5339872 | H17: =NAIO1!G30 -> 1.1760353 | I17: =NAIO1!H30 -> 1.135847 | J17: =NAIO1!I30 -> 1.4273564 | K17: =NAIO1!J30 -> 1.6954514 | L17: =NAIO1!K30 -> 1.794142 | ... AM17: =NAIO1!AL30 -> 2.0035926
A18: Mio. ton CO2e | B18: Slutudledninger | C18: Fordeling 2 (boligbyggeri vs. øvrigt byggeri) | D18: =D32 -> R&V, prof, boligbyggeri | E18: =NAIO1!D32 -> 0.97366084 | F18: =NAIO1!E32 -> 1.0324962 | G18: =NAIO1!F32 -> 1.0045535 | H18: =NAIO1!G32 -> 1.0162777 | I18: =NAIO1!H32 -> 1.164739 | J18: =NAIO1!I32 -> 1.1985017 | K18: =NAIO1!J32 -> 1.1828447 | L18: =NAIO1!K32 -> 1.0919566 | ... AM18: =NAIO1!AL32 -> 1.3114822
A19: Mio. ton CO2e | B19: Slutudledninger | C19: Fordeling 2 (boligbyggeri vs. øvrigt byggeri) | D19: =D33 -> R&V, prof, øvrigt byggeri | E19: =NAIO1!D33 -> 0.43300616 | F19: =NAIO1!E33 -> 0.46370082 | G19: =NAIO1!F33 -> 0.49464053 | H19: =NAIO1!G33 -> 0.3637603 | I19: =NAIO1!H33 -> 0.36910395 | J19: =NAIO1!I33 -> 0.45059834 | K19: =NAIO1!J33 -> 0.51232633 | L19: =NAIO1!K33 -> 0.57117242 | ... AM19: =NAIO1!AL33 -> 0.32446479
A20: Mio. ton CO2e | B20: Slutudledninger | C20: Fordeling 2 (boligbyggeri vs. øvrigt byggeri) | D20: =D34 -> R&V, gør-det-selv, boligbyggeri | E20: =NAIO1!D34 -> 0.28675382 | F20: =NAIO1!E34 -> 0.29891403 | G20: =NAIO1!F34 -> 0.30385283 | H20: =NAIO1!G34 -> 0.30522888 | I20: =NAIO1!H34 -> 0.31206216 | J20: =NAIO1!I34 -> 0.35394709 | K20: =NAIO1!J34 -> 0.40174467 | L20: =NAIO1!K34 -> 0.43057644 | ... AM20: =NAIO1!AL34 -> 0.54899391
A21: Mio. ton CO2e | B21: Slutudledninger | C21: Fordeling 2 (boligbyggeri vs. øvrigt byggeri) | D21: =D35 -> R&V, gør-det-selv, øvrigt byggeri | E21: =NAIO1!D35 -> 0.0054611827 | F21: =NAIO1!E35 -> 0.0082209657 | G21: =NAIO1!F35 -> 0.0094061744 | H21: =NAIO1!G35 -> 0.011103123 | I21: =NAIO1!H35 -> 0.011860844 | J21: =NAIO1!I35 -> 0.012129912 | K21: =NAIO1!J35 -> 0.01289633 | L21: =NAIO1!K35 -> 0.011330556 | ... AM21: =NAIO1!AL35 -> 0.0065520909
A22: Mio. ton CO2e | B22: Slutudledninger | C22: Fordeling 2 (boligbyggeri vs. øvrigt byggeri) | D22: =D36 -> Anlægsvirksomhed | E22: =NAIO1!D31 -> 2.584207 | F22: =NAIO1!E31 -> 2.639991 | G22: =NAIO1!F31 -> 2.68712 | H22: =NAIO1!G31 -> 2.939017 | I22: =NAIO1!H31 -> 2.686625 | J22: =NAIO1!I31 -> 2.980484 | K22: =NAIO1!J31 -> 3.338286 | L22: =NAIO1!K31 -> 3.035835 | ... AM22: =NAIO1!AL31 -> 2.983889
A23: Mio. ton CO2e | B23: Input | C23: Fordeling 2 (boligbyggeri vs. øvrigt byggeri) | D23: =D30 -> Nybyggeri, boligbyggeri | E23: 0 | F23: 0 | G23: 0 | H23: 0 | I23: 0 | J23: 0 | K23: 0 | L23: 0 | M23: 0 | N23: 0 | O23: 0 | P23: 0 | Q23: 0 | R23: 0 | S23: 0 | T23: 0 | U23: 0 | V23: 0 | W23: 0 | X23: 0 | Y23: 0 | Z23: 0 | AA23: 0 | AB23: 0 | AC23: 0 | AD23: 0 | AE23: 0 | AF23: 0 | AG23: 0 | AH23: 0 | AI23: 0 | AJ23: 0 | AK23: 0 | AL23: 0 | AM23: 0
A24: Mio. ton CO2e | B24: Input | C24: Fordeling 2 (boligbyggeri vs. øvrigt byggeri) | D24: =D31 -> Nybyggeri, øvrigt byggeri | E24: 0 | F24: 0 | G24: 0 | H24: 0 | I24: 0 | J24: 0 | K24: 0 | L24: 0 | M24: 0 | N24: 0 | O24: 0 | P24: 0 | Q24: 0 | R24: 0 | S24: 0 | T24: 0 | U24: 0 | V24: 0 | W24: 0 | X24: 0 | Y24: 0 | Z24: 0 | AA24: 0 | AB24: 0 | AC24: 0 | AD24: 0 | AE24: 0 | AF24: 0 | AG24: 0 | AH24: 0 | AI24: 0 | AJ24: 0 | AK24: 0 | AL24: 0 | AM24: 0
A25: Mio. ton CO2e | B25: Input | C25: Fordeling 2 (boligbyggeri vs. øvrigt byggeri) | D25: =D32 -> R&V, prof, boligbyggeri | E25: =NAIO1!D36 -> 0.44851093 | F25: =NAIO1!E36 -> 0.48186565 | G25: =NAIO1!F36 -> 0.46799242 | H25: =NAIO1!G36 -> 0.47994204 | I25: =NAIO1!H36 -> 0.51113332 | J25: =NAIO1!I36 -> 0.44376984 | K25: =NAIO1!J36 -> 0.48962639 | L25: =NAIO1!K36 -> 0.54649479 | ... AM25: =NAIO1!AL36 -> 0.35794536
A26: Mio. ton CO2e | B26: Input | C26: Fordeling 2 (boligbyggeri vs. øvrigt byggeri) | D26: =D33 -> R&V, prof, øvrigt byggeri | E26: =NAIO1!D37 -> 0.29496319 | F26: =NAIO1!E37 -> 0.34590536 | G26: =NAIO1!F37 -> 0.37964695 | H26: =NAIO1!G37 -> 0.42030828 | I26: =NAIO1!H37 -> 0.45943304 | J26: =NAIO1!I37 -> 0.55721099 | K26: =NAIO1!J37 -> 0.56725321 | L26: =NAIO1!K37 -> 0.50951622 | ... AM26: =NAIO1!AL37 -> 0.91797777
A27: Mio. ton CO2e | B27: Input | C27: Fordeling 2 (boligbyggeri vs. øvrigt byggeri) | D27: =D34 -> R&V, gør-det-selv, boligbyggeri | E27: =NAIO1!D38 -> 0.34371257 | F27: =NAIO1!E38 -> 0.39253895 | G27: =NAIO1!F38 -> 0.41701154 | H27: =NAIO1!G38 -> 0.47879609 | I27: =NAIO1!H38 -> 0.51728329 | J27: =NAIO1!I38 -> 0.48812269 | K27: =NAIO1!J38 -> 0.58023606 | L27: =NAIO1!K38 -> 0.63618038 | ... AM27: =NAIO1!AL38 -> 0.46707859
A28: Mio. ton CO2e | B28: Input | C28: Fordeling 2 (boligbyggeri vs. øvrigt byggeri) | D28: =D35 -> R&V, gør-det-selv, øvrigt byggeri | E28: =NAIO1!D39 -> 0.26433638 | F28: =NAIO1!E39 -> 0.31951359 | G28: =NAIO1!F39 -> 0.37823653 | H28: =NAIO1!G39 -> 0.46087931 | I28: =NAIO1!H39 -> 0.50532552 | J28: =NAIO1!I39 -> 0.67895957 | K28: =NAIO1!J39 -> 0.73476988 | L28: =NAIO1!K39 -> 0.63072113 | ... AM28: =NAIO1!AL39 -> 1.2309477
A29: Mio. ton CO2e | B29: Input | C29: Fordeling 2 (boligbyggeri vs. øvrigt byggeri) | D29: =D36 -> Anlægsvirksomhed | E29: =NAIO1!D40 -> 0.87639438 | F29: =NAIO1!E40 -> 0.79207658 | G29: =NAIO1!F40 -> 0.7422215 | H29: =NAIO1!G40 -> 0.64202437 | I29: =NAIO1!H40 -> 0.69900748 | J29: =NAIO1!I40 -> 0.71040368 | K29: =NAIO1!J40 -> 0.74999861 | L29: =NAIO1!K40 -> 0.7154246 | ... AM29: =NAIO1!AL40 -> 0.57211031
A30: Mio. ton CO2e | B30: Slut- og inputudledninger | C30: Fordeling 2 (boligbyggeri vs. øvrigt byggeri) | D30: =NAIO1!C43 -> Nybyggeri, boligbyggeri | E30: =NAIO1!D43 -> 1.2841822 | F30: =NAIO1!E43 -> 1.0710866 | G30: =NAIO1!F43 -> 1.0059118 | H30: =NAIO1!G43 -> 0.80210874 | I30: =NAIO1!H43 -> 0.85739659 | J30: =NAIO1!I43 -> 1.0705099 | K30: =NAIO1!J43 -> 1.2194846 | ... AM30: =NAIO1!AL43 -> 0.99970417
A31: Mio. ton CO2e | B31: Slut- og inputudledninger | C31: Fordeling 2 (boligbyggeri vs. øvrigt byggeri) | D31: =NAIO1!C44 -> Nybyggeri, øvrigt byggeri | E31: =NAIO1!D44 -> 1.7296718 | F31: =NAIO1!E44 -> 1.6327074 | G31: =NAIO1!F44 -> 1.5339872 | H31: =NAIO1!G44 -> 1.1760353 | I31: =NAIO1!H44 -> 1.135847 | J31: =NAIO1!I44 -> 1.4273564 | K31: =NAIO1!J44 -> 1.6954514 | ... AM31: =NAIO1!AL44 -> 2.0035926
A32: Mio. ton CO2e | B32: Slut- og inputudledninger | C32: Fordeling 2 (boligbyggeri vs. øvrigt byggeri) | D32: =NAIO1!C42 -> R&V, prof, boligbyggeri | E32: =NAIO1!D42 -> 1.4221718 | F32: =NAIO1!E42 -> 1.5143618 | G32: =NAIO1!F42 -> 1.4725459 | H32: =NAIO1!G42 -> 1.4962197 | I32: =NAIO1!H42 -> 1.6758724 | J32: =NAIO1!I42 -> 1.6422715 | K32: =NAIO1!J42 -> 1.6724711 | ... AM32: =NAIO1!AL42 -> 1.6694276
A33: Mio. ton CO2e | B33: Slut- og inputudledninger | C33: Fordeling 2 (boligbyggeri vs. øvrigt byggeri) | D33: =NAIO1!C46 -> R&V, prof, øvrigt byggeri | E33: =NAIO1!D46 -> 0.72796935 | F33: =NAIO1!E46 -> 0.80960618 | G33: =NAIO1!F46 -> 0.87428748 | H33: =NAIO1!G46 -> 0.78406858 | I33: =NAIO1!H46 -> 0.82853699 | J33: =NAIO1!I46 -> 1.0078093 | K33: =NAIO1!J46 -> 1.0795795 | ... AM33: =NAIO1!AL46 -> 1.2424426
A34: Mio. ton CO2e | B34: Slut- og inputudledninger | C34: Fordeling 2 (boligbyggeri vs. øvrigt byggeri) | D34: =NAIO1!C41 -> R&V, gør-det-selv, boligbyggeri | E34: =NAIO1!D41 -> 0.63046638 | F34: =NAIO1!E41 -> 0.69145299 | G34: =NAIO1!F41 -> 0.72086436 | H34: =NAIO1!G41 -> 0.78402497 | I34: =NAIO1!H41 -> 0.82934545 | J34: =NAIO1!I41 -> 0.84206978 | K34: =NAIO1!J41 -> 0.98198073 | ... AM34: =NAIO1!AL41 -> 1.0160725
A35: Mio. ton CO2e | B35: Slut- og inputudledninger | C35: Fordeling 2 (boligbyggeri vs. øvrigt byggeri) | D35: =NAIO1!C45 -> R&V, gør-det-selv, øvrigt byggeri | E35: =NAIO1!D45 -> 0.26979756 | F35: =NAIO1!E45 -> 0.32773455 | G35: =NAIO1!F45 -> 0.38764271 | H35: =NAIO1!G45 -> 0.47198243 | I35: =NAIO1!H45 -> 0.51718636 | J35: =NAIO1!I45 -> 0.69108948 | K35: =NAIO1!J45 -> 0.74766621 | ... AM35: =NAIO1!AL45 -> 1.2374998
A36: Mio. ton CO2e | B36: Slut- og inputudledninger | C36: Fordeling 2 (boligbyggeri vs. øvrigt byggeri) | D36: =NAIO1!C47 -> Anlægsvirksomhed | E36: =NAIO1!D47 -> 3.4606014 | F36: =NAIO1!E47 -> 3.4320676 | G36: =NAIO1!F47 -> 3.4293415 | H36: =NAIO1!G47 -> 3.5810414 | I36: =NAIO1!H47 -> 3.3856325 | J36: =NAIO1!I47 -> 3.6908877 | K36: =NAIO1!J47 -> 4.0882846 | ... AM36: =NAIO1!AL47 -> 3.5559993
A37: Mio. ton CO2e | B37: Slut- og inputudledninger | C37: Fordeling 3 boligbyggeri vs. øvrigt byggeri - i alt | D37: =NAIO1!C48 -> Boligbyggeri i alt | E37: =NAIO1!D48 -> 3.3368204 | F37: =NAIO1!E48 -> 3.2769014 | G37: =NAIO1!F48 -> 3.199322 | H37: =NAIO1!G48 -> 3.0823535 | I37: =NAIO1!H48 -> 3.3626144 | J37: =NAIO1!I48 -> 3.5548512 | K37: =NAIO1!J48 -> 3.8739363 | ... AM37: =NAIO1!AL48 -> 3.6852042
A38: Mio. ton CO2e | B38: Slut- og inputudledninger | C38: Fordeling 3 boligbyggeri vs. øvrigt byggeri - i alt | D38: =NAIO1!C49 -> Øvrigt byggeri i alt | E38: =NAIO1!D49 -> 2.7274387 | F38: =NAIO1!E49 -> 2.7700482 | G38: =NAIO1!F49 -> 2.7959174 | H38: =NAIO1!G49 -> 2.4320863 | I38: =NAIO1!H49 -> 2.4815703 | J38: =NAIO1!I49 -> 3.1262553 | K38: =NAIO1!J49 -> 3.5226972 | ... AM38: =NAIO1!AL49 -> 4.483535
A39: Mio. ton CO2e | B39: Slut- og inputudledninger | C39: Fordeling 3 boligbyggeri vs. øvrigt byggeri - i alt | D39: =NAIO1!C50 -> Anlægsvirksomhed | E39: =NAIO1!D50 -> 3.4606014 | F39: =NAIO1!E50 -> 3.4320676 | G39: =NAIO1!F50 -> 3.4293415 | H39: =NAIO1!G50 -> 3.5810414 | I39: =NAIO1!H50 -> 3.3856325 | J39: =NAIO1!I50 -> 3.6908877 | K39: =NAIO1!J50 -> 4.0882846 | ... AM39: =NAIO1!AL50 -> 3.5559993
A40: Mio. ton CO2e | B40: Slut- og inputudledninger | C40: Fordeling 4 byggeritype og Rep. og vedligehold | D40: =NAIO1!C51 -> R&V-boligbyggeri | E40: =NAIO1!D51 -> 2.0526382 | F40: =NAIO1!E51 -> 2.2058148 | G40: =NAIO1!F51 -> 2.1934103 | H40: =NAIO1!G51 -> 2.2802447 | I40: =NAIO1!H51 -> 2.5052178 | J40: =NAIO1!I51 -> 2.4843413 | K40: =NAIO1!J51 -> 2.6544518 | ... AM40: =NAIO1!AL51 -> 2.6855001
A41: Mio. ton CO2e | B41: Slut- og inputudledninger | C41: Fordeling 4 byggeritype og Rep. og vedligehold | D41: =NAIO1!C52 -> R&V-øvrigt byggeri | E41: =NAIO1!D52 -> 0.99776691 | F41: =NAIO1!E52 -> 1.1373407 | G41: =NAIO1!F52 -> 1.2619302 | H41: =NAIO1!G52 -> 1.256051 | I41: =NAIO1!H52 -> 1.3457233 | J41: =NAIO1!I52 -> 1.6988988 | K41: =NAIO1!J52 -> 1.8272458 | ... AM41: =NAIO1!AL52 -> 2.4799423
A42: Mio. ton CO2e | B42: Slut- og inputudledninger | C42: Fordeling 4 byggeritype og Rep. og vedligehold | D42: =NAIO1!C53 -> Nybyggeri boligbyggeri | E42: =NAIO1!D53 -> 1.2841822 | F42: =NAIO1!E53 -> 1.0710866 | G42: =NAIO1!F53 -> 1.0059118 | H42: =NAIO1!G53 -> 0.80210874 | I42: =NAIO1!H53 -> 0.85739659 | J42: =NAIO1!I53 -> 1.0705099 | K42: =NAIO1!J53 -> 1.2194846 | ... AM42: =NAIO1!AL53 -> 0.99970417
A43: Mio. ton CO2e | B43: Slut- og inputudledninger | C43: Fordeling 4 byggeritype og Rep. og vedligehold | D43: =NAIO1!C54 -> Nybyggeri øvrigt byggeri | E43: =NAIO1!D54 -> 1.7296718 | F43: =NAIO1!E54 -> 1.6327074 | G43: =NAIO1!F54 -> 1.5339872 | H43: =NAIO1!G54 -> 1.1760353 | I43: =NAIO1!H54 -> 1.135847 | J43: =NAIO1!I54 -> 1.4273564 | K43: =NAIO1!J54 -> 1.6954514 | ... AM43: =NAIO1!AL54 -> 2.0035926
A44: Mio. ton CO2e | B44: Slut- og inputudledninger | C44: Fordeling 4 byggeritype og Rep. og vedligehold | D44: =NAIO1!C55 -> Anlægsvirksomhed | E44: =NAIO1!D55 -> 3.4606014 | F44: =NAIO1!E55 -> 3.4320676 | G44: =NAIO1!F55 -> 3.4293415 | H44: =NAIO1!G55 -> 3.5810414 | I44: =NAIO1!H55 -> 3.3856325 | J44: =NAIO1!I55 -> 3.6908877 | K44: =NAIO1!J55 -> 4.0882846 | ... AM44: =NAIO1!AL55 -> 3.5559993
A45: Mio. ton CO2e | B45: Slut- og inputudledninger | C45: Størrelser i alt | D45: Byggeri i alt | E45: =NAIO1!D27 -> 9.5248605 | F45: =NAIO1!E27 -> 9.4790171 | G45: =NAIO1!F27 -> 9.4245809 | H45: =NAIO1!G27 -> 9.0954811 | I45: =NAIO1!H27 -> 9.2298172 | J45: =NAIO1!I27 -> 10.371994 | K45: =NAIO1!J27 -> 11.484918 | L45: =NAIO1!K27 -> 11.363867 | ... AM45: =NAIO1!AL27 -> 11.724739
A46: Mio. ton CO2e | B46: Slut- og inputudledninger | C46: Størrelser i alt | D46: Energi husholdninger | E46: =NAIO1!D107 -> 20.252566 | F46: =NAIO1!E107 -> 23.801924 | G46: =NAIO1!F107 -> 20.985409 | H46: =NAIO1!G107 -> 23.065295 | I46: =NAIO1!H107 -> 23.448611 | J46: =NAIO1!I107 -> 21.728387 | K46: =NAIO1!J107 -> 24.780852 | L46: =NAIO1!K107 -> 21.850029 | ... AM46: =NAIO1!AL107 -> 5.439888
A47: Mio. ton CO2e | B47: Slut- og inputudledninger | C47: Størrelser i alt | D47: Byggeri+Energi fra husholdninger | E47: =E45+E46 -> 29.777426 | F47: =F45+F46 -> 33.280941 | G47: =G45+G46 -> 30.40999 | H47: =H45+H46 -> 32.160776 | I47: =I45+I46 -> 32.678428 | J47: =J45+J46 -> 32.100381 | K47: =K45+K46 -> 36.26577 | L47: =L45+L46 -> 33.213896 | ... AM47: =AM45+AM46 -> 17.164627
A48: Mio. ton CO2e | B48: Slut- og inputudledninger | C48: Størrelser i alt | D48: CO2e i alt i Danmark | E48: =NAIO1!D94 -> 76.964123 | F48: =NAIO1!E94 -> 83.702049 | G48: =NAIO1!F94 -> 79.575888 | H48: =NAIO1!G94 -> 79.290391 | I48: =NAIO1!H94 -> 83.870415 | J48: =NAIO1!I94 -> 86.856791 | K48: =NAIO1!J94 -> 90.953205 | L48: =NAIO1!K94 -> 87.150812 | ... AM48: =NAIO1!AL94 -> 57.995667
E50: =E3 -> 1990 | F50: =F3 -> 1991 | G50: =G3 -> 1992 | H50: =H3 -> 1993 | I50: =I3 -> 1994 | J50: =J3 -> 1995 | K50: =K3 -> 1996 | L50: =L3 -> 1997 | ... AM50: =AM3 -> 2024
A51: Pct. | B51: Slutudledninger | C51: Fordeling 1 - byggeriets 4 delbrancher | D51: =D4 -> Nybyggeri | E51: =E4/E$48 -> 0.039159207 | F51: =F4/F$48 -> 0.032302602 | G51: =G4/G$48 -> 0.031917947 | H51: =H4/H$48 -> 0.024948092 | I51: =I4/I$48 -> 0.023753287 | J51: =J4/J$48 -> 0.028728197 | K51: =K4/K$48 -> 0.032048744 | L51: =L4/L$48 -> 0.036537066 | ... AM51: =AM4/AM$48 -> 0.051784696
A52: Pct. | B52: Slutudledninger | C52: Fordeling 1 - byggeriets 4 delbrancher | D52: =D5 -> Anlægsvirksomhed | E52: =E5/E$48 -> 0.033576774 | F52: =F5/F$48 -> 0.031540339 | G52: =G5/G$48 -> 0.033768018 | H52: =H5/H$48 -> 0.037066496 | I52: =I5/I$48 -> 0.032033048 | J52: =J5/J$48 -> 0.034314922 | K52: =K5/K$48 -> 0.036703336 | L52: =L5/L$48 -> 0.034834271 | ... AM52: =AM5/AM$48 -> 0.051450206
A53: Pct. | B53: Slutudledninger | C53: Fordeling 1 - byggeriets 4 delbrancher | D53: =D6 -> Prof. rep. og vedl. | E53: =E6/E$48 -> 0.018276918 | F53: =F6/F$48 -> 0.017875273 | G53: =G6/G$48 -> 0.018839802 | H53: =H6/H$48 -> 0.017404858 | I53: =I6/I$48 -> 0.018288249 | J53: =J6/J$48 -> 0.018986426 | K53: =K6/K$48 -> 0.018637837 | L53: =L6/L$48 -> 0.019083345 | ... AM53: =AM6/AM$48 -> 0.02820809
A54: Pct. | B54: Slutudledninger | C54: Fordeling 1 - byggeriets 4 delbrancher | D54: =D7 -> Gør-det-selv rep. og vedl. | E54: =E7/E$48 -> 0.003796769 | F54: =F7/F$48 -> 0.0036693845 | G54: =G7/G$48 -> 0.003936607 | H54: =H7/H$48 -> 0.0039895376 | I54: =I7/I$48 -> 0.0038621843 | J54: =J7/J$48 -> 0.0042147194 | K54: =K7/K$48 -> 0.0045588388 | L54: =L7/L$48 -> 0.0050706011 | ... AM54: =AM7/AM$48 -> 0.0095790949
A55: Pct. | B55: Input | C55: Fordeling 1 - byggeriets 4 delbrancher | D55: =D8 -> Nybyggeri | E55: =E8/E$48 -> 0 | F55: =F8/F$48 -> 0 | G55: =G8/G$48 -> 0 | H55: =H8/H$48 -> 0 | I55: =I8/I$48 -> 1.2466286e-05 | J55: =J8/J$48 -> 3.0248825e-05 | K55: =K8/K$48 -> 0 | L55: =L8/L$48 -> 4.8581996e-06 | ... AM55: =AM8/AM$48 -> 1.51908e-07
A56: Pct. | B56: Input | C56: Fordeling 1 - byggeriets 4 delbrancher | D56: =D9 -> Anlægsvirksomhed | E56: =E9/E$48 -> 0.011387051 | F56: =F9/F$48 -> 0.0094630489 | G56: =G9/G$48 -> 0.009327216 | H56: =H9/H$48 -> 0.0080971271 | I56: =I9/I$48 -> 0.0083343749 | J56: =J9/J$48 -> 0.0081790229 | K56: =K9/K$48 -> 0.0082459833 | L56: =L9/L$48 -> 0.0082090411 | ... AM56: =AM9/AM$48 -> 0.0098647079
A57: Pct. | B57: Input | C57: Fordeling 1 - byggeriets 4 delbrancher | D57: =D10 -> Prof. rep. og vedl. | E57: =E10/E$48 -> 0.009660009 | F57: =F10/F$48 -> 0.0098894952 | G57: =G10/G$48 -> 0.010651962 | H57: =H10/H$48 -> 0.011353839 | I57: =I10/I$48 -> 0.011572214 | J57: =J10/J$48 -> 0.011524497 | K57: =K10/K$48 -> 0.011620037 | L57: =L10/L$48 -> 0.012117053 | ... AM57: =AM10/AM$48 -> 0.022000318
A58: Pct. | B58: Input | C58: Fordeling 1 - byggeriets 4 delbrancher | D58: =D11 -> Gør-det-selv rep. og vedl. | E58: =E11/E$48 -> 0.0079004207 | F58: =F11/F$48 -> 0.0085069906 | G58: =G11/G$48 -> 0.0099935808 | H58: =H11/H$48 -> 0.011851063 | I58: =I11/I$48 -> 0.012192724 | J58: =J11/J$48 -> 0.013436857 | K58: =K11/K$48 -> 0.01445805 | L58: =L11/L$48 -> 0.014536887 | ... AM58: =AM11/AM$48 -> 0.029278502
A59: Pct. | B59: Slut- og inputudledninger | C59: Fordeling 1 - byggeriets 4 delbrancher | D59: =D12 -> Nybyggeri | E59: =E12/E$48 -> 0.039159207 | F59: =F12/F$48 -> 0.032302602 | G59: =G12/G$48 -> 0.031917947 | H59: =H12/H$48 -> 0.024948092 | I59: =I12/I$48 -> 0.023765753 | J59: =J12/J$48 -> 0.028758446 | K59: =K12/K$48 -> 0.032048744 | L59: =L12/L$48 -> 0.036541925 | ... AM59: =AM12/AM$48 -> 0.051784848
A60: Pct. | B60: Slut- og inputudledninger | C60: Fordeling 1 - byggeriets 4 delbrancher | D60: =D13 -> Anlægsvirksomhed | E60: =E13/E$48 -> 0.044963825 | F60: =F13/F$48 -> 0.041003388 | G60: =G13/G$48 -> 0.043095234 | H60: =H13/H$48 -> 0.045163624 | I60: =I13/I$48 -> 0.040367423 | J60: =J13/J$48 -> 0.042493945 | K60: =K13/K$48 -> 0.044949319 | L60: =L13/L$48 -> 0.043043312 | ... AM60: =AM13/AM$48 -> 0.061314914
A61: Pct. | B61: Slut- og inputudledninger | C61: Fordeling 1 - byggeriets 4 delbrancher | D61: =D14 -> Prof. rep. og vedl. | E61: =E14/E$48 -> 0.027936927 | F61: =F14/F$48 -> 0.027764768 | G61: =G14/G$48 -> 0.029491765 | H61: =H14/H$48 -> 0.028758697 | I61: =I14/I$48 -> 0.029860462 | J61: =J14/J$48 -> 0.030510923 | K61: =K14/K$48 -> 0.030257874 | L61: =L14/L$48 -> 0.031200398 | ... AM61: =AM14/AM$48 -> 0.050208408
A62: Pct. | B62: Slut- og inputudledninger | C62: Fordeling 1 - byggeriets 4 delbrancher | D62: =D15 -> Gør-det-selv rep. og vedl. | E62: =E15/E$48 -> 0.01169719 | F62: =F15/F$48 -> 0.012176375 | G62: =G15/G$48 -> 0.013930188 | H62: =H15/H$48 -> 0.0158406 | I62: =I15/I$48 -> 0.016054908 | J62: =J15/J$48 -> 0.017651576 | K62: =K15/K$48 -> 0.019016888 | L62: =L15/L$48 -> 0.019607488 | ... AM62: =AM15/AM$48 -> 0.038857597
... A69: Pct. | B69: Slutudledninger | C69: Fordeling 2 (boligbyggeri vs. øvrigt byggeri) | D69: =D22 -> Anlægsvirksomhed | E69: =E22/E$48 -> 0.033576774 | F69: =F22/F$48 -> 0.031540339 | G69: =G22/G$48 -> 0.033768018 | H69: =H22/H$48 -> 0.037066496 | I69: =I22/I$48 -> 0.032033048 | J69: =J22/J$48 -> 0.034314922 | K69: =K22/K$48 -> 0.036703336 | L69: =L22/L$48 -> 0.034834271 | ... AM69: =AM22/AM$48 -> 0.051450206
A70: Pct. | B70: Input | C70: Fordeling 2 (boligbyggeri vs. øvrigt byggeri) | D70: =D23 -> Nybyggeri, boligbyggeri | E70: 0 | F70: 0 | G70: 0 | H70: 0 | I70: 0 | J70: 0 | K70: 0 | L70: 0 | M70: 0 | N70: 0 | O70: 0 | P70: 0 | Q70: 0 | R70: 0 | S70: 0 | T70: 0 | U70: 0 | V70: 0 | W70: 0 | X70: 0 | Y70: 0 | Z70: 0 | AA70: 0 | AB70: 0 | AC70: 0 | AD70: 0 | AE70: 0 | AF70: 0 | AG70: 0 | AH70: 0 | AI70: 0 | AJ70: 0 | AK70: 0 | AL70: 0 | AM70: 0
A71: Pct. | B71: Input | C71: Fordeling 2 (boligbyggeri vs. øvrigt byggeri) | D71: =D24 -> Nybyggeri, øvrigt byggeri | E71: 0 | F71: 0 | G71: 0 | H71: 0 | I71: 0 | J71: 0 | K71: 0 | L71: 0 | M71: 0 | N71: 0 | O71: 0 | P71: 0 | Q71: 0 | R71: 0 | S71: 0 | T71: 0 | U71: 0 | V71: 0 | W71: 0 | X71: 0 | Y71: 0 | Z71: 0 | AA71: 0 | AB71: 0 | AC71: 0 | AD71: 0 | AE71: 0 | AF71: 0 | AG71: 0 | AH71: 0 | AI71: 0 | AJ71: 0 | AK71: 0 | AL71: 0 | AM71: 0
A72: Pct. | B72: Input | C72: Fordeling 2 (boligbyggeri vs. øvrigt byggeri) | D72: =D25 -> R&V, prof, boligbyggeri | E72: =E25/E$48 -> 0.0058275325 | F72: =F25/F$48 -> 0.0057569159 | G72: =G25/G$48 -> 0.0058810833 | H72: =H25/H$48 -> 0.006052966 | I72: =I25/I$48 -> 0.0060943221 | J72: =J25/J$48 -> 0.0051092129 | K72: =K25/K$48 -> 0.005383278 | L72: =L25/L$48 -> 0.0062706793 | ... AM72: =AM25/AM$48 -> 0.0061719328
A73: Pct. | B73: Input | C73: Fordeling 2 (boligbyggeri vs. øvrigt byggeri) | D73: =D26 -> R&V, prof, øvrigt byggeri | E73: =E26/E$48 -> 0.0038324765 | F73: =F26/F$48 -> 0.0041325793 | G73: =G26/G$48 -> 0.0047708792 | H73: =H26/H$48 -> 0.0053008729 | I73: =I26/I$48 -> 0.0054778915 | J73: =J26/J$48 -> 0.0064152841 | K73: =K26/K$48 -> 0.0062367589 | L73: =L26/L$48 -> 0.0058463737 | ... AM73: =AM26/AM$48 -> 0.015828385
A74: Pct. | B74: Input | C74: Fordeling 2 (boligbyggeri vs. øvrigt byggeri) | D74: =D27 -> R&V, gør-det-selv, boligbyggeri | E74: =E27/E$48 -> 0.0044658804 | F74: =F27/F$48 -> 0.0046897174 | G74: =G27/G$48 -> 0.0052404258 | H74: =H27/H$48 -> 0.0060385134 | I74: =I27/I$48 -> 0.0061676491 | J74: =J27/J$48 -> 0.0056198564 | K74: =K27/K$48 -> 0.006379501 | L74: =L27/L$48 -> 0.0072997642 | ... AM74: =AM27/AM$48 -> 0.0080536807
A75: Pct. | B75: Input | C75: Fordeling 2 (boligbyggeri vs. øvrigt byggeri) | D75: =D28 -> R&V, gør-det-selv, øvrigt byggeri | E75: =E28/E$48 -> 0.0034345403 | F75: =F28/F$48 -> 0.0038172732 | G75: =G28/G$48 -> 0.004753155 | H75: =H28/H$48 -> 0.0058125493 | I75: =I28/I$48 -> 0.0060250747 | J75: =J28/J$48 -> 0.0078170004 | K75: =K28/K$48 -> 0.0080785486 | L75: =L28/L$48 -> 0.0072371229 | ... AM75: =AM28/AM$48 -> 0.021224822
A76: Pct. | B76: Input | C76: Fordeling 2 (boligbyggeri vs. øvrigt byggeri) | D76: =D29 -> Anlægsvirksomhed | E76: =E29/E$48 -> 0.011387051 | F76: =F29/F$48 -> 0.0094630489 | G76: =G29/G$48 -> 0.009327216 | H76: =H29/H$48 -> 0.0080971271 | I76: =I29/I$48 -> 0.0083343749 | J76: =J29/J$48 -> 0.0081790229 | K76: =K29/K$48 -> 0.0082459833 | L76: =L29/L$48 -> 0.0082090411 | ... AM76: =AM29/AM$48 -> 0.0098647079
A77: Pct. | B77: Slut- og inputudledninger | C77: Fordeling 2 (boligbyggeri vs. øvrigt byggeri) | D77: =D30 -> Nybyggeri, boligbyggeri | E77: =E30/E$48 -> 0.016685466 | F77: =F30/F$48 -> 0.01279642 | G77: =G30/G$48 -> 0.012640912 | H77: =H30/H$48 -> 0.01011609 | I77: =I30/I$48 -> 0.010222873 | J77: =J30/J$48 -> 0.012324999 | K77: =K30/K$48 -> 0.013407824 | L77: =L30/L$48 -> 0.015955289 | ... AM77: =AM30/AM$48 -> 0.017237567
A78: Pct. | B78: Slut- og inputudledninger | C78: Fordeling 2 (boligbyggeri vs. øvrigt byggeri) | D78: =D31 -> Nybyggeri, øvrigt byggeri | E78: =E31/E$48 -> 0.022473741 | F78: =F31/F$48 -> 0.019506182 | G78: =G31/G$48 -> 0.019277035 | H78: =H31/H$48 -> 0.014832002 | I78: =I31/I$48 -> 0.01354288 | J78: =J31/J$48 -> 0.016433447 | K78: =K31/K$48 -> 0.01864092 | L78: =L31/L$48 -> 0.020586635 | ... AM78: =AM31/AM$48 -> 0.034547282
A79: Pct. | B79: Slut- og inputudledninger | C79: Fordeling 2 (boligbyggeri vs. øvrigt byggeri) | D79: =D32 -> R&V, prof, boligbyggeri | E79: =E32/E$48 -> 0.018478373 | F79: =F32/F$48 -> 0.018092291 | G79: =G32/G$48 -> 0.018504926 | H79: =H32/H$48 -> 0.018870127 | I79: =I32/I$48 -> 0.019981687 | J79: =J32/J$48 -> 0.018907808 | K79: =K32/K$48 -> 0.018388259 | L79: =L32/L$48 -> 0.018800185 | ... AM79: =AM32/AM$48 -> 0.028785384
A80: Pct. | B80: Slut- og inputudledninger | C80: Fordeling 2 (boligbyggeri vs. øvrigt byggeri) | D80: =D33 -> R&V, prof, øvrigt byggeri | E80: =E33/E$48 -> 0.0094585545 | F80: =F33/F$48 -> 0.0096724774 | G80: =G33/G$48 -> 0.010986839 | H80: =H33/H$48 -> 0.00988857 | I80: =I33/I$48 -> 0.0098787754 | J80: =J33/J$48 -> 0.011603115 | K80: =K33/K$48 -> 0.011869615 | L80: =L33/L$48 -> 0.012400213 | ... AM80: =AM33/AM$48 -> 0.021423024
A81: Pct. | B81: Slut- og inputudledninger | C81: Fordeling 2 (boligbyggeri vs. øvrigt byggeri) | D81: =D34 -> R&V, gør-det-selv, boligbyggeri | E81: =E34/E$48 -> 0.0081916919 | F81: =F34/F$48 -> 0.0082608848 | G81: =G34/G$48 -> 0.009058829 | H81: =H34/H$48 -> 0.0098880199 | I81: =I34/I$48 -> 0.0098884148 | J81: =J34/J$48 -> 0.0096949216 | K81: =K34/K$48 -> 0.010796549 | L81: =L34/L$48 -> 0.012240354 | ... AM81: =AM34/AM$48 -> 0.0175198
A82: Pct. | B82: Slut- og inputudledninger | C82: Fordeling 2 (boligbyggeri vs. øvrigt byggeri) | D82: =D35 -> R&V, gør-det-selv, øvrigt byggeri | E82: =E35/E$48 -> 0.0035054978 | F82: =F35/F$48 -> 0.0039154902 | G82: =G35/G$48 -> 0.0048713589 | H82: =H35/H$48 -> 0.0059525805 | I82: =I35/I$48 -> 0.0061664934 | J82: =J35/J$48 -> 0.0079566546 | K82: =K35/K$48 -> 0.0082203394 | L82: =L35/L$48 -> 0.0073671338 | ... AM82: =AM35/AM$48 -> 0.021337797
A83: Pct. | B83: Slut- og inputudledninger | C83: Fordeling 2 (boligbyggeri vs. øvrigt byggeri) | D83: =D36 -> Anlægsvirksomhed | E83: =E36/E$48 -> 0.044963825 | F83: =F36/F$48 -> 0.041003388 | G83: =G36/G$48 -> 0.043095234 | H83: =H36/H$48 -> 0.045163624 | I83: =I36/I$48 -> 0.040367423 | J83: =J36/J$48 -> 0.042493945 | K83: =K36/K$48 -> 0.044949319 | L83: =L36/L$48 -> 0.043043312 | ... AM83: =AM36/AM$48 -> 0.061314914
... A91: Pct. | B91: Slut- og inputudledninger | C91: Fordeling 4 byggeritype og Rep. og vedligehold | D91: =D44 -> Anlægsvirksomhed | E91: =E44/E$48 -> 0.044963825 | F91: =F44/F$48 -> 0.041003388 | G91: =G44/G$48 -> 0.043095234 | H91: =H44/H$48 -> 0.045163624 | I91: =I44/I$48 -> 0.040367423 | J91: =J44/J$48 -> 0.042493945 | K91: =K44/K$48 -> 0.044949319 | L91: =L44/L$48 -> 0.043043312 | ... AM91: =AM44/AM$48 -> 0.061314914
A92: Pct. | B92: Slut- og inputudledninger | C92: Størrelser i alt | D92: Byggeri i alt | E92: =E45/E$48 -> 0.12375715 | F92: =F45/F$48 -> 0.11324713 | G92: =G45/G$48 -> 0.11843513 | H92: =H45/H$48 -> 0.11471101 | I92: =I45/I$48 -> 0.11004855 | J92: =J45/J$48 -> 0.11941489 | K92: =K45/K$48 -> 0.12627283 | L92: =L45/L$48 -> 0.13039312 | ... AM92: =AM45/AM$48 -> 0.20216577
A93: Pct. | B93: Slut- og inputudledninger | C93: Størrelser i alt | D93: Energi fra husholdninger | E93: =E46/E$48 -> 0.26314295 | F93: =F46/F$48 -> 0.28436489 | G93: =G46/G$48 -> 0.26371567 | H93: =H46/H$48 -> 0.29089647 | I93: =I46/I$48 -> 0.27958144 | J93: =J46/J$48 -> 0.25016336 | K93: =K46/K$48 -> 0.27245716 | L93: =L46/L$48 -> 0.25071515 | ... AM93: =AM46/AM$48 -> 0.09379818
A94: Pct. | B94: Slut- og inputudledninger | C94: Størrelser i alt | D94: Byggeri+Energi fra husholdninger | E94: =E92+E93 -> 0.38690009 | F94: =F92+F93 -> 0.39761202 | G94: =G92+G93 -> 0.38215081 | H94: =H92+H93 -> 0.40560749 | I94: =I92+I93 -> 0.38962998 | J94: =J92+J93 -> 0.36957825 | K94: =K92+K93 -> 0.39872999 | L94: =L92+L93 -> 0.38110827 | ... AM94: =AM92+AM93 -> 0.29596395
E97: 1990 | F97: 1991 | G97: 1992 | H97: 1993 | I97: 1994 | J97: 1995 | K97: 1996 | L97: 1997 | M97: 1998 | N97: 1999 | O97: 2000 | P97: 2001 | Q97: 2002 | R97: 2003 | S97: 2004 | T97: 2005 | U97: 2006 | V97: 2007 | W97: 2008 | X97: 2009 | Y97: 2010 | Z97: 2011 | AA97: 2012 | AB97: 2013 | AC97: 2014 | AD97: 2015 | AE97: 2016 | AF97: 2017 | AG97: 2018 | AH97: 2019 | AI97: 2020 | AJ97: 2021 | AK97: 2022 | AL97: 2023 | AM97: 2024
D98: Byggeri CO2e (venstre akse) | E98: =E45 -> 9.5248605 | F98: =F45 -> 9.4790171 | G98: =G45 -> 9.4245809 | H98: =H45 -> 9.0954811 | I98: =I45 -> 9.2298172 | J98: =J45 -> 10.371994 | K98: =K45 -> 11.484918 | L98: =L45 -> 11.363867 | ... AM98: =AM45 -> 11.724739
D99: Byggeri andel af DK-CO2e (højre akse) | E99: =E92 -> 0.12375715 | F99: =F92 -> 0.11324713 | G99: =G92 -> 0.11843513 | H99: =H92 -> 0.11471101 | I99: =I92 -> 0.11004855 | J99: =J92 -> 0.11941489 | K99: =K92 -> 0.12627283 | L99: =L92 -> 0.13039312 | ... AM99: =AM92 -> 0.20216577
E121: =E97 -> 1990 | F121: =F97 -> 1991 | G121: =G97 -> 1992 | H121: =H97 -> 1993 | I121: =I97 -> 1994 | J121: =J97 -> 1995 | K121: =K97 -> 1996 | L121: =L97 -> 1997 | ... AM121: =AM97 -> 2024
D122: Slutudledninger | E122: =SUM(E16:E22) -> 7.296943 | F122: =SUM(F16:F22) -> 7.147117 | G122: =SUM(G16:G22) -> 7.039472 | H122: =SUM(H16:H22) -> 6.613531 | I122: =SUM(I16:I22) -> 6.5376346 | J122: =SUM(J16:J22) -> 7.4935273 | K122: =SUM(K16:K22) -> 8.363034 | L122: =SUM(L16:L22) -> 8.3255294 | ... AM122: =SUM(AM16:AM22) -> 8.1786788
D123: Inputudledninger | E123: =SUM(E23:E29) -> 2.2279175 | F123: =SUM(F23:F29) -> 2.3319001 | G123: =SUM(G23:G29) -> 2.3851089 | H123: =SUM(H23:H29) -> 2.4819501 | I123: =SUM(I23:I29) -> 2.6921826 | J123: =SUM(J23:J29) -> 2.8784668 | K123: =SUM(K23:K29) -> 3.1218842 | L123: =SUM(L23:L29) -> 3.0383371 | ... AM123: =SUM(AM23:AM29) -> 3.5460597
E124: =E123+E122 -> 9.5248605 | AM124: =AM123+AM122 -> 11.724739
AM125: =AM124/E124 -> 1.2309617
AK127: =AVERAGE(E122:AI122) -> 7.6635103
AK128: =AVERAGE(E123:AI123) -> 3.1302094 | AL128: =AK128/AK127 -> 0.40845634
D150: Andel af inputudledninger fra rep. og vedligeholde | E150: =E121 -> 1990 | F150: =F121 -> 1991 | G150: =G121 -> 1992 | H150: =H121 -> 1993 | I150: =I121 -> 1994 | J150: =J121 -> 1995 | K150: =K121 -> 1996 | L150: =L121 -> 1997 | ... AM150: =AM121 -> 2024
D151: Input rep. og vedligehold | E151: =SUM(E25:E28) -> 1.3515231 | F151: =SUM(F25:F28) -> 1.5398236 | G151: =SUM(G25:G28) -> 1.6428874 | H151: =SUM(H25:H28) -> 1.8399257 | I151: =SUM(I25:I28) -> 1.9931752 | J151: =SUM(J25:J28) -> 2.1680631 | K151: =SUM(K25:K28) -> 2.3718855 | L151: =SUM(L25:L28) -> 2.3229125 | ... AM151: =SUM(AM25:AM28) -> 2.9739494
D152: Input anlægsvirksomhed | E152: =E29 -> 0.87639438 | F152: =F29 -> 0.79207658 | G152: =G29 -> 0.7422215 | H152: =H29 -> 0.64202437 | I152: =I29 -> 0.69900748 | J152: =J29 -> 0.71040368 | K152: =K29 -> 0.74999861 | L152: =L29 -> 0.7154246 | ... AM152: =AM29 -> 0.57211031
D178: Bolig, andet byggeri og anlæg | E178: =E150 -> 1990 | F178: =F150 -> 1991 | G178: =G150 -> 1992 | H178: =H150 -> 1993 | I178: =I150 -> 1994 | J178: =J150 -> 1995 | K178: =K150 -> 1996 | L178: =L150 -> 1997 | ... AM178: =AM150 -> 2024
D179: Bolig | E179: =E37 -> 3.3368204 | F179: =F37 -> 3.2769014 | G179: =G37 -> 3.199322 | H179: =H37 -> 3.0823535 | I179: =I37 -> 3.3626144 | J179: =J37 -> 3.5548512 | K179: =K37 -> 3.8739363 | L179: =L37 -> 4.0957246 | ... AM179: =AM37 -> 3.6852042
D180: Øvrigt byggeri | E180: =E38 -> 2.7274387 | F180: =F38 -> 2.7700482 | G180: =G38 -> 2.7959174 | H180: =H38 -> 2.4320863 | I180: =I38 -> 2.4815703 | J180: =J38 -> 3.1262553 | K180: =K38 -> 3.5226972 | L180: =L38 -> 3.5168823 | ... AM180: =AM38 -> 4.483535
D181: Anlæg | E181: =E39 -> 3.4606014 | F181: =F39 -> 3.4320676 | G181: =G39 -> 3.4293415 | H181: =H39 -> 3.5810414 | I181: =I39 -> 3.3856325 | J181: =J39 -> 3.6908877 | K181: =K39 -> 4.0882846 | L181: =L39 -> 3.7512596 | ... AM181: =AM39 -> 3.5559993
D182: =D179 -> Bolig | E182: =E179/(SUM(E$179:E$181)) -> 0.35032748 | F182: =F179/(SUM(F$179:F$181)) -> 0.34570055 | G182: =G179/(SUM(G$179:G$181)) -> 0.33946571 | H182: =H179/(SUM(H$179:H$181)) -> 0.33888845 | I182: =I179/(SUM(I$179:I$181)) -> 0.3643208 | J182: =J179/(SUM(J$179:J$181)) -> 0.34273556 | K182: =K179/(SUM(K$179:K$181)) -> 0.3373064 | L182: =L179/(SUM(L$179:L$181)) -> 0.36041647 | ... AM182: =AM179/(SUM(AM$179:AM$181)) -> 0.31431014 | AO182: =AVERAGE(E182:AI182) -> 0.37567842
D183: =D180 -> Øvrigt byggeri | E183: =E180/(SUM(E$179:E$181)) -> 0.28634946 | F183: =F180/(SUM(F$179:F$181)) -> 0.29222947 | G183: =G180/(SUM(G$179:G$181)) -> 0.29666225 | H183: =H180/(SUM(H$179:H$181)) -> 0.26739501 | I183: =I180/(SUM(I$179:I$181)) -> 0.26886451 | J183: =J180/(SUM(J$179:J$181)) -> 0.30141313 | K183: =K180/(SUM(K$179:K$181)) -> 0.30672375 | L183: =L180/(SUM(L$179:L$181)) -> 0.30947937 | ... AM183: =AM180/(SUM(AM$179:AM$181)) -> 0.38239957 | AO183: =AVERAGE(E183:AI183) -> 0.32255655
D184: =D181 -> Anlæg | E184: =E181/(SUM(E$179:E$181)) -> 0.36332305 | F184: =F181/(SUM(F$179:F$181)) -> 0.36206998 | G184: =G181/(SUM(G$179:G$181)) -> 0.36387204 | H184: =H181/(SUM(H$179:H$181)) -> 0.39371654 | I184: =I181/(SUM(I$179:I$181)) -> 0.36681468 | J184: =J181/(SUM(J$179:J$181)) -> 0.35585131 | K184: =K181/(SUM(K$179:K$181)) -> 0.35596985 | L184: =L181/(SUM(L$179:L$181)) -> 0.33010416 | ... AM184: =AM181/(SUM(AM$179:AM$181)) -> 0.30329029 | AO184: =AVERAGE(E184:AI184) -> 0.30176504
E209: 1990 | F209: 1991 | G209: 1992 | H209: 1993 | I209: 1994 | J209: 1995 | K209: 1996 | L209: 1997 | M209: 1998 | N209: 1999 | O209: 2000 | P209: 2001 | Q209: 2002 | R209: 2003 | S209: 2004 | T209: 2005 | U209: 2006 | V209: 2007 | W209: 2008 | X209: 2009 | Y209: 2010 | Z209: 2011 | AA209: 2012 | AB209: 2013 | AC209: 2014 | AD209: 2015 | AE209: 2016 | AF209: 2017 | AG209: 2018 | AH209: 2019 | AI209: 2020 | AJ209: 2021 | AK209: 2022 | AL209: 2023 | AM209: 2024
D210: =D30 -> Nybyggeri, boligbyggeri | E210: =E30 -> 1.2841822 | F210: =F30 -> 1.0710866 | G210: =G30 -> 1.0059118 | H210: =H30 -> 0.80210874 | I210: =I30 -> 0.85739659 | J210: =J30 -> 1.0705099 | K210: =K30 -> 1.2194846 | ... AM210: =AM30 -> 0.99970417
...

Sheet 3.2
A1: =NAIO1!B18 -> Mio. ton.
A2: =NAIO1!C17 -> CO2e fra inputudledninger i andre brancher | B2: =NAIO1!D2 -> 1990 | C2: =NAIO1!E2 -> 1991 | D2: =NAIO1!F2 -> 1992 | E2: =NAIO1!G2 -> 1993 | F2: =NAIO1!H2 -> 1994 | G2: =NAIO1!I2 -> 1995 | H2: =NAIO1!J2 -> 1996 | I2: =NAIO1!K2 -> 1997 | ... AJ2: =NAIO1!AL2 -> 2024
A3: =NAIO1!C18 -> Nybyggeri | B3: =NAIO1!D3 -> 3.013854 | C3: =NAIO1!E3 -> 2.703794 | D3: =NAIO1!F3 -> 2.539899 | E3: =NAIO1!G3 -> 1.978144 | F3: =NAIO1!H3 -> 1.992198 | G3: =NAIO1!I3 -> 2.495239 | H3: =NAIO1!J3 -> 2.914936 | I3: =NAIO1!K3 -> 3.184235 | ... AJ3: =NAIO1!AL3 -> 3.003288
A4: =NAIO1!C19 -> Anlægsvirksomhed | B4: =NAIO1!D4 -> 2.584207 | C4: =NAIO1!E4 -> 2.639991 | D4: =NAIO1!F4 -> 2.68712 | E4: =NAIO1!G4 -> 2.939017 | F4: =NAIO1!H4 -> 2.686625 | G4: =NAIO1!I4 -> 2.980484 | H4: =NAIO1!J4 -> 3.338286 | I4: =NAIO1!K4 -> 3.035835 | ... AJ4: =NAIO1!AL4 -> 2.983889
A5: =NAIO1!C20 -> Prof. rep. og vedl. | B5: =NAIO1!D5 -> 1.406667 | C5: =NAIO1!E5 -> 1.496197 | D5: =NAIO1!F5 -> 1.499194 | E5: =NAIO1!G5 -> 1.380038 | F5: =NAIO1!H5 -> 1.533843 | G5: =NAIO1!I5 -> 1.6491 | H5: =NAIO1!J5 -> 1.695171 | I5: =NAIO1!K5 -> 1.663129 | ... AJ5: =NAIO1!AL5 -> 1.635947
A6: =NAIO1!C21 -> Gør-det-selv rep. og vedl. | B6: =NAIO1!D6 -> 0.292215 | C6: =NAIO1!E6 -> 0.307135 | D6: =NAIO1!F6 -> 0.313259 | E6: =NAIO1!G6 -> 0.316332 | F6: =NAIO1!H6 -> 0.323923 | G6: =NAIO1!I6 -> 0.366077 | H6: =NAIO1!J6 -> 0.414641 | I6: =NAIO1!K6 -> 0.441907 | ... AJ6: =NAIO1!AL6 -> 0.555546

Sheet 3.3
A1: Kroneintensitet
C2: =NAIO1!B13 -> Kilo CO2e pr. kr. aktivitet
A3: =NAIO1!C12 -> Kroneintensitet | B3: =NAIO1!D2 -> 1990 | C3: =NAIO1!E2 -> 1991 | D3: =NAIO1!F2 -> 1992 | E3: =NAIO1!G2 -> 1993 | F3: =NAIO1!H2 -> 1994 | G3: =NAIO1!I2 -> 1995 | H3: =NAIO1!J2 -> 1996 | I3: =NAIO1!K2 -> 1997 | ... AJ3: =NAIO1!AL2 -> 2024
A4: =NAIO1!C13 -> Nybyggeri | B4: =NAIO1!D13 -> 0.094165861 | C4: =NAIO1!E13 -> 0.09534495 | D4: =NAIO1!F13 -> 0.095253073 | E4: =NAIO1!G13 -> 0.088044859 | F4: =NAIO1!H13 -> 0.08494212 | G4: =NAIO1!I13 -> 0.088946978 | H4: =NAIO1!J13 -> 0.085321754 | ... AJ4: =NAIO1!AL13 -> 0.026700963
A5: =NAIO1!C14 -> Anlægsvirksomhed | B5: =NAIO1!D14 -> 0.1050803 | C5: =NAIO1!E14 -> 0.11258454 | D5: =NAIO1!F14 -> 0.11042705 | E5: =NAIO1!G14 -> 0.10930097 | F5: =NAIO1!H14 -> 0.10294665 | G5: =NAIO1!I14 -> 0.10780294 | H5: =NAIO1!J14 -> 0.10581356 | ... AJ5: =NAIO1!AL14 -> 0.039016755
A6: =NAIO1!C15 -> Prof. rep. og vedl. | B6: =NAIO1!D15 -> 0.07859829 | C6: =NAIO1!E15 -> 0.083360852 | D6: =NAIO1!F15 -> 0.077217171 | E6: =NAIO1!G15 -> 0.072473443 | F6: =NAIO1!H15 -> 0.07239172 | G6: =NAIO1!I15 -> 0.072190541 | H6: =NAIO1!J15 -> 0.071646617 | ... AJ6: =NAIO1!AL15 -> 0.024260419
A7: =NAIO1!C16 -> Gør-det-selv rep. og vedl. | B7: =NAIO1!D16 -> 0.12721134 | C7: =NAIO1!E16 -> 0.13585229 | D7: =NAIO1!F16 -> 0.13152361 | E7: =NAIO1!G16 -> 0.13267758 | F7: =NAIO1!H16 -> 0.13011161 | G7: =NAIO1!I16 -> 0.12783804 | H7: =NAIO1!J16 -> 0.13206822 | ... AJ7: =NAIO1!AL16 -> 0.048057186

Sheet 3.4
A1: Kroneintensitet
C2: =NAIO1!B13 -> Kilo CO2e pr. kr. aktivitet
A3: =NAIO1!C12 -> Kroneintensitet | B3: =NAIO1!D2 -> 1990 | C3: =NAIO1!E2 -> 1991 | D3: =NAIO1!F2 -> 1992 | E3: =NAIO1!G2 -> 1993 | F3: =NAIO1!H2 -> 1994 | G3: =NAIO1!I2 -> 1995 | H3: =NAIO1!J2 -> 1996 | I3: =NAIO1!K2 -> 1997 | ... AJ3: =NAIO1!AL2 -> 2024
A4: Nybyggeri nominelt | B4: =NAIO1!D13 -> 0.094165861 | C4: =NAIO1!E13 -> 0.09534495 | D4: =NAIO1!F13 -> 0.095253073 | E4: =NAIO1!G13 -> 0.088044859 | F4: =NAIO1!H13 -> 0.08494212 | G4: =NAIO1!I13 -> 0.088946978 | H4: =NAIO1!J13 -> 0.085321754 | I4: =NAIO1!K13 -> 0.078727415 | ... AJ4: =NAIO1!AL13 -> 0.026700963
A5: =NAIO1!C14 -> Anlægsvirksomhed | B5: =NAIO1!D14 -> 0.1050803 | C5: =NAIO1!E14 -> 0.11258454 | D5: =NAIO1!F14 -> 0.11042705 | E5: =NAIO1!G14 -> 0.10930097 | F5: =NAIO1!H14 -> 0.10294665 | G5: =NAIO1!I14 -> 0.10780294 | H5: =NAIO1!J14 -> 0.10581356 | ... AJ5: =NAIO1!AL14 -> 0.039016755
A6: =NAIO1!C15 -> Prof. rep. og vedl. | B6: =NAIO1!D15 -> 0.07859829 | C6: =NAIO1!E15 -> 0.083360852 | D6: =NAIO1!F15 -> 0.077217171 | E6: =NAIO1!G15 -> 0.072473443 | F6: =NAIO1!H15 -> 0.07239172 | G6: =NAIO1!I15 -> 0.072190541 | H6: =NAIO1!J15 -> 0.071646617 | ... AJ6: =NAIO1!AL15 -> 0.024260419
A7: =NAIO1!C16 -> Gør-det-selv rep. og vedl. | B7: =NAIO1!D16 -> 0.12721134 | C7: =NAIO1!E16 -> 0.13585229 | D7: =NAIO1!F16 -> 0.13152361 | E7: =NAIO1!G16 -> 0.13267758 | F7: =NAIO1!H16 -> 0.13011161 | G7: =NAIO1!I16 -> 0.12783804 | H7: =NAIO1!J16 -> 0.13206822 | ... AJ7: =NAIO1!AL16 -> 0.048057186
C8: (SE TAL FRA BYG32+33)
A9: Nybyggeri+prof. R&V deflator (BYG32+33 i alt,enfamiliehuse) | B9: ='BYG32+33'!D17 -> 100 | C9: ='BYG32+33'!E17 -> 103.49515 | D9: ='BYG32+33'!F17 -> 106.40777 | E9: ='BYG32+33'!G17 -> 108.34951 | F9: ='BYG32+33'!H17 -> 111.06796 | G9: ='BYG32+33'!I17 -> 115.33981 | H9: ='BYG32+33'!J17 -> 118.64078 | I9: ='BYG32+33'!K17 -> 121.94175 | ... AK9: ='BYG32+33'!AM17 -> 256.49654
A10: Anlæg deflator (byg62, veje, asfalt, jern, jord,beton) | B10: ='BYG32+33'!D32 -> 100.66338 | C10: ='BYG32+33'!E32 -> 102.31904 | D10: ='BYG32+33'!F32 -> 99.798466 | E10: ='BYG32+33'!G32 -> 102.68012 | F10: ='BYG32+33'!H32 -> 104.48973 | G10: ='BYG32+33'!I32 -> 108.60998 | H10: ='BYG32+33'!J32 -> 111.77294 | I10: ='BYG32+33'!K32 -> 115.22141 | ... AL10: ='BYG32+33'!AN32 -> 0
A11: Gør-det-selv R&V | B11: ='BYG32+33'!D18 -> 100 | C11: ='BYG32+33'!E18 -> 103.38681 | D11: ='BYG32+33'!F18 -> 106.41711 | E11: ='BYG32+33'!G18 -> 108.19964 | F11: ='BYG32+33'!H18 -> 110.16043 | G11: ='BYG32+33'!I18 -> 114.61676 | H11: ='BYG32+33'!J18 -> 117.64706 | I11: ='BYG32+33'!K18 -> 120.32086 | ... AK11: ='BYG32+33'!AM18 -> 237.47216
A13: Nybyggeri realt | B13: =B4*B$9/100 -> 0.094165861 | C13: =C4*C$9/100 -> 0.098677395 | D13: =D4*D$9/100 -> 0.10135667 | E13: =E4*E$9/100 -> 0.095396178 | F13: =F4*F$9/100 -> 0.094343481 | G13: =G4*G$9/100 -> 0.10259127 | H13: =H4*H$9/100 -> 0.10122639 | I13: =I4*I$9/100 -> 0.096001585 | ... AJ13: =AJ4*AJ$9/100 -> 0.067119584
A14: Anlægsvirksomhed realt | B14: =B5*B$10/100 -> 0.10577738 | C14: =C5*C$10/100 -> 0.11519542 | D14: =D5*D$10/100 -> 0.1102045 | E14: =E5*E$10/100 -> 0.11223037 | F14: =F5*F$10/100 -> 0.10756868 | G14: =G5*G$10/100 -> 0.11708475 | H14: =H5*H$10/100 -> 0.11827093 | I14: =I5*I$10/100 -> 0.11116775 | ... AJ14: =AJ5*AJ$10/100 -> 0.099492179
A15: Prof. rep. og vedl. realt | B15: =B6*B$9/100 -> 0.07859829 | C15: =C6*C$9/100 -> 0.086274435 | D15: =D6*D$9/100 -> 0.082165067 | E15: =E6*E$9/100 -> 0.078524624 | F15: =F6*F$9/100 -> 0.080404007 | G15: =G6*G$9/100 -> 0.08326443 | H15: =H6*H$9/100 -> 0.085002103 | I15: =I6*I$9/100 -> 0.081790633 | ... AJ15: =AJ6*AJ$9/100 -> 0.060984663
A16: Gør-det-selv rep. og vedl. realt | B16: =B7*B$11/100 -> 0.12721134 | C16: =C7*C$11/100 -> 0.14045335 | D16: =D7*D$11/100 -> 0.13996363 | E16: =E7*E$11/100 -> 0.14355666 | F16: =F7*F$11/100 -> 0.14333151 | G16: =G7*G$11/100 -> 0.14652381 | H16: =H7*H$11/100 -> 0.15537438 | I16: =I7*I$11/100 -> 0.13849349 | ... AJ16: =AJ7*AJ$11/100 -> 0.11171401

Sheet 3.5
A1: =NAIO1!B18 -> Mio. ton.
A2: =NAIO1!C17 -> CO2e fra inputudledninger i andre brancher | B2: =NAIO1!D2 -> 1990 | C2: =NAIO1!E2 -> 1991 | D2: =NAIO1!F2 -> 1992 | E2: =NAIO1!G2 -> 1993 | F2: =NAIO1!H2 -> 1994 | G2: =NAIO1!I2 -> 1995 | H2: =NAIO1!J2 -> 1996 | I2: =NAIO1!K2 -> 1997 | ... AJ2: =NAIO1!AL2 -> 2024
A3: =NAIO1!C18 -> Nybyggeri | B3: =NAIO1!D18 -> 0 | C3: =NAIO1!E18 -> 0 | D3: =NAIO1!F18 -> 0 | E3: =NAIO1!G18 -> 0 | F3: =NAIO1!H18 -> 0.0010455526 | G3: =NAIO1!I18 -> 0.0026273158 | H3: =NAIO1!J18 -> 0 | ... AJ3: =NAIO1!AL18 -> 8.8100057e-06
A4: =NAIO1!C19 -> Anlægsvirksomhed | B4: =NAIO1!D19 -> 0.87639438 | C4: =NAIO1!E19 -> 0.79207658 | D4: =NAIO1!F19 -> 0.7422215 | E4: =NAIO1!G19 -> 0.64202437 | F4: =NAIO1!H19 -> 0.69900748 | G4: =NAIO1!I19 -> 0.71040368 | H4: =NAIO1!J19 -> 0.74999861 | ... AJ4: =NAIO1!AL19 -> 0.57211031
A5: =NAIO1!C20 -> Prof. rep. og vedl. | B5: =NAIO1!D20 -> 0.74347412 | C5: =NAIO1!E20 -> 0.82777101 | D5: =NAIO1!F20 -> 0.84763937 | E5: =NAIO1!G20 -> 0.90025033 | F5: =NAIO1!H20 -> 0.97056636 | G5: =NAIO1!I20 -> 1.0009808 | H5: =NAIO1!J20 -> 1.0568796 | ... AJ5: =NAIO1!AL20 -> 1.2759231
A6: =NAIO1!C21 -> Gør-det-selv rep. og vedl. | B6: =NAIO1!D21 -> 0.60804895 | C6: =NAIO1!E21 -> 0.71205254 | D6: =NAIO1!F21 -> 0.79524807 | E6: =NAIO1!G21 -> 0.9396754 | F6: =NAIO1!H21 -> 1.0226088 | G6: =NAIO1!I21 -> 1.1670823 | H6: =NAIO1!J21 -> 1.3150059 | ... AJ6: =NAIO1!AL21 -> 1.6980263

Sheet 3.10
A1: =NAIO1!B18 -> Mio. ton.
A2: =NAIO1!C17 -> CO2e fra inputudledninger i andre brancher | B2: =NAIO1!D2 -> 1990 | C2: =NAIO1!E2 -> 1991 | D2: =NAIO1!F2 -> 1992 | E2: =NAIO1!G2 -> 1993 | F2: =NAIO1!H2 -> 1994 | G2: =NAIO1!I2 -> 1995 | H2: =NAIO1!J2 -> 1996 | I2: =NAIO1!K2 -> 1997 | ... AJ2: =NAIO1!AL2 -> 2024
A3: =NAIO1!C18 -> Nybyggeri | B3: =NAIO1!D23 -> 3.013854 | C3: =NAIO1!E23 -> 2.703794 | D3: =NAIO1!F23 -> 2.539899 | E3: =NAIO1!G23 -> 1.978144 | F3: =NAIO1!H23 -> 1.9932436 | G3: =NAIO1!I23 -> 2.4978663 | H3: =NAIO1!J23 -> 2.914936 | I3: =NAIO1!K23 -> 3.1846584 | ... AJ3: =NAIO1!AL23 -> 3.0032968
A4: =NAIO1!C19 -> Anlægsvirksomhed | B4: =NAIO1!D24 -> 3.4606014 | C4: =NAIO1!E24 -> 3.4320676 | D4: =NAIO1!F24 -> 3.4293415 | E4: =NAIO1!G24 -> 3.5810414 | F4: =NAIO1!H24 -> 3.3856325 | G4: =NAIO1!I24 -> 3.6908877 | H4: =NAIO1!J24 -> 4.0882846 | I4: =NAIO1!K24 -> 3.7512596 | ... AJ4: =NAIO1!AL24 -> 3.5559993
A5: =NAIO1!C20 -> Prof. rep. og vedl. | B5: =NAIO1!D25 -> 2.1501411 | C5: =NAIO1!E25 -> 2.323968 | D5: =NAIO1!F25 -> 2.3468334 | E5: =NAIO1!G25 -> 2.2802883 | F5: =NAIO1!H25 -> 2.5044094 | G5: =NAIO1!I25 -> 2.6500808 | H5: =NAIO1!J25 -> 2.7520506 | I5: =NAIO1!K25 -> 2.71914 | ... AJ5: =NAIO1!AL25 -> 2.9118701
A6: =NAIO1!C21 -> Gør-det-selv rep. og vedl. | B6: =NAIO1!D26 -> 0.90026395 | C6: =NAIO1!E26 -> 1.0191875 | D6: =NAIO1!F26 -> 1.1085071 | E6: =NAIO1!G26 -> 1.2560074 | F6: =NAIO1!H26 -> 1.3465318 | G6: =NAIO1!I26 -> 1.5331593 | H6: =NAIO1!J26 -> 1.7296469 | I6: =NAIO1!K26 -> 1.7088085 | ... AJ6: =NAIO1!AL26 -> 2.2535723

Sheet 3.11
A1: =NAIO1!B18 -> Mio. ton.
A2: =NAIO1!C17 -> CO2e fra inputudledninger i andre brancher | B2: =NAIO1!D2 -> 1990 | C2: =NAIO1!E2 -> 1991 | D2: =NAIO1!F2 -> 1992 | E2: =NAIO1!G2 -> 1993 | F2: =NAIO1!H2 -> 1994 | G2: =NAIO1!I2 -> 1995 | H2: =NAIO1!J2 -> 1996 | I2: =NAIO1!K2 -> 1997 | ... AJ2: =NAIO1!AL2 -> 2024
A3: =NAIO1!C18 -> Nybyggeri | B3: =NAIO1!D23/B$7 -> 0.039159207 | C3: =NAIO1!E23/C$7 -> 0.032302602 | D3: =NAIO1!F23/D$7 -> 0.031917947 | E3: =NAIO1!G23/E$7 -> 0.024948092 | F3: =NAIO1!H23/F$7 -> 0.023765753 | G3: =NAIO1!I23/G$7 -> 0.028758446 | H3: =NAIO1!J23/H$7 -> 0.032048744 | I3: =NAIO1!K23/I$7 -> 0.036541925 | ... AJ3: =NAIO1!AL23/AJ$7 -> 0.051784848
A4: =NAIO1!C19 -> Anlægsvirksomhed | B4: =NAIO1!D24/B$7 -> 0.044963825 | C4: =NAIO1!E24/C$7 -> 0.041003388 | D4: =NAIO1!F24/D$7 -> 0.043095234 | E4: =NAIO1!G24/E$7 -> 0.045163624 | F4: =NAIO1!H24/F$7 -> 0.040367423 | G4: =NAIO1!I24/G$7 -> 0.042493945 | H4: =NAIO1!J24/H$7 -> 0.044949319 | I4: =NAIO1!K24/I$7 -> 0.043043312 | ... AJ4: =NAIO1!AL24/AJ$7 -> 0.061314914
A5: =NAIO1!C20 -> Prof. rep. og vedl. | B5: =NAIO1!D25/B$7 -> 0.027936927 | C5: =NAIO1!E25/C$7 -> 0.027764768 | D5: =NAIO1!F25/D$7 -> 0.029491765 | E5: =NAIO1!G25/E$7 -> 0.028758697 | F5: =NAIO1!H25/F$7 -> 0.029860462 | G5: =NAIO1!I25/G$7 -> 0.030510923 | H5: =NAIO1!J25/H$7 -> 0.030257874 | I5: =NAIO1!K25/I$7 -> 0.031200398 | ... AJ5: =NAIO1!AL25/AJ$7 -> 0.050208408
A6: =NAIO1!C21 -> Gør-det-selv rep. og vedl. | B6: =NAIO1!D26/B$7 -> 0.01169719 | C6: =NAIO1!E26/C$7 -> 0.012176375 | D6: =NAIO1!F26/D$7 -> 0.013930188 | E6: =NAIO1!G26/E$7 -> 0.0158406 | F6: =NAIO1!H26/F$7 -> 0.016054908 | G6: =NAIO1!I26/G$7 -> 0.017651576 | H6: =NAIO1!J26/H$7 -> 0.019016888 | I6: =NAIO1!K26/I$7 -> 0.019607488 | ... AJ6: =NAIO1!AL26/AJ$7 -> 0.038857597
A7: Samlet CO2e Danmark | B7: =NAIO1!D94 -> 76.964123 | C7: =NAIO1!E94 -> 83.702049 | D7: =NAIO1!F94 -> 79.575888 | E7: =NAIO1!G94 -> 79.290391 | F7: =NAIO1!H94 -> 83.870415 | G7: =NAIO1!I94 -> 86.856791 | H7: =NAIO1!J94 -> 90.953205 | I7: =NAIO1!K94 -> 87.150812 | ... AJ7: =NAIO1!AL94 -> 57.995667

Sheet 3.15
B2: 1990 | C2: 1991 | D2: 1992 | E2: 1993 | F2: 1994 | G2: 1995 | H2: 1996 | I2: 1997 | J2: 1998 | K2: 1999 | L2: 2000 | M2: 2001 | N2: 2002 | O2: 2003 | P2: 2004 | Q2: 2005 | R2: 2006 | S2: 2007 | T2: 2008 | U2: 2009 | V2: 2010 | W2: 2011 | X2: 2012 | Y2: 2013 | Z2: 2014 | AA2: 2015 | AB2: 2016 | AC2: 2017 | AD2: 2018 | AE2: 2019 | AF2: 2020 | AG2: 2021 | AH2: 2022 | AI2: 2023 | AJ2: 2024
A3: Reparation og vedligeholdelse af boliger | B3: =NAIO1!D51 -> 2.0526382 | C3: =NAIO1!E51 -> 2.2058148 | D3: =NAIO1!F51 -> 2.1934103 | E3: =NAIO1!G51 -> 2.2802447 | F3: =NAIO1!H51 -> 2.5052178 | G3: =NAIO1!I51 -> 2.4843413 | H3: =NAIO1!J51 -> 2.6544518 | I3: =NAIO1!K51 -> 2.7052082 | ... AJ3: =NAIO1!AL51 -> 2.6855001
A4: Nybyggeri af boliger | B4: =NAIO1!D53 -> 1.2841822 | C4: =NAIO1!E53 -> 1.0710866 | D4: =NAIO1!F53 -> 1.0059118 | E4: =NAIO1!G53 -> 0.80210874 | F4: =NAIO1!H53 -> 0.85739659 | G4: =NAIO1!I53 -> 1.0705099 | H4: =NAIO1!J53 -> 1.2194846 | I4: =NAIO1!K53 -> 1.3905164 | ... AJ4: =NAIO1!AL53 -> 0.99970417
A5: R&V mere end nybyggeri | B5: =B3/B4-1 -> 0.598401 | C5: =C3/C4-1 -> 1.0594179 | D5: =D3/D4-1 -> 1.1805195 | E5: =E3/E4-1 -> 1.8428124 | F5: =F3/F4-1 -> 1.9218892 | G5: =G3/G4-1 -> 1.3207084 | H5: =H3/H4-1 -> 1.1766998 | I5: =I3/I4-1 -> 0.94547014 | ... AJ5: =AJ3/AJ4-1 -> 1.6862947
A7: =A3 -> Reparation og vedligeholdelse af boliger | B7: =B3/SUM(B3:B4) -> 0.61514793 | C7: =C3/SUM(C3:C4) -> 0.67314043 | D7: =D3/SUM(D3:D4) -> 0.68558595 | E7: =E3/SUM(E3:E4) -> 0.73977392 | F7: =F3/SUM(F3:F4) -> 0.74502084 | G7: =G3/SUM(G3:G4) -> 0.69885944 | H7: =H3/SUM(H3:H4) -> 0.6852079 | I7: =I3/SUM(I3:I4) -> 0.66049562 | ... AJ7: =AJ3/SUM(AJ3:AJ4) -> 0.72872489 | AL7: =AVERAGE(B7:AF7) -> 0.6994535
A8: =A4 -> Nybyggeri af boliger | B8: =B4/SUM(B3:B4) -> 0.38485207 | C8: =C4/SUM(C3:C4) -> 0.32685957 | D8: =D4/SUM(D3:D4) -> 0.31441405 | E8: =E4/SUM(E3:E4) -> 0.26022608 | F8: =F4/SUM(F3:F4) -> 0.25497916 | G8: =G4/SUM(G3:G4) -> 0.30114056 | H8: =H4/SUM(H3:H4) -> 0.3147921 | I8: =I4/SUM(I3:I4) -> 0.33950438 | ... AJ8: =AJ4/SUM(AJ3:AJ4) -> 0.27127511 | AL8: =AVERAGE(B8:AF8) -> 0.3005465

Sheet 4.2
A1: =NAIO1!B18 -> Mio. ton.
A2: =NAIO1!C17 -> CO2e fra inputudledninger i andre brancher | B2: =NAIO1!D2 -> 1990 | C2: =NAIO1!E2 -> 1991 | D2: =NAIO1!F2 -> 1992 | E2: =NAIO1!G2 -> 1993 | F2: =NAIO1!H2 -> 1994 | G2: =NAIO1!I2 -> 1995 | H2: =NAIO1!J2 -> 1996 | I2: =NAIO1!K2 -> 1997 | ... AJ2: =NAIO1!AL2 -> 2024
A3: =NAIO1!C101 -> Byggeri, slutudledninger | B3: =NAIO1!D101 -> 7.296943 | C3: =NAIO1!E101 -> 7.147117 | D3: =NAIO1!F101 -> 7.039472 | E3: =NAIO1!G101 -> 6.613531 | F3: =NAIO1!H101 -> 6.536589 | G3: =NAIO1!I101 -> 7.4909 | H3: =NAIO1!J101 -> 8.363034 | ... AJ3: =NAIO1!AL101 -> 8.17867
A4: =NAIO1!C102 -> Byggeri, inputudledninger | B4: =NAIO1!D102 -> 2.2279175 | C4: =NAIO1!E102 -> 2.3319001 | D4: =NAIO1!F102 -> 2.3851089 | E4: =NAIO1!G102 -> 2.4819501 | F4: =NAIO1!H102 -> 2.6932282 | G4: =NAIO1!I102 -> 2.8810941 | H4: =NAIO1!J102 -> 3.1218842 | ... AJ4: =NAIO1!AL102 -> 3.5460685
A5: =NAIO1!C103 -> Husholdninger ex. Byggeri | B5: =NAIO1!D103 -> 54.158198 | C5: =NAIO1!E103 -> 59.670988 | D5: =NAIO1!F103 -> 57.167858 | E5: =NAIO1!G103 -> 58.168218 | F5: =NAIO1!H103 -> 60.346473 | G5: =NAIO1!I103 -> 58.956395 | H5: =NAIO1!J103 -> 62.771457 | ... AJ5: =NAIO1!AL103 -> 34.552733
A6: =NAIO1!C104 -> Investeringer ex. Byggeri | B6: =NAIO1!D104 -> 6.0367929 | C6: =NAIO1!E104 -> 6.0528634 | D6: =NAIO1!F104 -> 5.374028 | E6: =NAIO1!G104 -> 3.9581067 | F6: =NAIO1!H104 -> 5.9206212 | G6: =NAIO1!I104 -> 9.0766103 | H6: =NAIO1!J104 -> 7.3494659 | ... AJ6: =NAIO1!AL104 -> 5.1676458
A7: =NAIO1!C105 -> Offentlig forbrug ex. Byggeri | B7: =NAIO1!D105 -> 7.2442713 | C7: =NAIO1!E105 -> 8.4991807 | D7: =NAIO1!F105 -> 7.6094209 | E7: =NAIO1!G105 -> 8.0685851 | F7: =NAIO1!H105 -> 8.3735033 | G7: =NAIO1!I105 -> 8.4517918 | H7: =NAIO1!J105 -> 9.3473638 | ... AJ7: =NAIO1!AL105 -> 6.5505494

Sheet 4.3
A1: Drivhusgasregnskab (i CO2-ækvivalenter) efter emissionstype, branche og tid
A2: Enhed: 1.000 ton
C3: 1990 | D3: 1991 | E3: 1992 | F3: 1993 | G3: 1994 | H3: 1995 | I3: 1996 | J3: 1997 | K3: 1998 | L3: 1999 | M3: 2000 | N3: 2001 | O3: 2002 | P3: 2003 | Q3: 2004 | R3: 2005 | S3: 2006 | T3: 2007 | U3: 2008 | V3: 2009 | W3: 2010 | X3: 2011 | Y3: 2012 | Z3: 2013 | AA3: 2014 | AB3: 2015 | AC3: 2016 | AD3: 2017 | AE3: 2018 | AF3: 2019 | AG3: 2020 | AH3: 2021 | AI3: 2022 | AJ3: 2023
A4: Drivhusgasser i alt, ekskl. CO2 fra afbrænding af biomasse | B4: I alt | C4: 83778 | D4: 96031 | E4: 87837 | F4: 92807 | G4: 94900 | H4: 93247 | I4: 106371 | J4: 98215 | K4: 98281 | L4: 94810 | M4: 93958 | N4: 94497 | O4: 95483 | P4: 104276 | Q4: 99580 | R4: 103093 | S4: 120556 | T4: 117102 | U4: 111206 | V4: 104650 | W4: 103363 | X4: 102358 | Y4: 95067 | Z4: 93127 | AA4: 87512 | AB4: 91044 | AC4: 96498 | AD4: 95594 | AE4: 96291 | AF4: 92781 | AG4: 81337 | AH4: 89391 | AI4: 82606 | AJ4: 80460
B5: Husholdninger | C5: 10873 | D5: 11082 | E5: 10409 | F5: 11096 | G5: 10654 | H5: 11023 | I5: 11461 | J5: 11079 | K5: 10965 | L5: 11196 | M5: 10788 | N5: 10805 | O5: 10646 | P5: 10625 | Q5: 10465 | R5: 10292 | S5: 10081 | T5: 9846 | U5: 9933 | V5: 9623 | W5: 9701 | X5: 9208 | Y5: 8923 | Z5: 8831 | AA5: 8427 | AB5: 8559 | AC5: 8604 | AD5: 8532 | AE5: 8553 | AF5: 8365 | AG5: 6971 | AH5: 6833 | AI5: 6381 | AJ5: 6233
B6: Brancher i alt | C6: 72863 | D6: 84888 | E6: 77339 | F6: 81504 | G6: 83970 | H6: 82224 | I6: 94910 | J6: 87136 | K6: 87316 | L6: 83614 | M6: 83171 | N6: 83692 | O6: 84837 | P6: 93651 | Q6: 89115 | R6: 92802 | S6: 110474 | T6: 107256 | U6: 101273 | V6: 95027 | W6: 93662 | X6: 93150 | Y6: 86144 | Z6: 84296 | AA6: 79085 | AB6: 82485 | AC6: 87894 | AD6: 87062 | AE6: 87739 | AF6: 84416 | AG6: 74367 | AH6: 82558 | AI6: 76226 | AJ6: 74227
B7: Heraf: International transport foretaget af danske skibe, fly og køretøjer | C7: 9517 | D7: 11528 | E7: 9614 | F7: 12137 | G7: 10423 | H7: 11456 | I7: 11309 | J7: 12514 | K7: 16925 | L7: 16174 | M7: 19725 | N7: 18721 | O7: 20775 | P7: 24501 | Q7: 26157 | R7: 34480 | S7: 44272 | T7: 45696 | U7: 43393 | V7: 39884 | W7: 38009 | X7: 41192 | Y7: 38636 | Z7: 34266 | AA7: 33934 | AB7: 39987 | AC7: 43613 | AD7: 44393 | AE7: 46048 | AF7: 46733 | AG7: 39022 | AH7: 46010 | AI7: 40355 | AJ7: 40343
A8: Drivhusgasser i alt, inkl. CO2 fra afbrænding af biomasse | B8: I alt | C8: 87875 | D8: 100473 | E8: 92497 | F8: 97648 | G8: 99679 | H8: 98246 | I8: 111701 | J8: 103726 | K8: 103754 | L8: 100554 | M8: 99970 | N8: 101159 | O8: 102590 | P8: 112372 | Q8: 108346 | R8: 112535 | S8: 130295 | T8: 127757 | U8: 122052 | V8: 115798 | W8: 116647 | X8: 115322 | Y8: 108377 | Z8: 106517 | AA8: 100921 | AB8: 105187 | AC8: 111727 | AD8: 112360 | AE8: 112867 | AF8: 109488 | AG8: 98374 | AH8: 109473 | AI8: 100407 | AJ8: 98338
B9: Husholdninger | C9: 12275 | D9: 12628 | E9: 11986 | F9: 12753 | G9: 12249 | H9: 12604 | I9: 13089 | J9: 12723 | K9: 12454 | L9: 12699 | M9: 12555 | N9: 12834 | O9: 12734 | P9: 12997 | Q9: 12980 | R9: 13213 | S9: 13313 | T9: 13690 | U9: 13682 | V9: 13364 | W9: 13756 | X9: 12999 | Y9: 12676 | Z9: 12702 | AA9: 12102 | AB9: 12892 | AC9: 13175 | AD9: 12920 | AE9: 12786 | AF9: 12346 | AG9: 10879 | AH9: 10893 | AI9: 9815 | AJ9: 9570
B10: Brancher i alt | C10: 75558 | D10: 87784 | E10: 80421 | F10: 84688 | G10: 87155 | H10: 85642 | I10: 98612 | J10: 91004 | K10: 91299 | L10: 87855 | M10: 87415 | N10: 88325 | O10: 89857 | P10: 99375 | Q10: 95366 | R10: 99322 | S10: 116983 | T10: 114067 | U10: 108370 | V10: 102435 | W10: 102891 | X10: 102323 | Y10: 95701 | Z10: 93815 | AA10: 88819 | AB10: 92295 | AC10: 98552 | AD10: 99440 | AE10: 100081 | AF10: 97142 | AG10: 87495 | AH10: 98580 | AI10: 90592 | AJ10: 88769
B11: Heraf: International transport foretaget af danske skibe, fly og køretøjer | C11: 9517 | D11: 11528 | E11: 9614 | F11: 12137 | G11: 10423 | H11: 11456 | I11: 11309 | J11: 12514 | K11: 16925 | L11: 16174 | M11: 19725 | N11: 18721 | O11: 20775 | P11: 24501 | Q11: 26157 | R11: 34480 | S11: 44272 | T11: 45696 | U11: 43393 | V11: 39884 | W11: 38009 | X11: 41192 | Y11: 38636 | Z11: 34266 | AA11: 33934 | AB11: 39987 | AC11: 43613 | AD11: 44393 | AE11: 46048 | AF11: 46733 | AG11: 39022 | AH11: 46010 | AI11: 40355 | AJ11: 40343
C12: 1990 | D12: 1991 | E12: 1992 | F12: 1993 | G12: 1994 | H12: 1995 | I12: 1996 | J12: 1997 | K12: 1998 | L12: 1999 | M12: 2000 | N12: 2001 | O12: 2002 | P12: 2003 | Q12: 2004 | R12: 2005 | S12: 2006 | T12: 2007 | U12: 2008 | V12: 2009 | W12: 2010 | X12: 2011 | Y12: 2012 | Z12: 2013 | AA12: 2014 | AB12: 2015 | AC12: 2016 | AD12: 2017 | AE12: 2018 | AF12: 2019 | AG12: 2020 | AH12: 2021 | AI12: 2022 | AJ12: 2023
B13: Territorialt (uden afbrænding af biomasse) | C13: =(C4-C7)/1000 -> 74.261 | D13: =(D4-D7)/1000 -> 84.503 | E13: =(E4-E7)/1000 -> 78.223 | F13: =(F4-F7)/1000 -> 80.67 | G13: =(G4-G7)/1000 -> 84.477 | H13: =(H4-H7)/1000 -> 81.791 | I13: =(I4-I7)/1000 -> 95.062 | J13: =(J4-J7)/1000 -> 85.701 | ... AJ13: =(AJ4-AJ7)/1000 -> 40.117
B14: Territorialt inkl. afbrænding af biomasse | C14: =(C13+(C8-C4)/1000) -> 78.358 | D14: =(D13+(D8-D4)/1000) -> 88.945 | E14: =(E13+(E8-E4)/1000) -> 82.883 | F14: =(F13+(F8-F4)/1000) -> 85.511 | G14: =(G13+(G8-G4)/1000) -> 89.256 | H14: =(H13+(H8-H4)/1000) -> 86.79 | I14: =(I13+(I8-I4)/1000) -> 100.392 | J14: =(J13+(J8-J4)/1000) -> 91.212 | ... AJ14: =(AJ13+(AJ8-AJ4)/1000) -> 57.995
C15: =C8-C4 -> 4097 | D15: =D8-D4 -> 4442 | E15: =E8-E4 -> 4660 | F15: =F8-F4 -> 4841 | G15: =G8-G4 -> 4779 | H15: =H8-H4 -> 4999 | I15: =I8-I4 -> 5330 | J15: =J8-J4 -> 5511 | ... AJ15: =AJ8-AJ4 -> 17878
A25: Drivhusregnskabet er opgjort for dansk økonomi. Det adskiller sig fra indberetninger til FN (UNFCCC) bl.a. ved at medregne emissioner fra international transport. Forskelle mellem indberetninger til UNFCCC og drivhusregnskabet er opstillet i overgangstabellen MRO2. I det nyeste år er der ikke tal for fluorerede gasser og for totalen bruges tallet fra året før.

Sheet 4.4
A1: =NAIO1!B18 -> Mio. ton.
A2: =NAIO1!C17 -> CO2e fra inputudledninger i andre brancher | B2: =NAIO1!D2 -> 1990 | C2: =NAIO1!E2 -> 1991 | D2: =NAIO1!F2 -> 1992 | E2: =NAIO1!G2 -> 1993 | F2: =NAIO1!H2 -> 1994 | G2: =NAIO1!I2 -> 1995 | H2: =NAIO1!J2 -> 1996 | I2: =NAIO1!K2 -> 1997 | ... AJ2: =NAIO1!AL2 -> 2024
A3: =NAIO1!C101 -> Byggeri, slutudledninger | B3: =NAIO1!D101 -> 7.296943 | C3: =NAIO1!E101 -> 7.147117 | D3: =NAIO1!F101 -> 7.039472 | E3: =NAIO1!G101 -> 6.613531 | F3: =NAIO1!H101 -> 6.536589 | G3: =NAIO1!I101 -> 7.4909 | H3: =NAIO1!J101 -> 8.363034 | ... AJ3: =NAIO1!AL101 -> 8.17867
A4: =NAIO1!C102 -> Byggeri, inputudledninger | B4: =NAIO1!D102 -> 2.2279175 | C4: =NAIO1!E102 -> 2.3319001 | D4: =NAIO1!F102 -> 2.3851089 | E4: =NAIO1!G102 -> 2.4819501 | F4: =NAIO1!H102 -> 2.6932282 | G4: =NAIO1!I102 -> 2.8810941 | H4: =NAIO1!J102 -> 3.1218842 | ... AJ4: =NAIO1!AL102 -> 3.5460685
A5: =NAIO1!C103 -> Husholdninger ex. Byggeri | B5: =NAIO1!D103 -> 54.158198 | C5: =NAIO1!E103 -> 59.670988 | D5: =NAIO1!F103 -> 57.167858 | E5: =NAIO1!G103 -> 58.168218 | F5: =NAIO1!H103 -> 60.346473 | G5: =NAIO1!I103 -> 58.956395 | H5: =NAIO1!J103 -> 62.771457 | ... AJ5: =NAIO1!AL103 -> 34.552733
A6: =NAIO1!C104 -> Investeringer ex. Byggeri | B6: =NAIO1!D104 -> 6.0367929 | C6: =NAIO1!E104 -> 6.0528634 | D6: =NAIO1!F104 -> 5.374028 | E6: =NAIO1!G104 -> 3.9581067 | F6: =NAIO1!H104 -> 5.9206212 | G6: =NAIO1!I104 -> 9.0766103 | H6: =NAIO1!J104 -> 7.3494659 | ... AJ6: =NAIO1!AL104 -> 5.1676458
A7: =NAIO1!C105 -> Offentlig forbrug ex. Byggeri | B7: =NAIO1!D105 -> 7.2442713 | C7: =NAIO1!E105 -> 8.4991807 | D7: =NAIO1!F105 -> 7.6094209 | E7: =NAIO1!G105 -> 8.0685851 | F7: =NAIO1!H105 -> 8.3735033 | G7: =NAIO1!I105 -> 8.4517918 | H7: =NAIO1!J105 -> 9.3473638 | ... AJ7: =NAIO1!AL105 -> 6.5505494
A8: Byggeri samlet andel (højre akse) | B8: =(B3+B4)/SUM(B3:B7) -> 0.12375715 | C8: =(C3+C4)/SUM(C3:C7) -> 0.11324713 | D8: =(D3+D4)/SUM(D3:D7) -> 0.11843513 | E8: =(E3+E4)/SUM(E3:E7) -> 0.11471101 | F8: =(F3+F4)/SUM(F3:F7) -> 0.11004855 | G8: =(G3+G4)/SUM(G3:G7) -> 0.11941489 | H8: =(H3+H4)/SUM(H3:H7) -> 0.12627283 | I8: =(I3+I4)/SUM(I3:I7) -> 0.13039312 | ... AJ8: =(AJ3+AJ4)/SUM(AJ3:AJ7) -> 0.20216577

Sheet 4.5
A1: =NAIO1!B18 -> Mio. ton.
A2: =NAIO1!C17 -> CO2e fra inputudledninger i andre brancher | B2: =NAIO1!D2 -> 1990 | C2: =NAIO1!E2 -> 1991 | D2: =NAIO1!F2 -> 1992 | E2: =NAIO1!G2 -> 1993 | F2: =NAIO1!H2 -> 1994 | G2: =NAIO1!I2 -> 1995 | H2: =NAIO1!J2 -> 1996 | I2: =NAIO1!K2 -> 1997 | ... AJ2: =NAIO1!AL2 -> 2024
A3: =NAIO1!C101 -> Byggeri, slutudledninger | B3: =NAIO1!D101 -> 7.296943 | C3: =NAIO1!E101 -> 7.147117 | D3: =NAIO1!F101 -> 7.039472 | E3: =NAIO1!G101 -> 6.613531 | F3: =NAIO1!H101 -> 6.536589 | G3: =NAIO1!I101 -> 7.4909 | H3: =NAIO1!J101 -> 8.363034 | ... AJ3: =NAIO1!AL101 -> 8.17867
A4: Byggeri indirekte | B4: =NAIO1!D102 -> 2.2279175 | C4: =NAIO1!E102 -> 2.3319001 | D4: =NAIO1!F102 -> 2.3851089 | E4: =NAIO1!G102 -> 2.4819501 | F4: =NAIO1!H102 -> 2.6932282 | G4: =NAIO1!I102 -> 2.8810941 | H4: =NAIO1!J102 -> 3.1218842 | I4: =NAIO1!K102 -> 3.0387605 | ... AJ4: =NAIO1!AL102 -> 3.5460685
A5: =NAIO1!C103 -> Husholdninger ex. Byggeri | B5: =NAIO1!D103 -> 54.158198 | C5: =NAIO1!E103 -> 59.670988 | D5: =NAIO1!F103 -> 57.167858 | E5: =NAIO1!G103 -> 58.168218 | F5: =NAIO1!H103 -> 60.346473 | G5: =NAIO1!I103 -> 58.956395 | H5: =NAIO1!J103 -> 62.771457 | ... AJ5: =NAIO1!AL103 -> 34.552733
A6: =NAIO1!C104 -> Investeringer ex. Byggeri | B6: =NAIO1!D104 -> 6.0367929 | C6: =NAIO1!E104 -> 6.0528634 | D6: =NAIO1!F104 -> 5.374028 | E6: =NAIO1!G104 -> 3.9581067 | F6: =NAIO1!H104 -> 5.9206212 | G6: =NAIO1!I104 -> 9.0766103 | H6: =NAIO1!J104 -> 7.3494659 | ... AJ6: =NAIO1!AL104 -> 5.1676458
A7: =NAIO1!C105 -> Offentlig forbrug ex. Byggeri | B7: =NAIO1!D105 -> 7.2442713 | C7: =NAIO1!E105 -> 8.4991807 | D7: =NAIO1!F105 -> 7.6094209 | E7: =NAIO1!G105 -> 8.0685851 | F7: =NAIO1!H105 -> 8.3735033 | G7: =NAIO1!I105 -> 8.4517918 | H7: =NAIO1!J105 -> 9.3473638 | ... AJ7: =NAIO1!AL105 -> 6.5505494
A8: Byggeri samlet andel (højre akse) | B8: =(B3+B4)/SUM(B3:B7) -> 0.12375715 | C8: =(C3+C4)/SUM(C3:C7) -> 0.11324713 | D8: =(D3+D4)/SUM(D3:D7) -> 0.11843513 | E8: =(E3+E4)/SUM(E3:E7) -> 0.11471101 | F8: =(F3+F4)/SUM(F3:F7) -> 0.11004855 | G8: =(G3+G4)/SUM(G3:G7) -> 0.11941489 | H8: =(H3+H4)/SUM(H3:H7) -> 0.12627283 | I8: =(I3+I4)/SUM(I3:I7) -> 0.13039312 | ... AJ8: =(AJ3+AJ4)/SUM(AJ3:AJ7) -> 0.20216577
B9: =B2 -> 1990 | C9: =C2 -> 1991 | D9: =D2 -> 1992 | E9: =E2 -> 1993 | F9: =F2 -> 1994 | G9: =G2 -> 1995 | H9: =H2 -> 1996 | I9: =I2 -> 1997 | ... AJ9: =AJ2 -> 2024
A10: Byggeri (slut+inputudledninger) | B10: =B3+B4 -> 9.5248605 | C10: =C3+C4 -> 9.4790171 | D10: =D3+D4 -> 9.4245809 | E10: =E3+E4 -> 9.0954811 | F10: =F3+F4 -> 9.2298172 | G10: =G3+G4 -> 10.371994 | H10: =H3+H4 -> 11.484918 | I10: =I3+I4 -> 11.363867 | ... AJ10: =AJ3+AJ4 -> 11.724739
A11: =A5 -> Husholdninger ex. Byggeri | B11: =B5 -> 54.158198 | C11: =C5 -> 59.670988 | D11: =D5 -> 57.167858 | E11: =E5 -> 58.168218 | F11: =F5 -> 60.346473 | G11: =G5 -> 58.956395 | H11: =H5 -> 62.771457 | ... AJ11: =AJ5 -> 34.552733
A12: =A6 -> Investeringer ex. Byggeri | B12: =B6 -> 6.0367929 | C12: =C6 -> 6.0528634 | D12: =D6 -> 5.374028 | E12: =E6 -> 3.9581067 | F12: =F6 -> 5.9206212 | G12: =G6 -> 9.0766103 | H12: =H6 -> 7.3494659 | ... AJ12: =AJ6 -> 5.1676458
A13: =A7 -> Offentlig forbrug ex. Byggeri | B13: =B7 -> 7.2442713 | C13: =C7 -> 8.4991807 | D13: =D7 -> 7.6094209 | E13: =E7 -> 8.0685851 | F13: =F7 -> 8.3735033 | G13: =G7 -> 8.4517918 | H13: =H7 -> 9.3473638 | ... AJ13: =AJ7 -> 6.5505494
A14: I alt | B14: =SUM(B10:B13) -> 76.964123 | C14: =SUM(C10:C13) -> 83.702049 | D14: =SUM(D10:D13) -> 79.575888 | E14: =SUM(E10:E13) -> 79.290391 | F14: =SUM(F10:F13) -> 83.870415 | G14: =SUM(G10:G13) -> 86.856791 | H14: =SUM(H10:H13) -> 90.953205 | I14: =SUM(I10:I13) -> 87.150812 | ... AJ14: =SUM(AJ10:AJ13) -> 57.995667

Sheet 4.6
A1: =NAIO1!B18 -> Mio. ton.
A2: =NAIO1!C17 -> CO2e fra inputudledninger i andre brancher | B2: =NAIO1!D2 -> 1990 | C2: =NAIO1!E2 -> 1991 | D2: =NAIO1!F2 -> 1992 | E2: =NAIO1!G2 -> 1993 | F2: =NAIO1!H2 -> 1994 | G2: =NAIO1!I2 -> 1995 | H2: =NAIO1!J2 -> 1996 | I2: =NAIO1!K2 -> 1997 | ... AJ2: =NAIO1!AL2 -> 2024
A3: =NAIO1!C107 -> Husholdninger energi og forsyning | B3: =NAIO1!D107 -> 20.252566 | C3: =NAIO1!E107 -> 23.801924 | D3: =NAIO1!F107 -> 20.985409 | E3: =NAIO1!G107 -> 23.065295 | F3: =NAIO1!H107 -> 23.448611 | G3: =NAIO1!I107 -> 21.728387 | H3: =NAIO1!J107 -> 24.780852 | ... AJ3: =NAIO1!AL107 -> 5.439888
A4: =NAIO1!C108 -> Husholdning ex byggeri, energi og forsyning | B4: =NAIO1!D108 -> 33.905632 | C4: =NAIO1!E108 -> 35.869064 | D4: =NAIO1!F108 -> 36.182449 | E4: =NAIO1!G108 -> 35.102923 | F4: =NAIO1!H108 -> 36.897862 | G4: =NAIO1!I108 -> 37.228008 | H4: =NAIO1!J108 -> 37.990605 | ... AJ4: =NAIO1!AL108 -> 29.112845
A5: =NAIO1!C109 -> Byggeri, slutudledninger | B5: =NAIO1!D109 -> 7.296943 | C5: =NAIO1!E109 -> 7.147117 | D5: =NAIO1!F109 -> 7.039472 | E5: =NAIO1!G109 -> 6.613531 | F5: =NAIO1!H109 -> 6.536589 | G5: =NAIO1!I109 -> 7.4909 | H5: =NAIO1!J109 -> 8.363034 | ... AJ5: =NAIO1!AL109 -> 8.17867
A6: =NAIO1!C110 -> Byggeri, inputudledninger | B6: =NAIO1!D110 -> 2.2279175 | C6: =NAIO1!E110 -> 2.3319001 | D6: =NAIO1!F110 -> 2.3851089 | E6: =NAIO1!G110 -> 2.4819501 | F6: =NAIO1!H110 -> 2.6932282 | G6: =NAIO1!I110 -> 2.8810941 | H6: =NAIO1!J110 -> 3.1218842 | ... AJ6: =NAIO1!AL110 -> 3.5460685
A7: =NAIO1!C111 -> Investeringer ex. Byggeri | B7: =NAIO1!D111 -> 6.0367929 | C7: =NAIO1!E111 -> 6.0528634 | D7: =NAIO1!F111 -> 5.374028 | E7: =NAIO1!G111 -> 3.9581067 | F7: =NAIO1!H111 -> 5.9206212 | G7: =NAIO1!I111 -> 9.0766103 | H7: =NAIO1!J111 -> 7.3494659 | ... AJ7: =NAIO1!AL111 -> 5.1676458
A8: =NAIO1!C112 -> Offentlig forbrug ex. Byggeri | B8: =NAIO1!D112 -> 7.2442713 | C8: =NAIO1!E112 -> 8.4991807 | D8: =NAIO1!F112 -> 7.6094209 | E8: =NAIO1!G112 -> 8.0685851 | F8: =NAIO1!H112 -> 8.3735033 | G8: =NAIO1!I112 -> 8.4517918 | H8: =NAIO1!J112 -> 9.3473638 | ... AJ8: =NAIO1!AL112 -> 6.5505494
S11: =SUM(B3:B8) -> 76.964123 | T11: =SUM(AJ3:AJ8) -> 57.995667 | U11: =S11-T11 -> 18.968456

Sheet 4.7
A1: =NAIO1!B18 -> Mio. ton.
A2: =NAIO1!C17 -> CO2e fra inputudledninger i andre brancher | B2: =NAIO1!D2 -> 1990 | C2: =NAIO1!E2 -> 1991 | D2: =NAIO1!F2 -> 1992 | E2: =NAIO1!G2 -> 1993 | F2: =NAIO1!H2 -> 1994 | G2: =NAIO1!I2 -> 1995 | H2: =NAIO1!J2 -> 1996 | I2: =NAIO1!K2 -> 1997 | ... AJ2: =NAIO1!AL2 -> 2024
A3: =NAIO1!C107 -> Husholdninger energi og forsyning | B3: =NAIO1!D107 -> 20.252566 | C3: =NAIO1!E107 -> 23.801924 | D3: =NAIO1!F107 -> 20.985409 | E3: =NAIO1!G107 -> 23.065295 | F3: =NAIO1!H107 -> 23.448611 | G3: =NAIO1!I107 -> 21.728387 | H3: =NAIO1!J107 -> 24.780852 | ... AJ3: =NAIO1!AL107 -> 5.439888
A4: =NAIO1!C108 -> Husholdning ex byggeri, energi og forsyning | B4: =NAIO1!D108 -> 33.905632 | C4: =NAIO1!E108 -> 35.869064 | D4: =NAIO1!F108 -> 36.182449 | E4: =NAIO1!G108 -> 35.102923 | F4: =NAIO1!H108 -> 36.897862 | G4: =NAIO1!I108 -> 37.228008 | H4: =NAIO1!J108 -> 37.990605 | ... AJ4: =NAIO1!AL108 -> 29.112845
A5: =NAIO1!C109 -> Byggeri, slutudledninger | B5: =NAIO1!D109 -> 7.296943 | C5: =NAIO1!E109 -> 7.147117 | D5: =NAIO1!F109 -> 7.039472 | E5: =NAIO1!G109 -> 6.613531 | F5: =NAIO1!H109 -> 6.536589 | G5: =NAIO1!I109 -> 7.4909 | H5: =NAIO1!J109 -> 8.363034 | ... AJ5: =NAIO1!AL109 -> 8.17867
A6: =NAIO1!C110 -> Byggeri, inputudledninger | B6: =NAIO1!D110 -> 2.2279175 | C6: =NAIO1!E110 -> 2.3319001 | D6: =NAIO1!F110 -> 2.3851089 | E6: =NAIO1!G110 -> 2.4819501 | F6: =NAIO1!H110 -> 2.6932282 | G6: =NAIO1!I110 -> 2.8810941 | H6: =NAIO1!J110 -> 3.1218842 | ... AJ6: =NAIO1!AL110 -> 3.5460685
A7: =NAIO1!C111 -> Investeringer ex. Byggeri | B7: =NAIO1!D111 -> 6.0367929 | C7: =NAIO1!E111 -> 6.0528634 | D7: =NAIO1!F111 -> 5.374028 | E7: =NAIO1!G111 -> 3.9581067 | F7: =NAIO1!H111 -> 5.9206212 | G7: =NAIO1!I111 -> 9.0766103 | H7: =NAIO1!J111 -> 7.3494659 | ... AJ7: =NAIO1!AL111 -> 5.1676458
A8: =NAIO1!C112 -> Offentlig forbrug ex. Byggeri | B8: =NAIO1!D112 -> 7.2442713 | C8: =NAIO1!E112 -> 8.4991807 | D8: =NAIO1!F112 -> 7.6094209 | E8: =NAIO1!G112 -> 8.0685851 | F8: =NAIO1!H112 -> 8.3735033 | G8: =NAIO1!I112 -> 8.4517918 | H8: =NAIO1!J112 -> 9.3473638 | ... AJ8: =NAIO1!AL112 -> 6.5505494
A9: I alt | B9: =SUM(B3:B8) -> 76.964123 | C9: =SUM(C3:C8) -> 83.702049 | D9: =SUM(D3:D8) -> 79.575888 | E9: =SUM(E3:E8) -> 79.290391 | F9: =SUM(F3:F8) -> 83.870415 | G9: =SUM(G3:G8) -> 86.856791 | H9: =SUM(H3:H8) -> 90.953205 | I9: =SUM(I3:I8) -> 87.150812 | ... AJ9: =SUM(AJ3:AJ8) -> 57.995667

Sheet Tabel 5.1
D3: Opgjort i CO2e pr. m2 pr. år i 50 år
B4: Antal cases | C4: Boligtype | D4: Total (A1-3, B4, B6, C3-4) | E4: Energiforbrug til drift (B6) | F4: Bygningsdele (A1-3, B4, C3-4) | G4: Samlet kg CO2e pr. m2 for bygningsdele | H4: tons CO2e ved 100 m2 | I4: tons CO2e ved 150 m2 | J4: tons CO2e ved 200 m2
B5: 35 | C5: Enfamiliehuse | D5: 8.89 | E5: 0.7 | F5: 8.31 | G5: 415.5 | H5: 41.55 | I5: 62.325 | J5: 83.1
B6: 22 | C6: Rækkehus | D6: 8.19 | E6: 0.64 | F6: 7.39 | G6: 369.5 | H6: 36.95 | I6: 55.425 | J6: 73.9
B7: 45 | C7: Etagebolig | D7: 8.47 | E7: 0.56 | F7: 7.94 | G7: 397 | H7: 39.7 | I7: 59.55 | J7: 79.4
C12: (CO2e pr. m2 pr. år i 50 år) | E12: Grænseværdier | H12: Reduktion ift. median
B13: Antal cases | C13: Boligtype | D13: Tozan et al. (2023) - median | E13: 2025 | F13: 2027 | G13: 2029 | H13: 2025 | I13: 2027 | J13: 2029
B14: 35 | C14: Enfamiliehuse | D14: 8.89 | E14: 6.7 | F14: 6 | G14: 5.4 | H14: =E14/$D14-1 -> -0.24634421 | I14: =F14/$D14-1 -> -0.32508436 | J14: =G14/$D14-1 -> -0.39257593 | L14: 0.40940783 | N14: =J14*L14+J15*L15+J16*L16 -> -0.33800985
B15: 22 | C15: Rækkehus | D15: 8.19 | E15: 6.7 | F15: 6 | G15: 5.4 | H15: =E15/$D15-1 -> -0.18192918 | I15: =F15/$D15-1 -> -0.26739927 | J15: =G15/$D15-1 -> -0.34065934 | L15: 0.19773695
B16: 45 | C16: Etagebolig | D16: 8.47 | E16: 7.5 | F16: 6.8 | G16: 6.1 | H16: =E16/$D16-1 -> -0.11452184 | I16: =F16/$D16-1 -> -0.19716647 | J16: =G16/$D16-1 -> -0.2798111 | L16: 0.39285522
C17: Kontor | D17: 9.46 | E17: 7.5 | F17: 6.8 | G17: 6.1 | H17: =E17/$D17-1 -> -0.20718816 | I17: =F17/$D17-1 -> -0.28118393 | J17: =G17/$D17-1 -> -0.3551797

Sheet 5.3
A1: =NAIO1!B18 -> Mio. ton.
A2: =NAIO1!C17 -> CO2e fra inputudledninger i andre brancher | B2: =NAIO1!D2 -> 1990 | C2: =NAIO1!E2 -> 1991 | D2: =NAIO1!F2 -> 1992 | E2: =NAIO1!G2 -> 1993 | F2: =NAIO1!H2 -> 1994 | G2: =NAIO1!I2 -> 1995 | H2: =NAIO1!J2 -> 1996 | I2: =NAIO1!K2 -> 1997 | ... AJ2: =NAIO1!AL2 -> 2024
A3: =NAIO1!C18 -> Nybyggeri | B3: =NAIO1!D23 -> 3.013854 | C3: =NAIO1!E23 -> 2.703794 | D3: =NAIO1!F23 -> 2.539899 | E3: =NAIO1!G23 -> 1.978144 | F3: =NAIO1!H23 -> 1.9932436 | G3: =NAIO1!I23 -> 2.4978663 | H3: =NAIO1!J23 -> 2.914936 | I3: =NAIO1!K23 -> 3.1846584 | ... AJ3: =NAIO1!AL23 -> 3.0032968
A4: =NAIO1!C19 -> Anlægsvirksomhed | B4: =NAIO1!D24 -> 3.4606014 | C4: =NAIO1!E24 -> 3.4320676 | D4: =NAIO1!F24 -> 3.4293415 | E4: =NAIO1!G24 -> 3.5810414 | F4: =NAIO1!H24 -> 3.3856325 | G4: =NAIO1!I24 -> 3.6908877 | H4: =NAIO1!J24 -> 4.0882846 | I4: =NAIO1!K24 -> 3.7512596 | ... AJ4: =NAIO1!AL24 -> 3.5559993
A5: =NAIO1!C20 -> Prof. rep. og vedl. | B5: =NAIO1!D25 -> 2.1501411 | C5: =NAIO1!E25 -> 2.323968 | D5: =NAIO1!F25 -> 2.3468334 | E5: =NAIO1!G25 -> 2.2802883 | F5: =NAIO1!H25 -> 2.5044094 | G5: =NAIO1!I25 -> 2.6500808 | H5: =NAIO1!J25 -> 2.7520506 | I5: =NAIO1!K25 -> 2.71914 | ... AJ5: =NAIO1!AL25 -> 2.9118701
A6: =NAIO1!C21 -> Gør-det-selv rep. og vedl. | B6: =NAIO1!D26 -> 0.90026395 | C6: =NAIO1!E26 -> 1.0191875 | D6: =NAIO1!F26 -> 1.1085071 | E6: =NAIO1!G26 -> 1.2560074 | F6: =NAIO1!H26 -> 1.3465318 | G6: =NAIO1!I26 -> 1.5331593 | H6: =NAIO1!J26 -> 1.7296469 | I6: =NAIO1!K26 -> 1.7088085 | ... AJ6: =NAIO1!AL26 -> 2.2535723
A7: =NAIO1!C22 -> CO2e i alt fra egen udledning og ind i andre brancher | B7: =NAIO1!D27 -> 9.5248605 | C7: =NAIO1!E27 -> 9.4790171 | D7: =NAIO1!F27 -> 9.4245809 | E7: =NAIO1!G27 -> 9.0954811 | F7: =NAIO1!H27 -> 9.2298172 | G7: =NAIO1!I27 -> 10.371994 | H7: =NAIO1!J27 -> 11.484918 | I7: =NAIO1!K27 -> 11.363867 | ... AJ7: =NAIO1!AL27 -> 11.724739
A8: Nybyg andel | B8: =B3/B7 -> 0.31641975 | C8: =C3/C7 -> 0.28523991 | D8: =D3/D7 -> 0.26949729 | E8: =E3/E7 -> 0.21748646 | F8: =F3/F7 -> 0.21595699 | G8: =G3/G7 -> 0.24082797 | H8: =H3/H7 -> 0.25380555 | I8: =I3/I7 -> 0.28024426 | ... AJ8: =AJ3/AJ7 -> 0.25615043

Sheet 6.2
A1: Data trukket d. 11. april | J1: Kolonne | K1: 1 | L1: 2 | M1: 3 | N1: 4
A2: Nedrivningstype | B2: Alle teardowns | C2: Alle nedrivning med efterfølgende nyopførelse | D2: Nedrivninger af fritliggende enfamiliehuse | E2: Nedrivninger af fritliggende enfamiliehuse og nyopførelse af bygning | F2: Nedrivninger af fritliggende enfamiliehuse og nyopførelse af enfamiliehus | G2: Nedrivninger af fritliggende enfamiliehuse og nyopførelse af enfamiliehus og handel op til 2 år før | J2: Forklaring | K2: Nedrevne fritliggende enfamiliehuse | L2: Nedrevne fritliggende enfamiliehuse med nyopførelse af bygning | M2: Nedrevne fritliggende enfamiliehuse med nyopførelse af enfamiliehus | N2: Nedrevne fritliggende enfamiliehuse med nyopførelse af enfamiliehus og handel op til 2 år før
A3: teardown_case_date | B3: teardown_count | C3: teardown_count | D3: teardown_count2 | E3: teardown_count3 | F3: teardown_count4 | G3: teardown_count5 | J3: 2018 | K3: =D5 -> 1955 | L3: =E5 -> 1455 | M3: =F5 -> 1234 | N3: =G5 -> 616
A4: 42736 | B4: 3460 | C4: 2340 | D4: 918 | E4: 661 | F4: 544 | G4: 347 | J4: 2019 | K4: =D6 -> 1990 | L4: =E6 -> 1473 | M4: =F6 -> 1242 | N4: =G6 -> 680
A5: 43101 | B5: 6695 | C5: 4592 | D5: 1955 | E5: 1455 | F5: 1234 | G5: 616 | J5: 2020 | K5: =D7 -> 2217 | L5: =E7 -> 1621 | M5: =F7 -> 1345 | N5: =G7 -> 766
A6: 43466 | B6: 6745 | C6: 4598 | D6: 1990 | E6: 1473 | F6: 1242 | G6: 680 | J6: 2021 | K6: =D8 -> 2330 | L6: =E8 -> 1722 | M6: =F8 -> 1473 | N6: =G8 -> 775
A7: 43831 | B7: 7463 | C7: 5017 | D7: 2217 | E7: 1621 | F7: 1345 | G7: 766 | J7: 2022 | K7: =D9 -> 1861 | L7: =E9 -> 1336 | M7: =F9 -> 1135 | N7: =G9 -> 453
A8: 44197 | B8: 7629 | C8: 5181 | D8: 2330 | E8: 1722 | F8: 1473 | G8: 775 | J8: 2023 | K8: =D10 -> 1762 | L8: =E10 -> 1132 | M8: =F10 -> 968 | N8: =G10 -> 575
A9: 44562 | B9: 6264 | C9: 4107 | D9: 1861 | E9: 1336 | F9: 1135 | G9: 453 | J9: 2024 | K9: =D11 -> 1981 | L9: =E11 -> 1261 | M9: =F11 -> 1062 | N9: =G11 -> 608
A10: 44927 | B10: 5900 | C10: 3598 | D10: 1762 | E10: 1132 | F10: 968 | G10: 575 | J10: 2025* | K10: =D12 -> 1933 | L10: =E12 -> 1099 | M10: =F12 -> 952 | N10: =G12 -> 308
A11: 45292 | B11: 7061 | C11: 4135 | D11: 1981 | E11: 1261 | F11: 1062 | G11: 608 | J11: I alt | K11: =SUM(K3:K10) -> 16029 | L11: =SUM(L3:L10) -> 11099 | M11: =SUM(M3:M10) -> 9411 | N11: =SUM(N3:N10) -> 4781
A12: 45658 | B12: 6400 | C12: 3498 | D12: 1933 | E12: 1099 | F12: 952 | G12: 308 | J12: Årligt gennemsnit 2018-2024 | K12: =AVERAGE(K3:K10) -> 2003.625 | L12: =AVERAGE(L3:L10) -> 1387.375 | M12: =AVERAGE(M3:M10) -> 1176.375 | N12: =AVERAGE(N3:N10) -> 597.625
A13: Total | B13: =SUM(test_bvc_building_teardown_anything3[teardown_count]) -> 57617 | C13: =SUM(test_bvc_building_teardown_anything_to_anything45[teardown_count]) -> 37066 | D13: =SUM(test_bvc_building_teardown_anything_to_anything45[teardown_count2]) -> 16947 | E13: =SUM(test_bvc_building_teardown_anything_to_anything45[teardown_count3]) -> 11760 | F13: =SUM(test_bvc_building_teardown_anything_to_anything45[teardown_count4]) -> 9955 | G13: =SUM(test_bvc_building_teardown_anything_to_anything45[teardown_count5]) -> 5128 | J13: Forskel til næste kolonne | K13: =K12-L12 -> 616.25 | L13: =L12-M12 -> 211 | M13: =M12-N12 -> 578.75 | N13: -
B15: Nedrivning | C15: Nedrivning og ny bygning | D15: Nedrivning af enfam | E15: Nedrivning af enfam og ny bygning | F15: Nedrivning af enfam og nyt enfam | G15: Nedrivningssalg | J15: Teardown sale | K15: Eksisterende ejere nyt hus | L15: Nedrivning uden nyopførelse | M15: Opførelse af andet end hus | Q15: Nedrivningssalg | R15: Eksisterende ejere nyt hus | S15: =L15 -> Nedrivning uden nyopførelse | T15: Opførelse af andet end hus
A16: 2018 | B16: =B5 -> 6695 | C16: =C5 -> 4592 | D16: =D5 -> 1955 | E16: =E5 -> 1455 | F16: =F5 -> 1234 | G16: =G5 -> 616 | I16: =A16 -> 2018 | J16: =G16 -> 616 | K16: =F16-G16 -> 618 | L16: =D16-E16 -> 500 | M16: =E16-F16 -> 221 | N16: =SUM(J16:M16) -> 1955 | P16: 2018 | Q16: =G16/D16 -> 0.31508951 | R16: =(F16-G16)/D16 -> 0.31611253 | S16: =(D16-E16)/D16 -> 0.25575448 | T16: =(E16-F16)/D16 -> 0.11304348 | U16: =SUM(Q16:T16) -> 1
A17: 2019 | B17: =B6 -> 6745 | C17: =C6 -> 4598 | D17: =D6 -> 1990 | E17: =E6 -> 1473 | F17: =F6 -> 1242 | G17: =G6 -> 680 | I17: =A17 -> 2019 | J17: =G17 -> 680 | K17: =F17-G17 -> 562 | L17: =D17-E17 -> 517 | M17: =E17-F17 -> 231 | N17: =SUM(J17:M17) -> 1990 | P17: 2019 | Q17: =G17/D17 -> 0.34170854 | R17: =(F17-G17)/D17 -> 0.28241206 | S17: =(D17-E17)/D17 -> 0.25979899 | T17: =(E17-F17)/D17 -> 0.1160804 | U17: =SUM(Q17:T17) -> 1
A18: 2020 | B18: =B7 -> 7463 | C18: =C7 -> 5017 | D18: =D7 -> 2217 | E18: =E7 -> 1621 | F18: =F7 -> 1345 | G18: =G7 -> 766 | I18: =A18 -> 2020 | J18: =G18 -> 766 | K18: =F18-G18 -> 579 | L18: =D18-E18 -> 596 | M18: =E18-F18 -> 276 | N18: =SUM(J18:M18) -> 2217 | P18: 2020 | Q18: =G18/D18 -> 0.34551195 | R18: =(F18-G18)/D18 -> 0.26116373 | S18: =(D18-E18)/D18 -> 0.26883175 | T18: =(E18-F18)/D18 -> 0.12449256 | U18: =SUM(Q18:T18) -> 1
A19: 2021 | B19: =B8 -> 7629 | C19: =C8 -> 5181 | D19: =D8 -> 2330 | E19: =E8 -> 1722 | F19: =F8 -> 1473 | G19: =G8 -> 775 | I19: =A19 -> 2021 | J19: =G19 -> 775 | K19: =F19-G19 -> 698 | L19: =D19-E19 -> 608 | M19: =E19-F19 -> 249 | N19: =SUM(J19:M19) -> 2330 | P19: 2021 | Q19: =G19/D19 -> 0.33261803 | R19: =(F19-G19)/D19 -> 0.29957082 | S19: =(D19-E19)/D19 -> 0.26094421 | T19: =(E19-F19)/D19 -> 0.10686695 | U19: =SUM(Q19:T19) -> 1
A20: 2022 | B20: =B9 -> 6264 | C20: =C9 -> 4107 | D20: =D9 -> 1861 | E20: =E9 -> 1336 | F20: =F9 -> 1135 | G20: =G9 -> 453 | I20: =A20 -> 2022 | J20: =G20 -> 453 | K20: =F20-G20 -> 682 | L20: =D20-E20 -> 525 | M20: =E20-F20 -> 201 | N20: =SUM(J20:M20) -> 1861 | P20: 2022 | Q20: =G20/D20 -> 0.24341752 | R20: =(F20-G20)/D20 -> 0.36646964 | S20: =(D20-E20)/D20 -> 0.28210639 | T20: =(E20-F20)/D20 -> 0.10800645 | U20: =SUM(Q20:T20) -> 1
A21: 2023 | B21: =B10 -> 5900 | C21: =C10 -> 3598 | D21: =D10 -> 1762 | E21: =E10 -> 1132 | F21: =F10 -> 968 | G21: =G10 -> 575 | I21: =A21 -> 2023 | J21: =G21 -> 575 | K21: =F21-G21 -> 393 | L21: =D21-E21 -> 630 | M21: =E21-F21 -> 164 | N21: =SUM(J21:M21) -> 1762 | P21: 2023 | Q21: =G21/D21 -> 0.32633371 | R21: =(F21-G21)/D21 -> 0.223042 | S21: =(D21-E21)/D21 -> 0.35754824 | T21: =(E21-F21)/D21 -> 0.09307605 | U21: =SUM(Q21:T21) -> 1
A22: 2024 | B22: =B11 -> 7061 | C22: =C11 -> 4135 | D22: =D11 -> 1981 | E22: =E11 -> 1261 | F22: =F11 -> 1062 | G22: =G11 -> 608 | I22: =A22 -> 2024 | J22: =G22 -> 608 | K22: =F22-G22 -> 454 | L22: =D22-E22 -> 720 | M22: =E22-F22 -> 199 | N22: =SUM(J22:M22) -> 1981 | P22: 2024 | Q22: =G22/D22 -> 0.3069157 | R22: =(F22-G22)/D22 -> 0.22917718 | S22: =(D22-E22)/D22 -> 0.3634528 | T22: =(E22-F22)/D22 -> 0.10045432 | U22: =SUM(Q22:T22) -> 1
A23: 2025 | B23: =B12 -> 6400 | C23: =C12 -> 3498 | D23: =D12 -> 1933 | E23: =E12 -> 1099 | F23: =F12 -> 952 | G23: =G12 -> 308 | I23: =A23 -> 2025 | J23: =G23 -> 308 | K23: =F23-G23 -> 644 | L23: =D23-E23 -> 834 | M23: =E23-F23 -> 147 | N23: =SUM(J23:M23) -> 1933 | P23: 2025 | Q23: =G23/D23 -> 0.15933782 | R23: =(F23-G23)/D23 -> 0.33316089 | S23: =(D23-E23)/D23 -> 0.4314537 | T23: =(E23-F23)/D23 -> 0.076047594 | U23: =SUM(Q23:T23) -> 1

Sheet BYG32+33
A1: Byggeomkostningsindeks for boliger (2015=100) efter enhed, hovedindeks, art og tid | D1: Tabellen bliver ikke længere opdateret. For nyere data: [BYG33](https://www.statistikbanken.dk/BYG33)
A2: Enhed: -
A3: NYBYGGERI | B3: BYG32 | D3: 1990 | E3: 1991 | F3: 1992 | G3: 1993 | H3: 1994 | I3: 1995 | J3: 1996 | K3: 1997 | L3: 1998 | M3: 1999 | N3: 2000 | O3: 2001 | P3: 2002 | Q3: 2003 | R3: 2004 | S3: 2005 | T3: 2006 | U3: 2007 | V3: 2008 | W3: 2009 | X3: 2010 | Y3: 2011 | Z3: 2012 | AA3: 2013 | AB3: 2014 | AC3: 2015 | AD3: 2016 | AE3: 2017 | AF3: 2018 | AG3: 2019 | AH3: 2020 | AI3: 2021 | AJ3: 2022 | AK3: 2023
B4: Byggeomkostningsindeks for enfamiliehuse | C4: I alt | D4: 51.5 | E4: 53.3 | F4: 54.8 | G4: 55.8 | H4: 57.2 | I4: 59.4 | J4: 61.1 | K4: 62.8 | L4: 64.6 | M4: 66.8 | N4: 68.4 | O4: 70.9 | P4: 72.4 | Q4: 74.4 | R4: 75.9 | S4: 77.4 | T4: 81 | U4: 86.2 | V4: 88.4 | W4: 88.2 | X4: 89.3 | Y4: 92.5 | Z4: 95 | AA4: 96.4 | AB4: 98 | AC4: 100 | AD4: 101.6 | AE4: 102.3 | AF4: 104.1 | AG4: 104.9 | AH4: 105.6 | AI4: 109.9 | AJ4: 121.3 | AK4: 126.6
C5: Materialer | D5: 56.1 | E5: 58 | F5: 59.7 | G5: 60.7 | H5: 61.8 | I5: 64.3 | J5: 66 | K5: 67.5 | L5: 69 | M5: 70.9 | N5: 72.2 | O5: 74.6 | P5: 75.7 | Q5: 77.1 | R5: 78 | S5: 79.2 | T5: 83.5 | U5: 90.4 | V5: 92.6 | W5: 90.7 | X5: 91.2 | Y5: 95.3 | Z5: 97.8 | AA5: 98.6 | AB5: 99.2 | AC5: 100 | AD5: 101 | AE5: 101.1 | AF5: 102.8 | AG5: 103.2 | AH5: 103.5 | AI5: 108.2 | AJ5: 122.8 | AK5: 128.7
C6: Arbejdsomkostninger | D6: 41.1 | E6: 42.6 | F6: 43.8 | G6: 44.9 | H6: 46.3 | I6: 48.2 | J6: 50.2 | K6: 52.4 | L6: 55.2 | M6: 58.1 | N6: 60.4 | O6: 63.4 | P6: 65.8 | Q6: 69 | R6: 71.7 | S6: 73.9 | T6: 76.3 | U6: 78.1 | V6: 80.2 | W6: 83.3 | X6: 85.7 | Y6: 87.1 | Z6: 89.6 | AA6: 92.2 | AB6: 95.6 | AC6: 100 | AD6: 103.1 | AE6: 105 | AF6: 107.2 | AG6: 109 | AH6: 111.1 | AI6: 114.1 | AJ6: 116.8 | AK6: 120.2
J11: BYG33 | K11: Byggeomkostningsindeks for enfamiliehuse | Q11: 2003 | R11: 2004 | S11: 2005 | T11: 2006 | U11: 2007 | V11: 2008 | W11: 2009 | X11: 2010 | Y11: 2011 | Z11: 2012 | AA11: 2013 | AB11: 2014 | AC11: 2015 | AD11: 2016 | AE11: 2017 | AF11: 2018 | AG11: 2019 | AH11: 2020 | AI11: 2021 | AJ11: 2022 | AK11: 2023 | AL11: 2024 | AM11: 2025
P12: I alt | Q12: 67.7 | R12: 69.1 | S12: 70.4 | T12: 73.7 | U12: 78.4 | V12: 80.4 | W12: 80.3 | X12: 81.3 | Y12: 84.2 | Z12: 86.4 | AA12: 87.7 | AB12: 89.2 | AC12: 91 | AD12: 92.4 | AE12: 93.1 | AF12: 94.7 | AG12: 95.5 | AH12: 96.1 | AI12: 100 | AJ12: 110.4 | AK12: 115.2 | AL12: 117.8 | AM12: 120.2
P13: Materialer | Q13: 71.3 | R13: 72.1 | S13: 73.2 | T13: 77.2 | U13: 83.5 | V13: 85.6 | W13: 83.8 | X13: 84.3 | Y13: 88.1 | Z13: 90.4 | AA13: 91.1 | AB13: 91.7 | AC13: 92.4 | AD13: 93.3 | AE13: 93.4 | AF13: 95 | AG13: 95.4 | AH13: 95.7 | AI13: 100 | AJ13: 113.5 | AK13: 118.9 | AL13: 120.6 | AM13: 123.2
P14: Arbejdsomkostninger | Q14: 60.5 | R14: 62.8 | S14: 64.8 | T14: 66.9 | U14: 68.4 | V14: 70.3 | W14: 73 | X14: 75.1 | Y14: 76.3 | Z14: 78.5 | AA14: 80.8 | AB14: 83.8 | AC14: 87.6 | AD14: 90.4 | AE14: 92 | AF14: 94 | AG14: 95.5 | AH14: 97.4 | AI14: 100 | AJ14: 102.4 | AK14: 105.3 | AL14: 109.4 | AM14: 111.6
C17: Sammensat i alt enfam.huse | D17: =D4/$D$4*100 -> 100 | E17: =E4/$D$4*100 -> 103.49515 | F17: =F4/$D$4*100 -> 106.40777 | G17: =G4/$D$4*100 -> 108.34951 | H17: =H4/$D$4*100 -> 111.06796 | I17: =I4/$D$4*100 -> 115.33981 | J17: =J4/$D$4*100 -> 118.64078 | K17: =K4/$D$4*100 -> 121.94175 | ... Q17: =Q4/$D$4*100 -> 144.46602 | R17: =Q17*R12/Q12 -> 147.4535 | S17: =R17*S12/R12 -> 150.22759 | T17: =S17*T12/S12 -> 157.26951 | U17: =T17*U12/T12 -> 167.29891 | V17: =U17*V12/U12 -> 171.56674 | W17: =V17*W12/V12 -> 171.35334 | X17: =W17*X12/W12 -> 173.48726 | Y17: =X17*Y12/X12 -> 179.67561 | ... AM17: =AL17*AM12/AL12 -> 256.49654
A18: GØR-DET-SELV R&V | C18: Sammensat materialer | D18: =D5/$D$5*100 -> 100 | E18: =E5/$D$5*100 -> 103.38681 | F18: =F5/$D$5*100 -> 106.41711 | G18: =G5/$D$5*100 -> 108.19964 | H18: =H5/$D$5*100 -> 110.16043 | I18: =I5/$D$5*100 -> 114.61676 | J18: =J5/$D$5*100 -> 117.64706 | K18: =K5/$D$5*100 -> 120.32086 | ... Q18: =Q5/$D$5*100 -> 137.43316 | R18: =Q18*R13/Q13 -> 138.97518 | S18: =R18*S13/R13 -> 141.09547 | T18: =S18*T13/S13 -> 148.8056 | U18: =T18*U13/T13 -> 160.94907 | V18: =U18*V13/U13 -> 164.99689 | W18: =V18*W13/V13 -> 161.52733 | X18: =W18*X13/W13 -> 162.49109 | Y18: =X18*Y13/X13 -> 169.81572 | ... AM18: =AL18*AM13/AL13 -> 237.47216
A20: ANLÆG | B20: BYG62 | D20: 1990K1 | E20: 1990K2 | F20: 1990K3 | G20: 1990K4 | H20: 1991K1 | I20: 1991K2 | J20: 1991K3 | K20: 1991K4 | L20: 1992K1 | M20: 1992K2 | N20: 1992K3 | O20: 1992K4 | P20: 1993K1 | Q20: 1993K2 | R20: 1993K3 | S20: 1993K4 | T20: 1994K1 | U20: 1994K2 | V20: 1994K3 | W20: 1994K4 | X20: 1995K1 | Y20: 1995K2 | Z20: 1995K3 | AA20: 1995K4 | AB20: 1996K1 | AC20: 1996K2 | AD20: 1996K3 | AE20: 1996K4 | AF20: 1997K1 | AG20: 1997K2 | AH20: 1997K3 | AI20: 1997K4 | AJ20: 1998K1 | AK20: 1998K2 | AL20: 1998K3 | AM20: 1998K4 | AN20: 1999K1 | AO20: 1999K2 | AP20: 1999K3 | AQ20: 1999K4 | AR20: 2000K1 | AS20: 2000K2 | AT20: 2000K3 | AU20: 2000K4 | AV20: 2001K1 | AW20: 2001K2 | AX20: 2001K3 | AY20: 2001K4 | AZ20: 2002K1 | BA20: 2002K2 | BB20: 2002K3 | BC20: 2002K4 | BD20: 2003K1 | BE20: 2003K2 | BF20: 2003K3 | BG20: 2003K4 | BH20: 2004K1 | BI20: 2004K2 | BJ20: 2004K3 | BK20: 2004K4 | BL20: 2005K1 | BM20: 2005K2 | BN20: 2005K3 | BO20: 2005K4 | BP20: 2006K1 | BQ20: 2006K2 | BR20: 2006K3 | BS20: 2006K4 | BT20: 2007K1 | BU20: 2007K2 | BV20: 2007K3 | BW20: 2007K4 | BX20: 2008K1 | BY20: 2008K2 | BZ20: 2008K3 | CA20: 2008K4 | CB20: 2009K1 | CC20: 2009K2 | CD20: 2009K3 | CE20: 2009K4 | CF20: 2010K1 | CG20: 2010K2 | CH20: 2010K3 | CI20: 2010K4 | CJ20: 2011K1 | CK20: 2011K2 | CL20: 2011K3 | CM20: 2011K4 | CN20: 2012K1 | CO20: 2012K2 | CP20: 2012K3 | CQ20: 2012K4 | CR20: 2013K1 | CS20: 2013K2 | CT20: 2013K3 | CU20: 2013K4 | CV20: 2014K1 | CW20: 2014K2 | CX20: 2014K3 | CY20: 2014K4 | CZ20: 2015K1 | DA20: 2015K2 | DB20: 2015K3 | DC20: 2015K4 | DD20: 2016K1 | DE20: 2016K2 | DF20: 2016K3 | DG20: 2016K4 | DH20: 2017K1 | DI20: 2017K2 | DJ20: 2017K3 | DK20: 2017K4 | DL20: 2018K1 | DM20: 2018K2 | DN20: 2018K3 | DO20: 2018K4 | DP20: 2019K1 | DQ20: 2019K2 | DR20: 2019K3 | DS20: 2019K4 | DT20: 2020K1 | DU20: 2020K2 | DV20: 2020K3 | DW20: 2020K4 | DX20: 2021K1 | DY20: 2021K2 | DZ20: 2021K3 | EA20: 2021K4 | EB20: 2022K1 | EC20: 2022K2 | ED20: 2022K3 | EE20: 2022K4 | EF20: 2023K1 | EG20: 2023K2 | EH20: 2023K3 | EI20: 2023K4 | EJ20: 2024K1 | EK20: 2024K2 | EL20: 2024K3 | EM20: 2024K4 | EN20: 2025K1 | EO20: 2025K2 | EP20: 2025K3 | EQ20: 2025K4 | ER20: 2026K1
B21: Anlæg af veje | D21: .. | E21: .. | F21: .. | G21: .. | H21: .. | I21: .. | J21: .. | K21: .. | L21: .. | M21: .. | N21: .. | O21: .. | P21: .. | Q21: .. | R21: .. | S21: .. | T21: .. | U21: .. | V21: .. | W21: .. | X21: 48.62 | Y21: 48.69 | Z21: 49.23 | AA21: 49.45 | AB21: 50.46 | AC21: 50.25 | AD21: 50.85 | AE21: 51.88 | AF21: 52.26 | AG21: 52.5 | AH21: 52.78 | AI21: 52.95 | AJ21: 53.02 | AK21: 53.48 | AL21: 53.74 | AM21: 53.41 | AN21: 54.32 | AO21: 54.93 | AP21: 55.78 | AQ21: 56.91 | AR21: 58.28 | AS21: 59.28 | AT21: 60.79 | AU21: 60.52 | AV21: 60.66 | AW21: 61.26 | AX21: 61.32 | AY21: 60.16 | AZ21: 61.68 | BA21: 62.18 | BB21: 62.85 | BC21: 62.44 | BD21: 64.23 | BE21: 62.9 | BF21: 63.51 | BG21: 63.6 | BH21: 64.59 | BI21: 65.83 | BJ21: 66.53 | BK21: 66.45 | BL21: 67.99 | BM21: 69.36 | BN21: 70.57 | BO21: 70.61 | BP21: 72.27 | BQ21: 73.23 | BR21: 73.1 | BS21: 72.7 | BT21: 73.94 | BU21: 76.29 | BV21: 77.25 | BW21: 78.72 | BX21: 81.29 | BY21: 84.35 | BZ21: 83.45 | CA21: 77.32 | CB21: 77.4 | CC21: 79.08 | CD21: 79.85 | CE21: 80.19 | CF21: 80.99 | CG21: 82.55 | CH21: 82.63 | CI21: 83.03 | CJ21: 86.05 | CK21: 86.35 | CL21: 86.8 | CM21: 87.44 | CN21: 89.08 | CO21: 87.98 | CP21: 89.04 | CQ21: 87.65 | CR21: 88.28 | CS21: 87.86 | CT21: 88.41 | CU21: 87.73 | CV21: 87.95 | CW21: 88 | CX21: 87.41 | CY21: 84.92 | CZ21: 84.41 | DA21: 85.15 | DB21: 85.17 | DC21: 85.11 | DD21: 85.5 | DE21: 86.92 | DF21: 86.99 | DG21: 88.43 | DH21: 89.28 | DI21: 89.21 | DJ21: 90.01 | DK21: 90.81 | DL21: 92.97 | DM21: 94.69 | DN21: 95.84 | DO21: 94.56 | DP21: 94.72 | DQ21: 94.45 | DR21: 93.72 | DS21: 92.15 | DT21: 91.49 | DU21: 90.11 | DV21: 91.56 | DW21: 93.62 | DX21: 97.08 | DY21: 99.28 | DZ21: 101.49 | EA21: 102.15 | EB21: 108.42 | EC21: 115.57 | ED21: 114.5 | EE21: 110.68 | EF21: 111.99 | EG21: 114.16 | EH21: 116.89 | EI21: 115.25 | EJ21: 117.89 | EK21: 117.85 | EL21: 116.87 | EM21: 118.48 | EN21: 119.26 | EO21: 118.81 | EP21: 118.95 | EQ21: 118.55 | ER21: 122.33
B22: Jordarbejde | D22: 45.42 | E22: 45.63 | F22: 46.53 | G22: 46.59 | H22: 47.43 | I22: 47.71 | J22: 48.26 | K22: 48.19 | L22: 46.81 | M22: 46.94 | N22: 47.01 | O22: 48.05 | P22: 48.88 | Q22: 48.88 | R22: 49.23 | S22: 49.08 | T22: 49.43 | U22: 49.64 | V22: 50.19 | W22: 49.99 | X22: 51.02 | Y22: 51.25 | Z22: 52.05 | AA22: 52.27 | AB22: 53.58 | AC22: 53.49 | AD22: 53.82 | AE22: 54.8 | AF22: 55.29 | AG22: 55.66 | AH22: 55.65 | AI22: 55.62 | AJ22: 55.82 | AK22: 56.74 | AL22: 57.19 | AM22: 57.03 | AN22: 58.21 | AO22: 58.58 | AP22: 59.07 | AQ22: 59.71 | AR22: 60.51 | AS22: 61.5 | AT22: 62.78 | AU22: 62.23 | AV22: 62.94 | AW22: 63.91 | AX22: 63.95 | AY22: 63.16 | AZ22: 64.7 | BA22: 64.57 | BB22: 65.31 | BC22: 65.39 | BD22: 66.84 | BE22: 65.78 | BF22: 66.03 | BG22: 66.2 | BH22: 67.15 | BI22: 68.07 | BJ22: 68.67 | BK22: 69.05 | BL22: 70.9 | BM22: 71.85 | BN22: 72.5 | BO22: 72.34 | BP22: 73.71 | BQ22: 74.39 | BR22: 74.22 | BS22: 74.43 | BT22: 75.86 | BU22: 77.77 | BV22: 78.34 | BW22: 79.07 | BX22: 82.06 | BY22: 84.44 | BZ22: 83.91 | CA22: 81.48 | CB22: 82.15 | CC22: 83.01 | CD22: 82.74 | CE22: 83.06 | CF22: 83.86 | CG22: 84.45 | CH22: 84.52 | CI22: 84.9 | CJ22: 86.44 | CK22: 86.79 | CL22: 86.97 | CM22: 87.24 | CN22: 87.87 | CO22: 87.1 | CP22: 88.27 | CQ22: 87.84 | CR22: 88.6 | CS22: 88.51 | CT22: 89.04 | CU22: 88.64 | CV22: 89.25 | CW22: 89.32 | CX22: 88.5 | CY22: 87.55 | CZ22: 87.96 | DA22: 88.3 | DB22: 89.3 | DC22: 89.98 | DD22: 91.07 | DE22: 91.13 | DF22: 91.02 | DG22: 91.88 | DH22: 91.94 | DI22: 92.36 | DJ22: 92.93 | DK22: 93 | DL22: 94.92 | DM22: 95.75 | DN22: 96.74 | DO22: 95.48 | DP22: 96.74 | DQ22: 96.42 | DR22: 97.03 | DS22: 96.87 | DT22: 95.13 | DU22: 96.02 | DV22: 95.62 | DW22: 97.26 | DX22: 98.64 | DY22: 99.44 | DZ22: 100.88 | EA22: 101.05 | EB22: 105.48 | EC22: 110.85 | ED22: 112 | EE22: 111.17 | EF22: 113.07 | EG22: 116.36 | EH22: 118.24 | EI22: 117.55 | EJ22: 120.54 | EK22: 120.41 | EL22: 119.97 | EM22: 121.86 | EN22: 121.78 | EO22: 122.71 | EP22: 123.05 | EQ22: 122.29 | ER22: 127.85
B23: Asfaltarbejde | D23: 45.27 | E23: 42.9 | F23: 46 | G23: 46.74 | H23: 44.73 | I23: 44.36 | J23: 44.73 | K23: 45.27 | L23: 43.63 | M23: 44.36 | N23: 44 | O23: 44.27 | P23: 46 | Q23: 44.82 | R23: 45.18 | S23: 45 | T23: 44.82 | U23: 45.37 | V23: 46.1 | W23: 45.92 | X23: 46.74 | Y23: 46.64 | Z23: 46.9 | AA23: 47.2 | AB23: 48.13 | AC23: 47.9 | AD23: 48.97 | AE23: 50.2 | AF23: 50.36 | AG23: 50.32 | AH23: 50.97 | AI23: 51.28 | AJ23: 51.18 | AK23: 51 | AL23: 51.01 | AM23: 50.69 | AN23: 51.53 | AO23: 52.6 | AP23: 54 | AQ23: 55.85 | AR23: 58.1 | AS23: 59.12 | AT23: 61.34 | AU23: 61.15 | AV23: 60.46 | AW23: 60.85 | AX23: 60.93 | AY23: 59.01 | AZ23: 60.68 | BA23: 61.87 | BB23: 62.56 | BC23: 61.57 | BD23: 63.94 | BE23: 61.75 | BF23: 62.94 | BG23: 62.9 | BH23: 63.18 | BI23: 63.86 | BJ23: 64.69 | BK23: 64.12 | BL23: 66.18 | BM23: 68.78 | BN23: 70.73 | BO23: 70.82 | BP23: 72.88 | BQ23: 73.91 | BR23: 73.2 | BS23: 71.82 | BT23: 72.38 | BU23: 75.22 | BV23: 76.94 | BW23: 79.88 | BX23: 81.55 | BY23: 84.19 | BZ23: 82.73 | CA23: 72.92 | CB23: 73.62 | CC23: 77.25 | CD23: 79.37 | CE23: 79.99 | CF23: 81.09 | CG23: 82.42 | CH23: 82.78 | CI23: 83.51 | CJ23: 87.82 | CK23: 88.53 | CL23: 89.4 | CM23: 90.87 | CN23: 93.76 | CO23: 92.21 | CP23: 93.59 | CQ23: 90.92 | CR23: 91.48 | CS23: 91.03 | CT23: 91.55 | CU23: 90.4 | CV23: 90.26 | CW23: 90.29 | CX23: 90.11 | CY23: 85.28 | CZ23: 83.7 | DA23: 85.14 | DB23: 83.99 | DC23: 83.27 | DD23: 83.01 | DE23: 84.74 | DF23: 85.51 | DG23: 87.88 | DH23: 89.72 | DI23: 89.06 | DJ23: 89.87 | DK23: 91.29 | DL23: 93.72 | DM23: 97.1 | DN23: 98.53 | DO23: 96.92 | DP23: 95.9 | DQ23: 95.77 | DR23: 93.66 | DS23: 90.57 | DT23: 90.42 | DU23: 86.5 | DV23: 89.79 | DW23: 92.41 | DX23: 97.03 | DY23: 99.12 | DZ23: 100.91 | EA23: 102.94 | EB23: 109.48 | EC23: 121.02 | ED23: 118.58 | EE23: 112.34 | EF23: 113.32 | EG23: 115.16 | EH23: 121.02 | EI23: 117.44 | EJ23: 119.86 | EK23: 119.92 | EL23: 117.71 | EM23: 119.36 | EN23: 119.79 | EO23: 117.77 | EP23: 117.52 | EQ23: 116.62 | ER23: 122.27
B24: Betonkonstruktioner | D24: 44.64 | E24: 44.85 | F24: 45.13 | G24: 45.13 | H24: 45.85 | I24: 45.92 | J24: 46.27 | K24: 46.21 | L24: 44.85 | M24: 44.85 | N24: 44.85 | O24: 45.42 | P24: 46.06 | Q24: 46.14 | R24: 46.35 | S24: 46.71 | T24: 46.99 | U24: 46.99 | V24: 47.56 | W24: 47.64 | X24: 48.42 | Y24: 48.61 | Z24: 49.27 | AA24: 49.26 | AB24: 49.91 | AC24: 49.56 | AD24: 49.63 | AE24: 50.35 | AF24: 51.04 | AG24: 51.55 | AH24: 51.61 | AI24: 51.85 | AJ24: 52.05 | AK24: 53.07 | AL24: 53.49 | AM24: 52.84 | AN24: 53.43 | AO24: 53.52 | AP24: 53.84 | AQ24: 54.27 | AR24: 54.86 | AS24: 55.78 | AT24: 56.25 | AU24: 56.31 | AV24: 57.2 | AW24: 57.6 | AX24: 57.67 | AY24: 57.41 | AZ24: 58.57 | BA24: 58.74 | BB24: 59.26 | BC24: 59.15 | BD24: 60.41 | BE24: 60.31 | BF24: 60.43 | BG24: 60.6 | BH24: 63.01 | BI24: 65.91 | BJ24: 66.54 | BK24: 66.63 | BL24: 66.64 | BM24: 66.33 | BN24: 67.09 | BO24: 67.35 | BP24: 68.75 | BQ24: 69.98 | BR24: 71.09 | BS24: 71.54 | BT24: 73.75 | BU24: 75.91 | BV24: 76.07 | BW24: 75.99 | BX24: 79.55 | BY24: 84.6 | BZ24: 84.14 | CA24: 78.87 | CB24: 76.72 | CC24: 76 | CD24: 75.98 | CE24: 75.79 | CF24: 76.03 | CG24: 79.67 | CH24: 79.21 | CI24: 78.99 | CJ24: 82.05 | CK24: 81.46 | CL24: 81.58 | CM24: 81.21 | CN24: 82.14 | CO24: 81.37 | CP24: 81.66 | CQ24: 81.09 | CR24: 81.64 | CS24: 80.69 | CT24: 81.32 | CU24: 81.11 | CV24: 81.36 | CW24: 81.39 | CX24: 80.4 | CY24: 79.82 | CZ24: 79.87 | DA24: 79.87 | DB24: 80.54 | DC24: 80.5 | DD24: 81.02 | DE24: 84.07 | DF24: 83.02 | DG24: 83.4 | DH24: 83.98 | DI24: 84.21 | DJ24: 85.4 | DK24: 86.23 | DL24: 88.27 | DM24: 88.23 | DN24: 89.16 | DO24: 88.47 | DP24: 89.07 | DQ24: 88.62 | DR24: 88.28 | DS24: 87.3 | DT24: 87.52 | DU24: 87.2 | DV24: 88.19 | DW24: 89.91 | DX24: 94.56 | DY24: 99.35 | DZ24: 103.65 | EA24: 102.44 | EB24: 111.3 | EC24: 112.96 | ED24: 110.82 | EE24: 106.71 | EF24: 107.61 | EG24: 108.57 | EH24: 106.64 | EI24: 107.2 | EJ24: 109.68 | EK24: 109.55 | EL24: 110.04 | EM24: 111.18 | EN24: 113.16 | EO24: 112.67 | EP24: 112.99 | EQ24: 113.37 | ER24: 113.41
B25: Jernkonstruktioner | D25: 43.3 | E25: 43.3 | F25: 44.09 | G25: 43.74 | H25: 44.02 | I25: 44.09 | J25: 44.38 | K25: 43.67 | L25: 42.3 | M25: 41.79 | N25: 42.01 | O25: 41.94 | P25: 42.37 | Q25: 42.87 | R25: 42.87 | S25: 43.23 | T25: 43.74 | U25: 43.81 | V25: 43.88 | W25: 44.53 | X25: 45.46 | Y25: 45.8 | Z25: 46.58 | AA25: 46.59 | AB25: 46.99 | AC25: 45.74 | AD25: 45.92 | AE25: 45.87 | AF25: 46.31 | AG25: 46.62 | AH25: 46.89 | AI25: 47.59 | AJ25: 48 | AK25: 48.7 | AL25: 49.16 | AM25: 47.44 | AN25: 47.85 | AO25: 47.88 | AP25: 48.54 | AQ25: 49.48 | AR25: 49.94 | AS25: 50.75 | AT25: 51.58 | AU25: 51.19 | AV25: 51.75 | AW25: 51.82 | AX25: 51.93 | AY25: 51.41 | AZ25: 52.67 | BA25: 52.97 | BB25: 53.8 | BC25: 53.38 | BD25: 54.84 | BE25: 54.63 | BF25: 54.62 | BG25: 54.92 | BH25: 59.37 | BI25: 65.43 | BJ25: 66.77 | BK25: 66.59 | BL25: 64.86 | BM25: 63.54 | BN25: 64.79 | BO25: 65.32 | BP25: 66.24 | BQ25: 68.61 | BR25: 69.97 | BS25: 70.71 | BT25: 72.92 | BU25: 75.25 | BV25: 74.67 | BW25: 74.2 | BX25: 79.86 | BY25: 90.92 | BZ25: 90.67 | CA25: 78.39 | CB25: 72.53 | CC25: 70.21 | CD25: 70.07 | CE25: 69.15 | CF25: 69.65 | CG25: 77.51 | CH25: 76 | CI25: 75.27 | CJ25: 81.79 | CK25: 79.66 | CL25: 79.84 | CM25: 78.65 | CN25: 80.53 | CO25: 78.85 | CP25: 78.44 | CQ25: 77.39 | CR25: 77.86 | CS25: 75.28 | CT25: 76.67 | CU25: 76.46 | CV25: 75.98 | CW25: 76.01 | CX25: 74.57 | CY25: 73.42 | CZ25: 73.95 | DA25: 73.58 | DB25: 72.54 | DC25: 70.07 | DD25: 69.65 | DE25: 76.12 | DF25: 73.41 | DG25: 74.54 | DH25: 75.15 | DI25: 74 | DJ25: 77.04 | DK25: 79 | DL25: 80.53 | DM25: 80.32 | DN25: 81.43 | DO25: 80.63 | DP25: 81.54 | DQ25: 80.69 | DR25: 80.15 | DS25: 78.69 | DT25: 79.29 | DU25: 78.25 | DV25: 78.94 | DW25: 81.09 | DX25: 90.14 | DY25: 99.75 | DZ25: 106.17 | EA25: 103.95 | EB25: 122.31 | EC25: 124.08 | ED25: 116.38 | EE25: 108.52 | EF25: 107.19 | EG25: 103.84 | EH25: 99.65 | EI25: 99.58 | EJ25: 102.26 | EK25: 101.42 | EL25: 101.39 | EM25: 101.28 | EN25: 103.98 | EO25: 101.34 | EP25: 101.14 | EQ25: 102.03 | ER25: 100.91
B27: Gennemsnit | D27: =AVERAGE(D21:D25) -> 44.6575 | E27: =AVERAGE(E21:E25) -> 44.17 | F27: =AVERAGE(F21:F25) -> 45.4375 | G27: =AVERAGE(G21:G25) -> 45.55 | H27: =AVERAGE(H21:H25) -> 45.5075 | I27: =AVERAGE(I21:I25) -> 45.52 | J27: =AVERAGE(J21:J25) -> 45.91 | K27: =AVERAGE(K21:K25) -> 45.835 | ... ER27: =AVERAGE(ER21:ER25) -> 117.354
C29: Indeks 1990 | D29: =D27/$D$27*100 -> 100 | E29: =E27/$D$27*100 -> 98.908358 | F29: =F27/$D$27*100 -> 101.74663 | G29: =G27/$D$27*100 -> 101.99854 | H29: =H27/$D$27*100 -> 101.90338 | I29: =I27/$D$27*100 -> 101.93137 | J29: =J27/$D$27*100 -> 102.80468 | K29: =K27/$D$27*100 -> 102.63674 | ... ER29: =ER27/$D$27*100 -> 262.78677
D31: 1990 | E31: 1991 | F31: 1992 | G31: 1993 | H31: 1994 | I31: 1995 | J31: 1996 | K31: 1997 | L31: 1998 | M31: 1999 | N31: 2000 | O31: 2001 | P31: 2002 | Q31: 2003 | R31: 2004 | S31: 2005 | T31: 2006 | U31: 2007 | V31: 2008 | W31: 2009 | X31: 2010 | Y31: 2011 | Z31: 2012 | AA31: 2013 | AB31: 2014 | AC31: 2015 | AD31: 2016 | AE31: 2017 | AF31: 2018 | AG31: 2019 | AH31: 2020 | AI31: 2021 | AJ31: 2022 | AK31: 2023 | AL31: 2024 | AM31: 2025
D32: =AVERAGE(D29:G29) -> 100.66338 | E32: =AVERAGE(H29:K29) -> 102.31904 | F32: =AVERAGE(L29:O29) -> 99.798466 | G32: =AVERAGE(P29:S29) -> 102.68012 | H32: =AVERAGE(T29:W29) -> 104.48973 | I32: =AVERAGE(X29:AA29) -> 108.60998 | J32: =AVERAGE(AB29:AE29) -> 111.77294 | K32: =AVERAGE(AF29:AI29) -> 115.22141 | L32: =AVERAGE(AJ29:AM29) -> 117.45619 | M32: =AVERAGE(AN29:AQ29) -> 120.95393 | N32: =AVERAGE(AR29:AU29) -> 129.0108 | O32: =AVERAGE(AV29:AY29) -> 131.60163 | P32: =AVERAGE(AZ29:BC29) -> 134.84185 | Q32: =AVERAGE(BD29:BG29) -> 137.86934 | R32: =AVERAGE(BH29:BK29) -> 146.94508 | S32: =AVERAGE(BL29:BO29) -> 153.22734 | T32: =AVERAGE(BP29:BS29) -> 160.86324 | U32: =AVERAGE(BT29:BW29) -> 170.2312 | V32: =AVERAGE(BX29:CA29) -> 184.36881 | W32: =AVERAGE(CB29:CE29) -> 172.88921 | X32: =AVERAGE(CF29:CI29) -> 180.15563 | Y32: =AVERAGE(CJ29:CM29) -> 189.99496 | Z32: =AVERAGE(CN29:CQ29) -> 192.21631 | AA32: =AVERAGE(CR29:CU29) -> 190.6242 | AB32: =AVERAGE(CV29:CY29) -> 188.29872 | AC32: =AVERAGE(CZ29:DC29) -> 183.88848 | AD32: =AVERAGE(DD29:DG29) -> 188.02105 | AE32: =AVERAGE(DH29:DK29) -> 194.19918 | AF32: =AVERAGE(DL29:DO29) -> 204.25013 | AG32: =AVERAGE(DP29:DS29) -> 202.91552 | AH32: =AVERAGE(DT29:DW29) -> 199.33046 | AI32: =AVERAGE(DX29:EA29) -> 223.92879 | AJ32: =AVERAGE(EB29:EE29) -> 253.39193 | AK32: =AVERAGE(EF29:EI29) -> 249.75984 | AL32: =AVERAGE(EJ29:EM29) -> 254.9986 | AM32: =AVERAGE(EN29:EQ29) -> 257.26698

Sheet Ny ENS 26 forbrugsgr.
A1: Danmarks forbrugsbaserede klimaaftryk: Forbrugsgrupper
B3: Kilde: Energistyrelsen
B4: Note: Se metodenotat "Klimaaftryk af forbrug, import og eksport" på
B5: Energistyrelsens hjemmeside om Danmarks Globale Klimapåvirkning
B6: Enhed: Mio. ton CO2e
B8: År | C8: Forbrugsgruppe (niveau 1) | D8: Forbrugsgruppe (niveau 2) | E8: Danske udledninger | F8: Udenlandske udledninger | G8: Samlede udledninger
B9: 1990 | C9: Husholdninger | D9: Andre produkter | E9: 1.216285 | F9: 1.925307 | G9: 3.141592
B10: 1990 | C10: Husholdninger | D10: Tekstiler | E10: 0.55601 | F10: 1.989814 | G10: 2.545824
B11: 1990 | C11: Husholdninger | D11: Elektronik | E11: 0.138903 | F11: 0.500143 | G11: 0.639046
B12: 1990 | C12: Husholdninger | D12: Energi og forsyning | E12: 17.642229 | F12: 2.610337 | G12: 20.252566
B13: 1990 | C13: Husholdninger | D13: Føde- og drikkevarer | E13: 7.471531 | F13: 3.535207 | G13: 11.006738
B14: 1990 | C14: Husholdninger | D14: Kultur og fritid | E14: 0.999333 | F14: 0.612667 | G14: 1.612
B15: 1990 | C15: Husholdninger | D15: NPISH | E15: 0.316923 | F15: 0.154646 | G15: 0.471569
B16: 1990 | C16: Husholdninger | D16: Services | E16: 2.520613 | F16: 1.452772 | G16: 3.973385
B17: 1990 | C17: Husholdninger | D17: Transport | E17: 7.63067 | F17: 3.222959 | G17: 10.853629
B18: 1990 | C18: Investeringer | D18: Anskaffelser af værdigenstande | E18: 0.029417 | F18: 0.062984 | G18: 0.092401
B19: 1990 | C19: Investeringer | D19: Forskning og udvikling | E19: 0.516059 | F19: 0.340929 | G19: 0.856988
B20: 1990 | C20: Investeringer | D20: IT-udstyr | E20: 0.213873 | F20: 0.724146 | G20: 0.938019
... B2131: 2024 | C2131: Offentligt forbrug | D2131: Økonomiske forhold | E2131: 0.209186 | F2131: 0.351536 | G2131: 0.560722
G2133: Husholdninger opdelt
C2134: År | D2134: Husholdninger | E2134: Investeringer | F2134: Offentligt forbrug | G2134: Energi og forsyning | H2134: Andre produkter | I2134: Tekstiler | J2134: Elektronik | K2134: Føde- og drikkevarer | L2134: Kultur og fritid | M2134: Npish | N2134: Services | O2134: Transport | R2134: 1990 | S2134: 1991 | T2134: 1992 | U2134: 1993 | V2134: 1994 | W2134: 1995 | X2134: 1996 | Y2134: 1997 | Z2134: 1998 | AA2134: 1999 | AB2134: 2000 | AC2134: 2001 | AD2134: 2002 | AE2134: 2003 | AF2134: 2004 | AG2134: 2005 | AH2134: 2006 | AI2134: 2007 | AJ2134: 2008 | AK2134: 2009 | AL2134: 2010 | AM2134: 2011 | AN2134: 2012 | AO2134: 2013 | AP2134: 2014 | AQ2134: 2015 | AR2134: 2016 | AS2134: 2017 | AT2134: 2018 | AU2134: 2019 | AV2134: 2020 | AW2134: 2021 | AX2134: 2022 | AY2134: 2023 | AZ2134: 2024
B2135: =SUM(D2135:F2135) -> 76.964123 | C2135: 1990 | D2135: =SUMIFS($G$8:$G$2131, $B$8:$B$2131, $C2135, $C$8:$C$2131, D$2134) -> 54.496349 | E2135: =SUMIFS($G$8:$G$2131, $B$8:$B$2131, $C2135, $C$8:$C$2131, E$2134) -> 14.889457 | F2135: =SUMIFS($G$8:$G$2131, $B$8:$B$2131, $C2135, $C$8:$C$2131, F$2134) -> 7.578317 | G2135: =SUMIFS($G$8:$G$2131, $B$8:$B$2131, $C2135, $D$8:$D$2131, G$2134) -> 20.252566 | H2135: =SUMIFS($G$8:$G$2131, $B$8:$B$2131, $C2135, $D$8:$D$2131, H$2134) -> 3.141592 | I2135: =SUMIFS($G$8:$G$2131, $B$8:$B$2131, $C2135, $D$8:$D$2131, I$2134) -> 2.545824 | J2135: =SUMIFS($G$8:$G$2131, $B$8:$B$2131, $C2135, $D$8:$D$2131, J$2134) -> 0.639046 | K2135: =SUMIFS($G$8:$G$2131, $B$8:$B$2131, $C2135, $D$8:$D$2131, K$2134) -> 11.006738 | L2135: =SUMIFS($G$8:$G$2131, $B$8:$B$2131, $C2135, $D$8:$D$2131, L$2134) -> 1.612 | M2135: =SUMIFS($G$8:$G$2131, $B$8:$B$2131, $C2135, $D$8:$D$2131, M$2134) -> 0.471569 | N2135: =SUMIFS($G$8:$G$2131, $B$8:$B$2131, $C2135, $D$8:$D$2131, N$2134) -> 3.973385 | O2135: =SUMIFS($G$8:$G$2131, $B$8:$B$2131, $C2135, $D$8:$D$2131, O$2134) -> 10.853629 | Q2135: =D2134 -> Husholdninger | R2135: =D2135 -> 54.496349 | S2135: =D2136 -> 60.015183 | T2135: =D2137 -> 57.489897 | U2135: =D2138 -> 58.471118 | V2135: =D2139 -> 60.640557 | W2135: =D2140 -> 59.20472 | X2135: =D2141 -> 63.02549 | Y2135: =D2142 -> 58.892356 | Z2135: =D2143 -> 58.329705 | AA2135: =D2144 -> 55.793289 | AB2135: =D2145 -> 51.484771 | AC2135: =D2146 -> 51.14498 | AD2135: =D2147 -> 50.523017 | AE2135: =D2148 -> 54.499708 | AF2135: =D2149 -> 54.367673 | AG2135: =D2150 -> 54.631594 | AH2135: =D2151 -> 57.695711 | AI2135: =D2152 -> 55.52283 | AJ2135: =D2153 -> 54.496257 | AK2135: =D2154 -> 52.644265 | AL2135: =D2155 -> 52.72854 | AM2135: =D2156 -> 50.041487 | AN2135: =D2157 -> 45.634652 | AO2135: =D2158 -> 48.038042 | AP2135: =D2159 -> 44.56722 | AQ2135: =D2160 -> 42.107439 | AR2135: =D2161 -> 44.696408 | AS2135: =D2162 -> 42.628299 | AT2135: =D2163 -> 44.186004 | AU2135: =D2164 -> 42.039266 | AV2135: =D2165 -> 36.331582 | AW2135: =D2166 -> 39.146969 | AX2135: =D2167 -> 36.404114 | AY2135: =D2168 -> 34.684287 | AZ2135: =D2169 -> 34.76238
B2136: =SUM(D2136:F2136) -> 83.702049 | C2136: 1991 | D2136: =SUMIFS($G$8:$G$2131, $B$8:$B$2131, $C2136, $C$8:$C$2131, D$2134) -> 60.015183 | E2136: =SUMIFS($G$8:$G$2131, $B$8:$B$2131, $C2136, $C$8:$C$2131, E$2134) -> 14.593991 | F2136: =SUMIFS($G$8:$G$2131, $B$8:$B$2131, $C2136, $C$8:$C$2131, F$2134) -> 9.092875 | G2136: =SUMIFS($G$8:$G$2131, $B$8:$B$2131, $C2136, $D$8:$D$2131, G$2134) -> 23.801924 | H2136: =SUMIFS($G$8:$G$2131, $B$8:$B$2131, $C2136, $D$8:$D$2131, H$2134) -> 3.423504 | I2136: =SUMIFS($G$8:$G$2131, $B$8:$B$2131, $C2136, $D$8:$D$2131, I$2134) -> 2.80726 | J2136: =SUMIFS($G$8:$G$2131, $B$8:$B$2131, $C2136, $D$8:$D$2131, J$2134) -> 0.742679 | K2136: =SUMIFS($G$8:$G$2131, $B$8:$B$2131, $C2136, $D$8:$D$2131, K$2134) -> 11.409303 | L2136: =SUMIFS($G$8:$G$2131, $B$8:$B$2131, $C2136, $D$8:$D$2131, L$2134) -> 1.689259 | M2136: =SUMIFS($G$8:$G$2131, $B$8:$B$2131, $C2136, $D$8:$D$2131, M$2134) -> 0.534966 | N2136: =SUMIFS($G$8:$G$2131, $B$8:$B$2131, $C2136, $D$8:$D$2131, N$2134) -> 4.603938 | O2136: =SUMIFS($G$8:$G$2131, $B$8:$B$2131, $C2136, $D$8:$D$2131, O$2134) -> 11.00235 | Q2136: =E2134 -> Investeringer | R2136: =E2135 -> 14.889457 | S2136: =E2136 -> 14.593991 | T2136: =E2137 -> 13.828684 | U2136: =E2138 -> 12.014336 | V2136: =E2139 -> 14.166941 | W2136: =E2140 -> 18.379444 | X2136: =E2141 -> 17.728668 | Y2136: =E2142 -> 19.017453 | Z2136: =E2143 -> 19.708327 | AA2136: =E2144 -> 15.341973 | AB2136: =E2145 -> 18.433253 | AC2136: =E2146 -> 18.381512 | AD2136: =E2147 -> 17.114201 | AE2136: =E2148 -> 17.543521 | AF2136: =E2149 -> 19.669313 | AG2136: =E2150 -> 20.783544 | AH2136: =E2151 -> 22.575157 | AI2136: =E2152 -> 24.69131 | AJ2136: =E2153 -> 20.728184 | AK2136: =E2154 -> 15.155664 | AL2136: =E2155 -> 14.113311 | AM2136: =E2156 -> 15.365903 | AN2136: =E2157 -> 14.657443 | AO2136: =E2158 -> 14.32874 | AP2136: =E2159 -> 16.662236 | AQ2136: =E2160 -> 14.838832 | AR2136: =E2161 -> 15.749998 | AS2136: =E2162 -> 15.648778 | AT2136: =E2163 -> 15.539898 | AU2136: =E2164 -> 14.383489 | AV2136: =E2165 -> 16.019874 | AW2136: =E2166 -> 17.576413 | AX2136: =E2167 -> 19.706053 | AY2136: =E2168 -> 15.821226 | AZ2136: =E2169 -> 16.353825
B2137: =SUM(D2137:F2137) -> 79.575888 | C2137: 1992 | D2137: =SUMIFS($G$8:$G$2131, $B$8:$B$2131, $C2137, $C$8:$C$2131, D$2134) -> 57.489897 | E2137: =SUMIFS($G$8:$G$2131, $B$8:$B$2131, $C2137, $C$8:$C$2131, E$2134) -> 13.828684 | F2137: =SUMIFS($G$8:$G$2131, $B$8:$B$2131, $C2137, $C$8:$C$2131, F$2134) -> 8.257307 | G2137: =SUMIFS($G$8:$G$2131, $B$8:$B$2131, $C2137, $D$8:$D$2131, G$2134) -> 20.985409 | H2137: =SUMIFS($G$8:$G$2131, $B$8:$B$2131, $C2137, $D$8:$D$2131, H$2134) -> 3.444625 | I2137: =SUMIFS($G$8:$G$2131, $B$8:$B$2131, $C2137, $D$8:$D$2131, I$2134) -> 2.751997 | J2137: =SUMIFS($G$8:$G$2131, $B$8:$B$2131, $C2137, $D$8:$D$2131, J$2134) -> 0.743901 | K2137: =SUMIFS($G$8:$G$2131, $B$8:$B$2131, $C2137, $D$8:$D$2131, K$2134) -> 11.761731 | L2137: =SUMIFS($G$8:$G$2131, $B$8:$B$2131, $C2137, $D$8:$D$2131, L$2134) -> 1.77079 | M2137: =SUMIFS($G$8:$G$2131, $B$8:$B$2131, $C2137, $D$8:$D$2131, M$2134) -> 0.538585 | N2137: =SUMIFS($G$8:$G$2131, $B$8:$B$2131, $C2137, $D$8:$D$2131, N$2134) -> 4.276968 | O2137: =SUMIFS($G$8:$G$2131, $B$8:$B$2131, $C2137, $D$8:$D$2131, O$2134) -> 11.215891 | Q2137: =F2134 -> Offentligt forbrug | R2137: =F2135 -> 7.578317 | S2137: =F2136 -> 9.092875 | T2137: =F2137 -> 8.257307 | U2137: =F2138 -> 8.804937 | V2137: =F2139 -> 9.062917 | W2137: =F2140 -> 9.272627 | X2137: =F2141 -> 10.199047 | Y2137: =F2142 -> 9.241003 | Z2137: =F2143 -> 9.125193 | AA2137: =F2144 -> 8.831702 | AB2137: =F2145 -> 8.15121 | AC2137: =F2146 -> 8.741927 | AD2137: =F2147 -> 8.694841 | AE2137: =F2148 -> 9.687638 | AF2137: =F2149 -> 9.513593 | AG2137: =F2150 -> 9.423371 | AH2137: =F2151 -> 9.624541 | AI2137: =F2152 -> 9.30471 | AJ2137: =F2153 -> 9.424368 | AK2137: =F2154 -> 10.037345 | AL2137: =F2155 -> 9.876254 | AM2137: =F2156 -> 9.453615 | AN2137: =F2157 -> 8.702872 | AO2137: =F2158 -> 8.823589 | AP2137: =F2159 -> 8.592856 | AQ2137: =F2160 -> 8.105818 | AR2137: =F2161 -> 8.187494 | AS2137: =F2162 -> 8.131825 | AT2137: =F2163 -> 7.984423 | AU2137: =F2164 -> 7.471239 | AV2137: =F2165 -> 7.171021 | AW2137: =F2166 -> 7.929652 | AX2137: =F2167 -> 6.816613 | AY2137: =F2168 -> 6.607604 | AZ2137: =F2169 -> 6.879462
B2138: =SUM(D2138:F2138) -> 79.290391 | C2138: 1993 | D2138: =SUMIFS($G$8:$G$2131, $B$8:$B$2131, $C2138, $C$8:$C$2131, D$2134) -> 58.471118 | E2138: =SUMIFS($G$8:$G$2131, $B$8:$B$2131, $C2138, $C$8:$C$2131, E$2134) -> 12.014336 | F2138: =SUMIFS($G$8:$G$2131, $B$8:$B$2131, $C2138, $C$8:$C$2131, F$2134) -> 8.804937 | G2138: =SUMIFS($G$8:$G$2131, $B$8:$B$2131, $C2138, $D$8:$D$2131, G$2134) -> 23.065295 | H2138: =SUMIFS($G$8:$G$2131, $B$8:$B$2131, $C2138, $D$8:$D$2131, H$2134) -> 3.475585 | I2138: =SUMIFS($G$8:$G$2131, $B$8:$B$2131, $C2138, $D$8:$D$2131, I$2134) -> 2.963552 | J2138: =SUMIFS($G$8:$G$2131, $B$8:$B$2131, $C2138, $D$8:$D$2131, J$2134) -> 0.770911 | K2138: =SUMIFS($G$8:$G$2131, $B$8:$B$2131, $C2138, $D$8:$D$2131, K$2134) -> 11.642012 | L2138: =SUMIFS($G$8:$G$2131, $B$8:$B$2131, $C2138, $D$8:$D$2131, L$2134) -> 1.759701 | M2138: =SUMIFS($G$8:$G$2131, $B$8:$B$2131, $C2138, $D$8:$D$2131, M$2134) -> 0.518054 | N2138: =SUMIFS($G$8:$G$2131, $B$8:$B$2131, $C2138, $D$8:$D$2131, N$2134) -> 3.695314 | O2138: =SUMIFS($G$8:$G$2131, $B$8:$B$2131, $C2138, $D$8:$D$2131, O$2134) -> 10.580694 | Q2138: I alt | R2138: =SUM(R2135:R2137) -> 76.964123 | S2138: =SUM(S2135:S2137) -> 83.702049 | T2138: =SUM(T2135:T2137) -> 79.575888 | U2138: =SUM(U2135:U2137) -> 79.290391 | V2138: =SUM(V2135:V2137) -> 83.870415 | W2138: =SUM(W2135:W2137) -> 86.856791 | X2138: =SUM(X2135:X2137) -> 90.953205 | Y2138: =SUM(Y2135:Y2137) -> 87.150812 | ... AZ2138: =SUM(AZ2135:AZ2137) -> 57.995667
B2139: =SUM(D2139:F2139) -> 83.870415 | C2139: 1994 | D2139: =SUMIFS($G$8:$G$2131, $B$8:$B$2131, $C2139, $C$8:$C$2131, D$2134) -> 60.640557 | E2139: =SUMIFS($G$8:$G$2131, $B$8:$B$2131, $C2139, $C$8:$C$2131, E$2134) -> 14.166941 | F2139: =SUMIFS($G$8:$G$2131, $B$8:$B$2131, $C2139, $C$8:$C$2131, F$2134) -> 9.062917 | G2139: =SUMIFS($G$8:$G$2131, $B$8:$B$2131, $C2139, $D$8:$D$2131, G$2134) -> 23.448611 | H2139: =SUMIFS($G$8:$G$2131, $B$8:$B$2131, $C2139, $D$8:$D$2131, H$2134) -> 3.640028 | I2139: =SUMIFS($G$8:$G$2131, $B$8:$B$2131, $C2139, $D$8:$D$2131, I$2134) -> 3.320211 | J2139: =SUMIFS($G$8:$G$2131, $B$8:$B$2131, $C2139, $D$8:$D$2131, J$2134) -> 0.918392 | K2139: =SUMIFS($G$8:$G$2131, $B$8:$B$2131, $C2139, $D$8:$D$2131, K$2134) -> 11.967783 | L2139: =SUMIFS($G$8:$G$2131, $B$8:$B$2131, $C2139, $D$8:$D$2131, L$2134) -> 1.661927 | M2139: =SUMIFS($G$8:$G$2131, $B$8:$B$2131, $C2139, $D$8:$D$2131, M$2134) -> 0.556741 | N2139: =SUMIFS($G$8:$G$2131, $B$8:$B$2131, $C2139, $D$8:$D$2131, N$2134) -> 3.875468 | O2139: =SUMIFS($G$8:$G$2131, $B$8:$B$2131, $C2139, $D$8:$D$2131, O$2134) -> 11.251396
B2140: =SUM(D2140:F2140) -> 86.856791 | C2140: 1995 | D2140: =SUMIFS($G$8:$G$2131, $B$8:$B$2131, $C2140, $C$8:$C$2131, D$2134) -> 59.20472 | E2140: =SUMIFS($G$8:$G$2131, $B$8:$B$2131, $C2140, $C$8:$C$2131, E$2134) -> 18.379444 | F2140: =SUMIFS($G$8:$G$2131, $B$8:$B$2131, $C2140, $C$8:$C$2131, F$2134) -> 9.272627 | G2140: =SUMIFS($G$8:$G$2131, $B$8:$B$2131, $C2140, $D$8:$D$2131, G$2134) -> 21.728387 | H2140: =SUMIFS($G$8:$G$2131, $B$8:$B$2131, $C2140, $D$8:$D$2131, H$2134) -> 3.727393 | I2140: =SUMIFS($G$8:$G$2131, $B$8:$B$2131, $C2140, $D$8:$D$2131, I$2134) -> 3.247345 | J2140: =SUMIFS($G$8:$G$2131, $B$8:$B$2131, $C2140, $D$8:$D$2131, J$2134) -> 0.968495 | K2140: =SUMIFS($G$8:$G$2131, $B$8:$B$2131, $C2140, $D$8:$D$2131, K$2134) -> 11.940344 | L2140: =SUMIFS($G$8:$G$2131, $B$8:$B$2131, $C2140, $D$8:$D$2131, L$2134) -> 1.698707 | M2140: =SUMIFS($G$8:$G$2131, $B$8:$B$2131, $C2140, $D$8:$D$2131, M$2134) -> 0.583009 | N2140: =SUMIFS($G$8:$G$2131, $B$8:$B$2131, $C2140, $D$8:$D$2131, N$2134) -> 3.726677 | O2140: =SUMIFS($G$8:$G$2131, $B$8:$B$2131, $C2140, $D$8:$D$2131, O$2134) -> 11.584363 | Q2140: Husholdninger
B2141: =SUM(D2141:F2141) -> 90.953205 | C2141: 1996 | D2141: =SUMIFS($G$8:$G$2131, $B$8:$B$2131, $C2141, $C$8:$C$2131, D$2134) -> 63.02549 | E2141: =SUMIFS($G$8:$G$2131, $B$8:$B$2131, $C2141, $C$8:$C$2131, E$2134) -> 17.728668 | F2141: =SUMIFS($G$8:$G$2131, $B$8:$B$2131, $C2141, $C$8:$C$2131, F$2134) -> 10.199047 | G2141: =SUMIFS($G$8:$G$2131, $B$8:$B$2131, $C2141, $D$8:$D$2131, G$2134) -> 24.780852 | H2141: =SUMIFS($G$8:$G$2131, $B$8:$B$2131, $C2141, $D$8:$D$2131, H$2134) -> 3.897554 | I2141: =SUMIFS($G$8:$G$2131, $B$8:$B$2131, $C2141, $D$8:$D$2131, I$2134) -> 3.305078 | J2141: =SUMIFS($G$8:$G$2131, $B$8:$B$2131, $C2141, $D$8:$D$2131, J$2134) -> 1.005147 | K2141: =SUMIFS($G$8:$G$2131, $B$8:$B$2131, $C2141, $D$8:$D$2131, K$2134) -> 11.778297 | L2141: =SUMIFS($G$8:$G$2131, $B$8:$B$2131, $C2141, $D$8:$D$2131, L$2134) -> 1.800466 | M2141: =SUMIFS($G$8:$G$2131, $B$8:$B$2131, $C2141, $D$8:$D$2131, M$2134) -> 0.641811 | N2141: =SUMIFS($G$8:$G$2131, $B$8:$B$2131, $C2141, $D$8:$D$2131, N$2134) -> 4.089621 | O2141: =SUMIFS($G$8:$G$2131, $B$8:$B$2131, $C2141, $D$8:$D$2131, O$2134) -> 11.726664 | Q2141: Energi og forsyning | R2141: =G2135 -> 20.252566 | S2141: =G2136 -> 23.801924 | T2141: =G2137 -> 20.985409 | U2141: =G2138 -> 23.065295 | V2141: =G2139 -> 23.448611 | W2141: =G2140 -> 21.728387 | X2141: =G2141 -> 24.780852 | Y2141: =G2142 -> 21.850029 | Z2141: =G2143 -> 20.659035 | AA2141: =G2144 -> 19.169742 | AB2141: =G2145 -> 16.947088 | AC2141: =G2146 -> 17.152837 | AD2141: =G2147 -> 16.004249 | AE2141: =G2148 -> 17.206054 | AF2141: =G2149 -> 15.797819 | AG2141: =G2150 -> 16.571039 | AH2141: =G2151 -> 18.350426 | AI2141: =G2152 -> 16.567041 | AJ2141: =G2153 -> 15.775645 | AK2141: =G2154 -> 16.404859 | AL2141: =G2155 -> 16.853466 | AM2141: =G2156 -> 14.28663 | AN2141: =G2157 -> 12.547164 | AO2141: =G2158 -> 13.892451 | AP2141: =G2159 -> 11.185616 | AQ2141: =G2160 -> 9.642009 | AR2141: =G2161 -> 10.522066 | AS2141: =G2162 -> 9.06366 | AT2141: =G2163 -> 9.206877 | AU2141: =G2164 -> 7.746954 | AV2141: =G2165 -> 6.510703 | AW2141: =G2166 -> 6.752823 | AX2141: =G2167 -> 6.014182 | AY2141: =G2168 -> 5.424753 | AZ2141: =SUMIFS($G$8:$G$2131, $B$8:$B$2131, $C2169, $D$8:$D$2131, G$2134) -> 5.439888
B2142: =SUM(D2142:F2142) -> 87.150812 | C2142: 1997 | D2142: =SUMIFS($G$8:$G$2131, $B$8:$B$2131, $C2142, $C$8:$C$2131, D$2134) -> 58.892356 | E2142: =SUMIFS($G$8:$G$2131, $B$8:$B$2131, $C2142, $C$8:$C$2131, E$2134) -> 19.017453 | F2142: =SUMIFS($G$8:$G$2131, $B$8:$B$2131, $C2142, $C$8:$C$2131, F$2134) -> 9.241003 | G2142: =SUMIFS($G$8:$G$2131, $B$8:$B$2131, $C2142, $D$8:$D$2131, G$2134) -> 21.850029 | H2142: =SUMIFS($G$8:$G$2131, $B$8:$B$2131, $C2142, $D$8:$D$2131, H$2134) -> 3.618093 | I2142: =SUMIFS($G$8:$G$2131, $B$8:$B$2131, $C2142, $D$8:$D$2131, I$2134) -> 2.894552 | J2142: =SUMIFS($G$8:$G$2131, $B$8:$B$2131, $C2142, $D$8:$D$2131, J$2134) -> 0.888701 | K2142: =SUMIFS($G$8:$G$2131, $B$8:$B$2131, $C2142, $D$8:$D$2131, K$2134) -> 11.374716 | L2142: =SUMIFS($G$8:$G$2131, $B$8:$B$2131, $C2142, $D$8:$D$2131, L$2134) -> 1.704182 | M2142: =SUMIFS($G$8:$G$2131, $B$8:$B$2131, $C2142, $D$8:$D$2131, M$2134) -> 0.59297 | N2142: =SUMIFS($G$8:$G$2131, $B$8:$B$2131, $C2142, $D$8:$D$2131, N$2134) -> 4.033842 | O2142: =SUMIFS($G$8:$G$2131, $B$8:$B$2131, $C2142, $D$8:$D$2131, O$2134) -> 11.935271 | Q2142: =H2134 -> Andre produkter | R2142: =H2135 -> 3.141592 | S2142: =H2136 -> 3.423504 | T2142: =H2137 -> 3.444625 | U2142: =H2138 -> 3.475585 | V2142: =H2139 -> 3.640028 | W2142: =H2140 -> 3.727393 | X2142: =H2141 -> 3.897554 | Y2142: =H2142 -> 3.618093 | Z2142: =H2143 -> 3.839159 | AA2142: =H2144 -> 3.616136 | AB2142: =H2145 -> 3.561132 | AC2142: =H2146 -> 3.237222 | AD2142: =H2147 -> 3.332008 | AE2142: =H2148 -> 3.732081 | AF2142: =H2149 -> 3.896737 | AG2142: =H2150 -> 4.087008 | AH2142: =H2151 -> 3.983 | AI2142: =H2152 -> 4.000683 | AJ2142: =H2153 -> 3.749652 | AK2142: =H2154 -> 3.483827 | AL2142: =H2155 -> 3.263993 | AM2142: =H2156 -> 3.257944 | AN2142: =H2157 -> 2.935853 | AO2142: =H2158 -> 2.912884 | AP2142: =H2159 -> 2.826651 | AQ2142: =H2160 -> 2.822383 | AR2142: =H2161 -> 2.839832 | AS2142: =H2162 -> 2.875397 | AT2142: =H2163 -> 2.944839 | AU2142: =H2164 -> 2.840977 | AV2142: =H2165 -> 2.686937 | AW2142: =H2166 -> 3.078806 | AX2142: =H2167 -> 2.592918 | AY2142: =H2168 -> 2.396147 | AZ2142: =SUMIFS($G$8:$G$2131, $B$8:$B$2131, $C2169, $D$8:$D$2131, H$2134) -> 2.475491
B2143: =SUM(D2143:F2143) -> 87.163225 | C2143: 1998 | D2143: =SUMIFS($G$8:$G$2131, $B$8:$B$2131, $C2143, $C$8:$C$2131, D$2134) -> 58.329705 | E2143: =SUMIFS($G$8:$G$2131, $B$8:$B$2131, $C2143, $C$8:$C$2131, E$2134) -> 19.708327 | F2143: =SUMIFS($G$8:$G$2131, $B$8:$B$2131, $C2143, $C$8:$C$2131, F$2134) -> 9.125193 | G2143: =SUMIFS($G$8:$G$2131, $B$8:$B$2131, $C2143, $D$8:$D$2131, G$2134) -> 20.659035 | H2143: =SUMIFS($G$8:$G$2131, $B$8:$B$2131, $C2143, $D$8:$D$2131, H$2134) -> 3.839159 | I2143: =SUMIFS($G$8:$G$2131, $B$8:$B$2131, $C2143, $D$8:$D$2131, I$2134) -> 3.035577 | J2143: =SUMIFS($G$8:$G$2131, $B$8:$B$2131, $C2143, $D$8:$D$2131, J$2134) -> 0.936116 | K2143: =SUMIFS($G$8:$G$2131, $B$8:$B$2131, $C2143, $D$8:$D$2131, K$2134) -> 12.009388 | L2143: =SUMIFS($G$8:$G$2131, $B$8:$B$2131, $C2143, $D$8:$D$2131, L$2134) -> 1.755259 | M2143: =SUMIFS($G$8:$G$2131, $B$8:$B$2131, $C2143, $D$8:$D$2131, M$2134) -> 0.576691 | N2143: =SUMIFS($G$8:$G$2131, $B$8:$B$2131, $C2143, $D$8:$D$2131, N$2134) -> 3.960821 | O2143: =SUMIFS($G$8:$G$2131, $B$8:$B$2131, $C2143, $D$8:$D$2131, O$2134) -> 11.557659 | Q2143: =I2134 -> Tekstiler | R2143: =I2135 -> 2.545824 | S2143: =I2136 -> 2.80726 | T2143: =I2137 -> 2.751997 | U2143: =I2138 -> 2.963552 | V2143: =I2139 -> 3.320211 | W2143: =I2140 -> 3.247345 | X2143: =I2141 -> 3.305078 | Y2143: =I2142 -> 2.894552 | Z2143: =I2143 -> 3.035577 | AA2143: =I2144 -> 2.920107 | AB2143: =I2145 -> 2.576449 | AC2143: =I2146 -> 2.601748 | AD2143: =I2147 -> 2.593703 | AE2143: =I2148 -> 2.922477 | AF2143: =I2149 -> 2.947081 | AG2143: =I2150 -> 3.026354 | AH2143: =I2151 -> 3.507837 | AI2143: =I2152 -> 3.150158 | AJ2143: =I2153 -> 2.928766 | AK2143: =I2154 -> 2.864985 | AL2143: =I2155 -> 2.896756 | AM2143: =I2156 -> 2.818756 | AN2143: =I2157 -> 2.504616 | AO2143: =I2158 -> 2.533426 | AP2143: =I2159 -> 2.481958 | AQ2143: =I2160 -> 2.436508 | AR2143: =I2161 -> 2.454759 | AS2143: =I2162 -> 2.114962 | AT2143: =I2163 -> 2.37278 | AU2143: =I2164 -> 2.394421 | AV2143: =I2165 -> 2.132292 | AW2143: =I2166 -> 2.289457 | AX2143: =I2167 -> 2.258596 | AY2143: =I2168 -> 1.916258 | AZ2143: =SUMIFS($G$8:$G$2131, $B$8:$B$2131, $C2169, $D$8:$D$2131, I$2134) -> 1.928991
B2144: =SUM(D2144:F2144) -> 79.966964 | C2144: 1999 | D2144: =SUMIFS($G$8:$G$2131, $B$8:$B$2131, $C2144, $C$8:$C$2131, D$2134) -> 55.793289 | E2144: =SUMIFS($G$8:$G$2131, $B$8:$B$2131, $C2144, $C$8:$C$2131, E$2134) -> 15.341973 | F2144: =SUMIFS($G$8:$G$2131, $B$8:$B$2131, $C2144, $C$8:$C$2131, F$2134) -> 8.831702 | G2144: =SUMIFS($G$8:$G$2131, $B$8:$B$2131, $C2144, $D$8:$D$2131, G$2134) -> 19.169742 | H2144: =SUMIFS($G$8:$G$2131, $B$8:$B$2131, $C2144, $D$8:$D$2131, H$2134) -> 3.616136 | I2144: =SUMIFS($G$8:$G$2131, $B$8:$B$2131, $C2144, $D$8:$D$2131, I$2134) -> 2.920107 | J2144: =SUMIFS($G$8:$G$2131, $B$8:$B$2131, $C2144, $D$8:$D$2131, J$2134) -> 1.02468 | K2144: =SUMIFS($G$8:$G$2131, $B$8:$B$2131, $C2144, $D$8:$D$2131, K$2134) -> 10.98075 | L2144: =SUMIFS($G$8:$G$2131, $B$8:$B$2131, $C2144, $D$8:$D$2131, L$2134) -> 1.689539 | M2144: =SUMIFS($G$8:$G$2131, $B$8:$B$2131, $C2144, $D$8:$D$2131, M$2134) -> 0.550384 | N2144: =SUMIFS($G$8:$G$2131, $B$8:$B$2131, $C2144, $D$8:$D$2131, N$2134) -> 3.903048 | O2144: =SUMIFS($G$8:$G$2131, $B$8:$B$2131, $C2144, $D$8:$D$2131, O$2134) -> 11.938903 | Q2144: =J2134 -> Elektronik | R2144: =J2135 -> 0.639046 | S2144: =J2136 -> 0.742679 | T2144: =J2137 -> 0.743901 | U2144: =J2138 -> 0.770911 | V2144: =J2139 -> 0.918392 | W2144: =J2140 -> 0.968495 | X2144: =J2141 -> 1.005147 | Y2144: =J2142 -> 0.888701 | Z2144: =J2143 -> 0.936116 | AA2144: =J2144 -> 1.02468 | AB2144: =J2145 -> 1.039853 | AC2144: =J2146 -> 0.992876 | AD2144: =J2147 -> 1.072405 | AE2144: =J2148 -> 1.173163 | AF2144: =J2149 -> 1.2928 | AG2144: =J2150 -> 1.442593 | AH2144: =J2151 -> 1.471783 | AI2144: =J2152 -> 1.481714 | AJ2144: =J2153 -> 1.544234 | AK2144: =J2154 -> 1.316358 | AL2144: =J2155 -> 1.322794 | AM2144: =J2156 -> 1.346145 | AN2144: =J2157 -> 1.317068 | AO2144: =J2158 -> 1.133903 | AP2144: =J2159 -> 1.063861 | AQ2144: =J2160 -> 1.192922 | AR2144: =J2161 -> 1.201277 | AS2144: =J2162 -> 1.302473 | AT2144: =J2163 -> 1.159396 | AU2144: =J2164 -> 1.124125 | AV2144: =J2165 -> 1.224559 | AW2144: =J2166 -> 1.463567 | AX2144: =J2167 -> 1.179883 | AY2144: =J2168 -> 1.042685 | AZ2144: =SUMIFS($G$8:$G$2131, $B$8:$B$2131, $C2169, $D$8:$D$2131, J$2134) -> 1.084111
