Workbook

Sheet NAIO1
A1: Primære beregninger | AK1: Beregninger af ENS baseret på foreløbige IO-tabeller. De foreløbige IO-tabelværdier nede i arket er manuelt indtastet
C2: Energistyrelsen - CO2e egen anvendelse - slududledninger | D2: 1990 | E2: 1991 | F2: 1992 | G2: 1993 | H2: 1994 | I2: 1995 | J2: 1996 | K2: 1997 | L2: 1998 | M2: 1999 | N2: 2000 | O2: 2001 | P2: 2002 | Q2: 2003 | R2: 2004 | S2: 2005 | T2: 2006 | U2: 2007 | V2: 2008 | W2: 2009 | X2: 2010 | Y2: 2011 | Z2: 2012 | AA2: 2013 | AB2: 2014 | AC2: 2015 | AD2: 2016 | AE2: 2017 | AF2: 2018 | AG2: 2019 | AH2: 2020 | AI2: 2021 | AJ2: 2022 | AK2: 2023 | AL2: 2024
A3: Slutudledninger | B3: Mio. ton. | C3: Nybyggeri | D3: 3.013854 | E3: 2.703794 | F3: 2.539899 | G3: 1.978144 | H3: 1.992198 | I3: 2.495239 | J3: 2.914936 | K3: 3.184235 | L3: 3.677322 | M3: 3.172135 | N3: 3.16692 | O3: 3.38538 | P3: 3.255852 | Q3: 3.649387 | R3: 3.961329 | S3: 3.987113 | T3: 4.493035 | U3: 4.785827 | V3: 4.012955 | W3: 2.450701 | X3: 2.025046 | Y3: 2.400895 | Z3: 2.08437 | AA3: 1.953299 | AB3: 2.113334 | AC3: 2.097445 | AD3: 2.309776 | AE3: 2.611169 | AF3: 2.806185 | AG3: 2.828909 | AH3: 2.944717 | AI3: 3.043128 | AJ3: 3.206705 | AK3: 2.995373 | AL3: 3.003288 | AM3: Tal fra Energistyrelsens Global afrapportering (slutudledninger)
C4: Anlægsvirksomhed | D4: 2.584207 | E4: 2.639991 | F4: 2.68712 | G4: 2.939017 | H4: 2.686625 | I4: 2.980484 | J4: 3.338286 | K4: 3.035835 | L4: 3.19536 | M4: 2.396933 | N4: 2.155346 | O4: 2.413802 | P4: 2.326573 | Q4: 2.501835 | R4: 2.457593 | S4: 2.138376 | T4: 2.26735 | U4: 2.146039 | V4: 2.207437 | W4: 1.937231 | X4: 2.012339 | Y4: 2.161165 | Z4: 2.257852 | AA4: 2.365475 | AB4: 2.323181 | AC4: 2.259194 | AD4: 2.20917 | AE4: 1.917817 | AF4: 1.937979 | AG4: 2.256864 | AH4: 2.486207 | AI4: 2.827838 | AJ4: 2.642038 | AK4: 2.744533 | AL4: 2.983889
C5: Prof. rep. og vedl. | D5: 1.406667 | E5: 1.496197 | F5: 1.499194 | G5: 1.380038 | H5: 1.533843 | I5: 1.6491 | J5: 1.695171 | K5: 1.663129 | L5: 1.53197 | M5: 1.731323 | N5: 1.999301 | O5: 1.796881 | P5: 1.686774 | Q5: 1.868094 | R5: 2.006087 | S5: 2.129699 | T5: 2.418269 | U5: 2.370843 | V5: 2.074549 | W5: 1.721487 | X5: 1.598558 | Y5: 1.844564 | Z5: 1.692869 | AA5: 1.72693 | AB5: 1.854319 | AC5: 1.716426 | AD5: 1.764252 | AE5: 1.755533 | AF5: 1.807575 | AG5: 1.677032 | AH5: 1.647637 | AI5: 1.801519 | AJ5: 1.881586 | AK5: 1.69186 | AL5: 1.635947
C6: Gør-det-selv rep. og vedl. | D6: 0.292215 | E6: 0.307135 | F6: 0.313259 | G6: 0.316332 | H6: 0.323923 | I6: 0.366077 | J6: 0.414641 | K6: 0.441907 | L6: 0.384616 | M6: 0.495847 | N6: 0.73303 | O6: 0.553111 | P6: 0.542683 | Q6: 0.738435 | R6: 0.689153 | S6: 0.862764 | T6: 1.23445 | U6: 1.004363 | V6: 0.754942 | W6: 0.585143 | X6: 0.558841 | Y6: 0.638445 | Z6: 0.570706 | AA6: 0.472939 | AB6: 0.385228 | AC6: 0.358534 | AD6: 0.430978 | AE6: 0.458925 | AF6: 0.491088 | AG6: 0.469127 | AH6: 0.401528 | AI6: 0.62592 | AJ6: 0.699014 | AK6: 0.580971 | AL6: 0.555546
C7: Egen anvendelse (DK+import-eksport)
B8: Mio. kr. | C8: =C3 -> Nybyggeri | D8: =D139-D148+D215-D224 -> 32005.803 | E8: =E139-E148+E215-E224 -> 28358.02 | F8: =F139-F148+F215-F224 -> 26664.746 | G8: =G139-G148+G215-G224 -> 22467.456 | H8: =H139-H148+H215-H224 -> 23453.594 | I8: =I139-I148+I215-I224 -> 28053.106 | J8: =J139-J148+J215-J224 -> 34164.042 | K8: =K139-K148+K215-K224 -> 40446.33 | ... AL8: =AL139-AL148+AL215-AL224 -> 112478.64 | AM8: Tal beregnes på baggrund af indhentede data fra NAIO1 fra DST omkring sommer når IO-tabeller ajourføres
C9: =C4 -> Anlægsvirksomhed | D9: =D158-D167+D234-D243 -> 24592.688 | E9: =E158-E167+E234-E243 -> 23448.966 | F9: =F158-F167+F234-F243 -> 24333.893 | G9: =G158-G167+G234-G243 -> 26889.213 | H9: =H158-H167+H234-H243 -> 26097.254 | I9: =I158-I167+I234-I243 -> 27647.521 | J9: =J158-J167+J234-J243 -> 31548.753 | K9: =K158-K167+K234-K243 -> 31465.348 | ... AL9: =AL158-AL167+AL234-AL243 -> 76477.119
C10: =C5 -> Prof. rep. og vedl. | D10: =D177-D186+D253-D262 -> 17896.916 | E10: =E177-E186+E253-E262 -> 17948.437 | F10: =F177-F186+F253-F262 -> 19415.293 | G10: =G177-G186+G253-G262 -> 19041.982 | H10: =H177-H186+H253-H262 -> 21188.1 | I10: =I177-I186+I253-I262 -> 22843.713 | J10: =J177-J186+J253-J262 -> 23660.168 | K10: =K177-K186+K253-K262 -> 24795.609 | ... AL10: =AL177-AL186+AL253-AL262 -> 67432.759
C11: =C6 -> Gør-det-selv rep. og vedl. | D11: =D196-D205+D272-D281 -> 2297.083 | E11: =E196-E205+E272-E281 -> 2260.801 | F11: =F196-F205+F272-F281 -> 2381.77 | G11: =G196-G205+G272-G281 -> 2384.216 | H11: =H196-H205+H272-H281 -> 2489.578 | I11: =I196-I205+I272-I281 -> 2863.6 | J11: =J196-J205+J272-J281 -> 3139.597 | K11: =K196-K205+K272-K281 -> 3839.215 | ... AL11: =AL196-AL205+AL272-AL281 -> 11560.103
C12: Kroneintensitet
B13: Kilo CO2e pr. kr. aktivitet | C13: =C8 -> Nybyggeri | D13: =D3*1000/D8 -> 0.094165861 | E13: =E3*1000/E8 -> 0.09534495 | F13: =F3*1000/F8 -> 0.095253073 | G13: =G3*1000/G8 -> 0.088044859 | H13: =H3*1000/H8 -> 0.08494212 | I13: =I3*1000/I8 -> 0.088946978 | J13: =J3*1000/J8 -> 0.085321754 | K13: =K3*1000/K8 -> 0.078727415 | ... AL13: =AL3*1000/AL8 -> 0.026700963 | AM13: Kroneintensitet beregnes på baggrund af ENS CO2 der baserer sig på endelig anvendelse alene i IO-tabellerne
C14: =C9 -> Anlægsvirksomhed | D14: =D4*1000/D9 -> 0.1050803 | E14: =E4*1000/E9 -> 0.11258454 | F14: =F4*1000/F9 -> 0.11042705 | G14: =G4*1000/G9 -> 0.10930097 | H14: =H4*1000/H9 -> 0.10294665 | I14: =I4*1000/I9 -> 0.10780294 | J14: =J4*1000/J9 -> 0.10581356 | K14: =K4*1000/K9 -> 0.09648185 | ... AL14: =AL4*1000/AL9 -> 0.039016755
C15: =C10 -> Prof. rep. og vedl. | D15: =D5*1000/D10 -> 0.07859829 | E15: =E5*1000/E10 -> 0.083360852 | F15: =F5*1000/F10 -> 0.077217171 | G15: =G5*1000/G10 -> 0.072473443 | H15: =H5*1000/H10 -> 0.07239172 | I15: =I5*1000/I10 -> 0.072190541 | J15: =J5*1000/J10 -> 0.071646617 | K15: =K5*1000/K10 -> 0.067073529 | ... AL15: =AL5*1000/AL10 -> 0.024260419
C16: =C11 -> Gør-det-selv rep. og vedl. | D16: =D6*1000/D11 -> 0.12721134 | E16: =E6*1000/E11 -> 0.13585229 | F16: =F6*1000/F11 -> 0.13152361 | G16: =G6*1000/G11 -> 0.13267758 | H16: =H6*1000/H11 -> 0.13011161 | I16: =I6*1000/I11 -> 0.12783804 | J16: =J6*1000/J11 -> 0.13206822 | K16: =K6*1000/K11 -> 0.11510348 | ... AL16: =AL6*1000/AL11 -> 0.048057186
C17: CO2e fra inputudledninger i andre brancher
A18: Inputudledninger | B18: Mio. ton. | C18: =C13 -> Nybyggeri | D18: =D13*(D131-SUM(D132:D135)+D207-SUM(D208:D211))/1000 -> 0 | E18: =E13*(E131-SUM(E132:E135)+E207-SUM(E208:E211))/1000 -> 0 | F18: =F13*(F131-SUM(F132:F135)+F207-SUM(F208:F211))/1000 -> 0 | G18: =G13*(G131-SUM(G132:G135)+G207-SUM(G208:G211))/1000 -> 0 | H18: =H13*(H131-SUM(H132:H135)+H207-SUM(H208:H211))/1000 -> 0.0010455526 | I18: =I13*(I131-SUM(I132:I135)+I207-SUM(I208:I211))/1000 -> 0.0026273158 | J18: =J13*(J131-SUM(J132:J135)+J207-SUM(J208:J211))/1000 -> 0 | K18: =K13*(K131-SUM(K132:K135)+K207-SUM(K208:K211))/1000 -> 0.00042339604 | ... AL18: =AL13*(AL131-SUM(AL132:AL135)+AL207-SUM(AL208:AL211))/1000 -> 8.8100057e-06 | AM18: Beregnet CO2 fra input til andre brancher på baggrund af IO-tabeller i kombination med ovenstående kroneintensitet (inputudledninger)
C19: =C14 -> Anlægsvirksomhed | D19: =D14*(D150-SUM(D151:D154)+D226-SUM(D227:D230))/1000 -> 0.87639438 | E19: =E14*(E150-SUM(E151:E154)+E226-SUM(E227:E230))/1000 -> 0.79207658 | F19: =F14*(F150-SUM(F151:F154)+F226-SUM(F227:F230))/1000 -> 0.7422215 | G19: =G14*(G150-SUM(G151:G154)+G226-SUM(G227:G230))/1000 -> 0.64202437 | H19: =H14*(H150-SUM(H151:H154)+H226-SUM(H227:H230))/1000 -> 0.69900748 | I19: =I14*(I150-SUM(I151:I154)+I226-SUM(I227:I230))/1000 -> 0.71040368 | J19: =J14*(J150-SUM(J151:J154)+J226-SUM(J227:J230))/1000 -> 0.74999861 | K19: =K14*(K150-SUM(K151:K154)+K226-SUM(K227:K230))/1000 -> 0.7154246 | ... AL19: =AL14*(AL150-SUM(AL151:AL154)+AL226-SUM(AL227:AL230))/1000 -> 0.57211031
C20: =C15 -> Prof. rep. og vedl. | D20: =D15*(D169-SUM(D170:D173)+D245-SUM(D246:D249))/1000 -> 0.74347412 | E20: =E15*(E169-SUM(E170:E173)+E245-SUM(E246:E249))/1000 -> 0.82777101 | F20: =F15*(F169-SUM(F170:F173)+F245-SUM(F246:F249))/1000 -> 0.84763937 | G20: =G15*(G169-SUM(G170:G173)+G245-SUM(G246:G249))/1000 -> 0.90025033 | H20: =H15*(H169-SUM(H170:H173)+H245-SUM(H246:H249))/1000 -> 0.97056636 | I20: =I15*(I169-SUM(I170:I173)+I245-SUM(I246:I249))/1000 -> 1.0009808 | J20: =J15*(J169-SUM(J170:J173)+J245-SUM(J246:J249))/1000 -> 1.0568796 | K20: =K15*(K169-SUM(K170:K173)+K245-SUM(K246:K249))/1000 -> 1.056011 | ... AL20: =AL15*(AL169-SUM(AL170:AL173)+AL245-SUM(AL246:AL249))/1000 -> 1.2759231
C21: =C16 -> Gør-det-selv rep. og vedl. | D21: =D16*(D188-SUM(D189:D192)+D264-SUM(D265:D268))/1000 -> 0.60804895 | E21: =E16*(E188-SUM(E189:E192)+E264-SUM(E265:E268))/1000 -> 0.71205254 | F21: =F16*(F188-SUM(F189:F192)+F264-SUM(F265:F268))/1000 -> 0.79524807 | G21: =G16*(G188-SUM(G189:G192)+G264-SUM(G265:G268))/1000 -> 0.9396754 | H21: =H16*(H188-SUM(H189:H192)+H264-SUM(H265:H268))/1000 -> 1.0226088 | I21: =I16*(I188-SUM(I189:I192)+I264-SUM(I265:I268))/1000 -> 1.1670823 | J21: =J16*(J188-SUM(J189:J192)+J264-SUM(J265:J268))/1000 -> 1.3150059 | K21: =K16*(K188-SUM(K189:K192)+K264-SUM(K265:K268))/1000 -> 1.2669015 | ... AL21: =AL16*(AL188-SUM(AL189:AL192)+AL264-SUM(AL265:AL268))/1000 -> 1.6980263
C22: CO2e i alt fra egen udledning og ind i andre brancher
A23: Samlede udledninger fra bygge- og anlægsbrancherne (input+slutudledninger) | C23: =C18 -> Nybyggeri | D23: =D3+D18 -> 3.013854 | E23: =E3+E18 -> 2.703794 | F23: =F3+F18 -> 2.539899 | G23: =G3+G18 -> 1.978144 | H23: =H3+H18 -> 1.9932436 | I23: =I3+I18 -> 2.4978663 | J23: =J3+J18 -> 2.914936 | K23: =K3+K18 -> 3.1846584 | ... AL23: =AL3+AL18 -> 3.0032968 | AM23: Samlet CO2-udledning fra egen anvendelse (slutudledninger) og input til andres produktion (inputudledninger)
C24: =C19 -> Anlægsvirksomhed | D24: =D4+D19 -> 3.4606014 | E24: =E4+E19 -> 3.4320676 | F24: =F4+F19 -> 3.4293415 | G24: =G4+G19 -> 3.5810414 | H24: =H4+H19 -> 3.3856325 | I24: =I4+I19 -> 3.6908877 | J24: =J4+J19 -> 4.0882846 | K24: =K4+K19 -> 3.7512596 | ... AL24: =AL4+AL19 -> 3.5559993
C25: =C20 -> Prof. rep. og vedl. | D25: =D5+D20 -> 2.1501411 | E25: =E5+E20 -> 2.323968 | F25: =F5+F20 -> 2.3468334 | G25: =G5+G20 -> 2.2802883 | H25: =H5+H20 -> 2.5044094 | I25: =I5+I20 -> 2.6500808 | J25: =J5+J20 -> 2.7520506 | K25: =K5+K20 -> 2.71914 | ... AL25: =AL5+AL20 -> 2.9118701
C26: =C21 -> Gør-det-selv rep. og vedl. | D26: =D6+D21 -> 0.90026395 | E26: =E6+E21 -> 1.0191875 | F26: =F6+F21 -> 1.1085071 | G26: =G6+G21 -> 1.2560074 | H26: =H6+H21 -> 1.3465318 | I26: =I6+I21 -> 1.5331593 | J26: =J6+J21 -> 1.7296469 | K26: =K6+K21 -> 1.7088085 | ... AL26: =AL6+AL21 -> 2.2535723
C27: I alt | D27: =SUM(D23:D26) -> 9.5248605 | E27: =SUM(E23:E26) -> 9.4790171 | F27: =SUM(F23:F26) -> 9.4245809 | G27: =SUM(G23:G26) -> 9.0954811 | H27: =SUM(H23:H26) -> 9.2298172 | I27: =SUM(I23:I26) -> 10.371994 | J27: =SUM(J23:J26) -> 11.484918 | K27: =SUM(K23:K26) -> 11.363867 | ... AL27: =SUM(AL23:AL26) -> 11.724739
A28: BEREGNINGER AF FORSKELLIGE FORDELINGER AF BYGGERI
A29: Slutudledninger | C29: Nybyggeri, boligbyggeri, slut | D29: =D13*(D145+D221)/1000 -> 1.2841822 | E29: =E13*(E145+E221)/1000 -> 1.0710866 | F29: =F13*(F145+F221)/1000 -> 1.0059118 | G29: =G13*(G145+G221)/1000 -> 0.80210874 | H29: =H13*(H145+H221)/1000 -> 0.85739659 | I29: =I13*(I145+I221)/1000 -> 1.0705099 | J29: =J13*(J145+J221)/1000 -> 1.2194846 | K29: =K13*(K145+K221)/1000 -> 1.3905164 | ... AL29: =AL13*(AL145+AL221)/1000 -> 0.99970417
C30: Nybyggeri, øvrigt byggeri, slut | D30: =D23-D29 -> 1.7296718 | E30: =E23-E29 -> 1.6327074 | F30: =F23-F29 -> 1.5339872 | G30: =G23-G29 -> 1.1760353 | H30: =H23-H29 -> 1.135847 | I30: =I23-I29 -> 1.4273564 | J30: =J23-J29 -> 1.6954514 | K30: =K23-K29 -> 1.794142 | ... AL30: =AL23-AL29 -> 2.0035926
C31: Anlægsvirksomhed, slut | D31: =D4 -> 2.584207 | E31: =E4 -> 2.639991 | F31: =F4 -> 2.68712 | G31: =G4 -> 2.939017 | H31: =H4 -> 2.686625 | I31: =I4 -> 2.980484 | J31: =J4 -> 3.338286 | K31: =K4 -> 3.035835 | ... AL31: =AL4 -> 2.983889
C32: Prof R&V, boligbyggeri, slut | D32: =D15*(D183+D259+D179+D255)/1000 -> 0.97366084 | E32: =E15*(E183+E259+E179+E255)/1000 -> 1.0324962 | F32: =F15*(F183+F259+F179+F255)/1000 -> 1.0045535 | G32: =G15*(G183+G259+G179+G255)/1000 -> 1.0162777 | H32: =H15*(H183+H259+H179+H255)/1000 -> 1.164739 | I32: =I15*(I183+I259+I179+I255)/1000 -> 1.1985017 | J32: =J15*(J183+J259+J179+J255)/1000 -> 1.1828447 | K32: =K15*(K183+K259+K179+K255)/1000 -> 1.0919566 | ... AL32: =AL15*(AL183+AL259+AL179+AL255)/1000 -> 1.3114822
C33: Prof R&V, øvrigt byggeri, slut | D33: =D15*(D177-D186-D183+D253-D262-D259-D179-D255)/1000 -> 0.43300616 | E33: =E15*(E177-E186-E183+E253-E262-E259-E179-E255)/1000 -> 0.46370082 | F33: =F15*(F177-F186-F183+F253-F262-F259-F179-F255)/1000 -> 0.49464053 | G33: =G15*(G177-G186-G183+G253-G262-G259-G179-G255)/1000 -> 0.3637603 | H33: =H15*(H177-H186-H183+H253-H262-H259-H179-H255)/1000 -> 0.36910395 | I33: =I15*(I177-I186-I183+I253-I262-I259-I179-I255)/1000 -> 0.45059834 | J33: =J15*(J177-J186-J183+J253-J262-J259-J179-J255)/1000 -> 0.51232633 | K33: =K15*(K177-K186-K183+K253-K262-K259-K179-K255)/1000 -> 0.57117242 | ... AL33: =AL15*(AL177-AL186-AL183+AL253-AL262-AL259-AL179-AL255)/1000 -> 0.32446479
C34: Gør-det-selv R&V, boligbyggeri, slut | D34: =D16*(D202+D278+D198+D274)/1000 -> 0.28675382 | E34: =E16*(E202+E278+E198+E274)/1000 -> 0.29891403 | F34: =F16*(F202+F278+F198+F274)/1000 -> 0.30385283 | G34: =G16*(G202+G278+G198+G274)/1000 -> 0.30522888 | H34: =H16*(H202+H278+H198+H274)/1000 -> 0.31206216 | I34: =I16*(I202+I278+I198+I274)/1000 -> 0.35394709 | J34: =J16*(J202+J278+J198+J274)/1000 -> 0.40174467 | K34: =K16*(K202+K278+K198+K274)/1000 -> 0.43057644 | ... AL34: =AL16*(AL202+AL278+AL198+AL274)/1000 -> 0.54899391
C35: Gør-det-selv R&V, øvrigt byggeri, slut | D35: =D16*(D196-D202-D205+D272-D278-D281-D198-D274)/1000 -> 0.0054611827 | E35: =E16*(E196-E202-E205+E272-E278-E281-E198-E274)/1000 -> 0.0082209657 | F35: =F16*(F196-F202-F205+F272-F278-F281-F198-F274)/1000 -> 0.0094061744 | G35: =G16*(G196-G202-G205+G272-G278-G281-G198-G274)/1000 -> 0.011103123 | H35: =H16*(H196-H202-H205+H272-H278-H281-H198-H274)/1000 -> 0.011860844 | I35: =I16*(I196-I202-I205+I272-I278-I281-I198-I274)/1000 -> 0.012129912 | J35: =J16*(J196-J202-J205+J272-J278-J281-J198-J274)/1000 -> 0.01289633 | K35: =K16*(K196-K202-K205+K272-K278-K281-K198-K274)/1000 -> 0.011330556 | ... AL35: =AL16*(AL196-AL202-AL205+AL272-AL278-AL281-AL198-AL274)/1000 -> 0.0065520909
A36: Inputudledninger | C36: Prof R&V, boligbyggeri, input | D36: =D15*(D175+D176+D251+D252)/1000 -> 0.44851093 | E36: =E15*(E175+E176+E251+E252)/1000 -> 0.48186565 | F36: =F15*(F175+F176+F251+F252)/1000 -> 0.46799242 | G36: =G15*(G175+G176+G251+G252)/1000 -> 0.47994204 | H36: =H15*(H175+H176+H251+H252)/1000 -> 0.51113332 | I36: =I15*(I175+I176+I251+I252)/1000 -> 0.44376984 | J36: =J15*(J175+J176+J251+J252)/1000 -> 0.48962639 | K36: =K15*(K175+K176+K251+K252)/1000 -> 0.54649479 | ... AL36: =AL15*(AL175+AL176+AL251+AL252)/1000 -> 0.35794536
C37: Prof R&V, øvrigt byggeri, input | D37: =D15*(D169-D175-D176+D245-D251-D252-SUM(D170:D173)-SUM(D246:D249))/1000 -> 0.29496319 | E37: =E15*(E169-E175-E176+E245-E251-E252-SUM(E170:E173)-SUM(E246:E249))/1000 -> 0.34590536 | F37: =F15*(F169-F175-F176+F245-F251-F252-SUM(F170:F173)-SUM(F246:F249))/1000 -> 0.37964695 | G37: =G15*(G169-G175-G176+G245-G251-G252-SUM(G170:G173)-SUM(G246:G249))/1000 -> 0.42030828 | H37: =H15*(H169-H175-H176+H245-H251-H252-SUM(H170:H173)-SUM(H246:H249))/1000 -> 0.45943304 | I37: =I15*(I169-I175-I176+I245-I251-I252-SUM(I170:I173)-SUM(I246:I249))/1000 -> 0.55721099 | J37: =J15*(J169-J175-J176+J245-J251-J252-SUM(J170:J173)-SUM(J246:J249))/1000 -> 0.56725321 | K37: =K15*(K169-K175-K176+K245-K251-K252-SUM(K170:K173)-SUM(K246:K249))/1000 -> 0.50951622 | ... AL37: =AL15*(AL169-AL175-AL176+AL245-AL251-AL252-SUM(AL170:AL173)-SUM(AL246:AL249))/1000 -> 0.91797777
C38: Gør-det-selv R&V, boligbyggeri, input | D38: =D16*(D194+D195+D270+D271)/1000 -> 0.34371257 | E38: =E16*(E194+E195+E270+E271)/1000 -> 0.39253895 | F38: =F16*(F194+F195+F270+F271)/1000 -> 0.41701154 | G38: =G16*(G194+G195+G270+G271)/1000 -> 0.47879609 | H38: =H16*(H194+H195+H270+H271)/1000 -> 0.51728329 | I38: =I16*(I194+I195+I270+I271)/1000 -> 0.48812269 | J38: =J16*(J194+J195+J270+J271)/1000 -> 0.58023606 | K38: =K16*(K194+K195+K270+K271)/1000 -> 0.63618038 | ... AL38: =AL16*(AL194+AL195+AL270+AL271)/1000 -> 0.46707859
C39: Gør-det-selv R&V, øvrigt byggeri, input | D39: =D16*(D188-D194-D195+D264-D270-D271-SUM(D189:D192)-SUM(D265:D268))/1000 -> 0.26433638 | E39: =E16*(E188-E194-E195+E264-E270-E271-SUM(E189:E192)-SUM(E265:E268))/1000 -> 0.31951359 | F39: =F16*(F188-F194-F195+F264-F270-F271-SUM(F189:F192)-SUM(F265:F268))/1000 -> 0.37823653 | G39: =G16*(G188-G194-G195+G264-G270-G271-SUM(G189:G192)-SUM(G265:G268))/1000 -> 0.46087931 | H39: =H16*(H188-H194-H195+H264-H270-H271-SUM(H189:H192)-SUM(H265:H268))/1000 -> 0.50532552 | I39: =I16*(I188-I194-I195+I264-I270-I271-SUM(I189:I192)-SUM(I265:I268))/1000 -> 0.67895957 | J39: =J16*(J188-J194-J195+J264-J270-J271-SUM(J189:J192)-SUM(J265:J268))/1000 -> 0.73476988 | K39: =K16*(K188-K194-K195+K264-K270-K271-SUM(K189:K192)-SUM(K265:K268))/1000 -> 0.63072113 | ... AL39: =AL16*(AL188-AL194-AL195+AL264-AL270-AL271-SUM(AL189:AL192)-SUM(AL265:AL268))/1000 -> 1.2309477
C40: Anlægsvirksomhed, input | D40: =D19 -> 0.87639438 | E40: =E19 -> 0.79207658 | F40: =F19 -> 0.7422215 | G40: =G19 -> 0.64202437 | H40: =H19 -> 0.69900748 | I40: =I19 -> 0.71040368 | J40: =J19 -> 0.74999861 | K40: =K19 -> 0.7154246 | ... AL40: =AL19 -> 0.57211031
...

Sheet Absolutte og pct-fordelinger
A3: Måleenhed | B3: Udledningstype | C3: Fordelingstype | D3: Branche | E3: 1990 | F3: 1991 | G3: 1992 | H3: 1993 | I3: 1994 | J3: 1995 | K3: 1996 | L3: 1997 | M3: 1998 | N3: 1999 | O3: 2000 | P3: 2001 | Q3: 2002 | R3: 2003 | S3: 2004 | T3: 2005 | U3: 2006 | V3: 2007 | W3: 2008 | X3: 2009 | Y3: 2010 | Z3: 2011 | AA3: 2012 | AB3: 2013 | AC3: 2014 | AD3: 2015 | AE3: 2016 | AF3: 2017 | AG3: 2018 | AH3: 2019 | AI3: 2020 | AJ3: 2021 | AK3: 2022 | AL3: 2023 | AM3: 2024
A4: Mio. ton CO2e | B4: Slutudledninger | C4: Fordeling 1 - byggeriets 4 delbrancher | D4: =NAIO1!C3 -> Nybyggeri | E4: =NAIO1!D3 -> 3.013854 | F4: =NAIO1!E3 -> 2.703794 | G4: =NAIO1!F3 -> 2.539899 | H4: =NAIO1!G3 -> 1.978144 | I4: =NAIO1!H3 -> 1.992198 | J4: =NAIO1!I3 -> 2.495239 | K4: =NAIO1!J3 -> 2.914936 | ... AM4: =NAIO1!AL3 -> 3.003288
A5: Mio. ton CO2e | B5: Slutudledninger | C5: Fordeling 1 - byggeriets 4 delbrancher | D5: =NAIO1!C4 -> Anlægsvirksomhed | E5: =NAIO1!D4 -> 2.584207 | F5: =NAIO1!E4 -> 2.639991 | G5: =NAIO1!F4 -> 2.68712 | H5: =NAIO1!G4 -> 2.939017 | I5: =NAIO1!H4 -> 2.686625 | J5: =NAIO1!I4 -> 2.980484 | K5: =NAIO1!J4 -> 3.338286 | ... AM5: =NAIO1!AL4 -> 2.983889
A6: Mio. ton CO2e | B6: Slutudledninger | C6: Fordeling 1 - byggeriets 4 delbrancher | D6: =NAIO1!C5 -> Prof. rep. og vedl. | E6: =NAIO1!D5 -> 1.406667 | F6: =NAIO1!E5 -> 1.496197 | G6: =NAIO1!F5 -> 1.499194 | H6: =NAIO1!G5 -> 1.380038 | I6: =NAIO1!H5 -> 1.533843 | J6: =NAIO1!I5 -> 1.6491 | K6: =NAIO1!J5 -> 1.695171 | ... AM6: =NAIO1!AL5 -> 1.635947
A7: Mio. ton CO2e | B7: Slutudledninger | C7: Fordeling 1 - byggeriets 4 delbrancher | D7: =NAIO1!C6 -> Gør-det-selv rep. og vedl. | E7: =NAIO1!D6 -> 0.292215 | F7: =NAIO1!E6 -> 0.307135 | G7: =NAIO1!F6 -> 0.313259 | H7: =NAIO1!G6 -> 0.316332 | I7: =NAIO1!H6 -> 0.323923 | J7: =NAIO1!I6 -> 0.366077 | K7: =NAIO1!J6 -> 0.414641 | ... AM7: =NAIO1!AL6 -> 0.555546
A8: Mio. ton CO2e | B8: Input | C8: Fordeling 1 - byggeriets 4 delbrancher | D8: =D4 -> Nybyggeri | E8: =NAIO1!D18 -> 0 | F8: =NAIO1!E18 -> 0 | G8: =NAIO1!F18 -> 0 | H8: =NAIO1!G18 -> 0 | I8: =NAIO1!H18 -> 0.0010455526 | J8: =NAIO1!I18 -> 0.0026273158 | K8: =NAIO1!J18 -> 0 | L8: =NAIO1!K18 -> 0.00042339604 | ... AM8: =NAIO1!AL18 -> 8.8100057e-06
A9: Mio. ton CO2e | B9: Input | C9: Fordeling 1 - byggeriets 4 delbrancher | D9: =D5 -> Anlægsvirksomhed | E9: =NAIO1!D19 -> 0.87639438 | F9: =NAIO1!E19 -> 0.79207658 | G9: =NAIO1!F19 -> 0.7422215 | H9: =NAIO1!G19 -> 0.64202437 | I9: =NAIO1!H19 -> 0.69900748 | J9: =NAIO1!I19 -> 0.71040368 | K9: =NAIO1!J19 -> 0.74999861 | L9: =NAIO1!K19 -> 0.7154246 | ... AM9: =NAIO1!AL19 -> 0.57211031
A10: Mio. ton CO2e | B10: Input | C10: Fordeling 1 - byggeriets 4 delbrancher | D10: =D6 -> Prof. rep. og vedl. | E10: =NAIO1!D20 -> 0.74347412 | F10: =NAIO1!E20 -> 0.82777101 | G10: =NAIO1!F20 -> 0.84763937 | H10: =NAIO1!G20 -> 0.90025033 | I10: =NAIO1!H20 -> 0.97056636 | J10: =NAIO1!I20 -> 1.0009808 | K10: =NAIO1!J20 -> 1.0568796 | L10: =NAIO1!K20 -> 1.056011 | ... AM10: =NAIO1!AL20 -> 1.2759231
A11: Mio. ton CO2e | B11: Input | C11: Fordeling 1 - byggeriets 4 delbrancher | D11: =D7 -> Gør-det-selv rep. og vedl. | E11: =NAIO1!D21 -> 0.60804895 | F11: =NAIO1!E21 -> 0.71205254 | G11: =NAIO1!F21 -> 0.79524807 | H11: =NAIO1!G21 -> 0.9396754 | I11: =NAIO1!H21 -> 1.0226088 | J11: =NAIO1!I21 -> 1.1670823 | K11: =NAIO1!J21 -> 1.3150059 | L11: =NAIO1!K21 -> 1.2669015 | ... AM11: =NAIO1!AL21 -> 1.6980263
A12: Mio. ton CO2e | B12: Slut- og inputudledninger | C12: Fordeling 1 - byggeriets 4 delbrancher | D12: =D8 -> Nybyggeri | E12: =NAIO1!D23 -> 3.013854 | F12: =NAIO1!E23 -> 2.703794 | G12: =NAIO1!F23 -> 2.539899 | H12: =NAIO1!G23 -> 1.978144 | I12: =NAIO1!H23 -> 1.9932436 | J12: =NAIO1!I23 -> 2.4978663 | K12: =NAIO1!J23 -> 2.914936 | L12: =NAIO1!K23 -> 3.1846584 | ... AM12: =NAIO1!AL23 -> 3.0032968
A13: Mio. ton CO2e | B13: Slut- og inputudledninger | C13: Fordeling 1 - byggeriets 4 delbrancher | D13: =D9 -> Anlægsvirksomhed | E13: =NAIO1!D24 -> 3.4606014 | F13: =NAIO1!E24 -> 3.4320676 | G13: =NAIO1!F24 -> 3.4293415 | H13: =NAIO1!G24 -> 3.5810414 | I13: =NAIO1!H24 -> 3.3856325 | J13: =NAIO1!I24 -> 3.6908877 | K13: =NAIO1!J24 -> 4.0882846 | L13: =NAIO1!K24 -> 3.7512596 | ... AM13: =NAIO1!AL24 -> 3.5559993
A14: Mio. ton CO2e | B14: Slut- og inputudledninger | C14: Fordeling 1 - byggeriets 4 delbrancher | D14: =D10 -> Prof. rep. og vedl. | E14: =NAIO1!D25 -> 2.1501411 | F14: =NAIO1!E25 -> 2.323968 | G14: =NAIO1!F25 -> 2.3468334 | H14: =NAIO1!G25 -> 2.2802883 | I14: =NAIO1!H25 -> 2.5044094 | J14: =NAIO1!I25 -> 2.6500808 | K14: =NAIO1!J25 -> 2.7520506 | L14: =NAIO1!K25 -> 2.71914 | ... AM14: =NAIO1!AL25 -> 2.9118701
A15: Mio. ton CO2e | B15: Slut- og inputudledninger | C15: Fordeling 1 - byggeriets 4 delbrancher | D15: =D11 -> Gør-det-selv rep. og vedl. | E15: =NAIO1!D26 -> 0.90026395 | F15: =NAIO1!E26 -> 1.0191875 | G15: =NAIO1!F26 -> 1.1085071 | H15: =NAIO1!G26 -> 1.2560074 | I15: =NAIO1!H26 -> 1.3465318 | J15: =NAIO1!I26 -> 1.5331593 | K15: =NAIO1!J26 -> 1.7296469 | L15: =NAIO1!K26 -> 1.7088085 | ... AM15: =NAIO1!AL26 -> 2.2535723
A16: Mio. ton CO2e | B16: Slutudledninger | C16: Fordeling 2 (boligbyggeri vs. øvrigt byggeri) | D16: =D30 -> Nybyggeri, boligbyggeri | E16: =NAIO1!D29 -> 1.2841822 | F16: =NAIO1!E29 -> 1.0710866 | G16: =NAIO1!F29 -> 1.0059118 | H16: =NAIO1!G29 -> 0.80210874 | I16: =NAIO1!H29 -> 0.85739659 | J16: =NAIO1!I29 -> 1.0705099 | K16: =NAIO1!J29 -> 1.2194846 | L16: =NAIO1!K29 -> 1.3905164 | ... AM16: =NAIO1!AL29 -> 0.99970417
A17: Mio. ton CO2e | B17: Slutudledninger | C17: Fordeling 2 (boligbyggeri vs. øvrigt byggeri) | D17: =D31 -> Nybyggeri, øvrigt byggeri | E17: =NAIO1!D30 -> 1.7296718 | F17: =NAIO1!E30 -> 1.6327074 | G17: =NAIO1!F30 -> 1.5339872 | H17: =NAIO1!G30 -> 1.1760353 | I17: =NAIO1!H30 -> 1.135847 | J17: =NAIO1!I30 -> 1.4273564 | K17: =NAIO1!J30 -> 1.6954514 | L17: =NAIO1!K30 -> 1.794142 | ... AM17: =NAIO1!AL30 -> 2.0035926
A18: Mio. ton CO2e | B18: Slutudledninger | C18: Fordeling 2 (boligbyggeri vs. øvrigt byggeri) | D18: =D32 -> R&V, prof, boligbyggeri | E18: =NAIO1!D32 -> 0.97366084 | F18: =NAIO1!E32 -> 1.0324962 | G18: =NAIO1!F32 -> 1.0045535 | H18: =NAIO1!G32 -> 1.0162777 | I18: =NAIO1!H32 -> 1.164739 | J18: =NAIO1!I32 -> 1.1985017 | K18: =NAIO1!J32 -> 1.1828447 | L18: =NAIO1!K32 -> 1.0919566 | ... AM18: =NAIO1!AL32 -> 1.3114822
A19: Mio. ton CO2e | B19: Slutudledninger | C19: Fordeling 2 (boligbyggeri vs. øvrigt byggeri) | D19: =D33 -> R&V, prof, øvrigt byggeri | E19: =NAIO1!D33 -> 0.43300616 | F19: =NAIO1!E33 -> 0.46370082 | G19: =NAIO1!F33 -> 0.49464053 | H19: =NAIO1!G33 -> 0.3637603 | I19: =NAIO1!H33 -> 0.36910395 | J19: =NAIO1!I33 -> 0.45059834 | K19: =NAIO1!J33 -> 0.51232633 | L19: =NAIO1!K33 -> 0.57117242 | ... AM19: =NAIO1!AL33 -> 0.32446479
A20: Mio. ton CO2e | B20: Slutudledninger | C20: Fordeling 2 (boligbyggeri vs. øvrigt byggeri) | D20: =D34 -> R&V, gør-det-selv, boligbyggeri | E20: =NAIO1!D34 -> 0.28675382 | F20: =NAIO1!E34 -> 0.29891403 | G20: =NAIO1!F34 -> 0.30385283 | H20: =NAIO1!G34 -> 0.30522888 | I20: =NAIO1!H34 -> 0.31206216 | J20: =NAIO1!I34 -> 0.35394709 | K20: =NAIO1!J34 -> 0.40174467 | L20: =NAIO1!K34 -> 0.43057644 | ... AM20: =NAIO1!AL34 -> 0.54899391
A21: Mio. ton CO2e | B21: Slutudledninger | C21: Fordeling 2 (boligbyggeri vs. øvrigt byggeri) | D21: =D35 -> R&V, gør-det-selv, øvrigt byggeri | E21: =NAIO1!D35 -> 0.0054611827 | F21: =NAIO1!E35 -> 0.0082209657 | G21: =NAIO1!F35 -> 0.0094061744 | H21: =NAIO1!G35 -> 0.011103123 | I21: =NAIO1!H35 -> 0.011860844 | J21: =NAIO1!I35 -> 0.012129912 | K21: =NAIO1!J35 -> 0.01289633 | L21: =NAIO1!K35 -> 0.011330556 | ... AM21: =NAIO1!AL35 -> 0.0065520909
A22: Mio. ton CO2e | B22: Slutudledninger | C22: Fordeling 2 (boligbyggeri vs. øvrigt byggeri) | D22: =D36 -> Anlægsvirksomhed | E22: =NAIO1!D31 -> 2.584207 | F22: =NAIO1!E31 -> 2.639991 | G22: =NAIO1!F31 -> 2.68712 | H22: =NAIO1!G31 -> 2.939017 | I22: =NAIO1!H31 -> 2.686625 | J22: =NAIO1!I31 -> 2.980484 | K22: =NAIO1!J31 -> 3.338286 | L22: =NAIO1!K31 -> 3.035835 | ... AM22: =NAIO1!AL31 -> 2.983889
A23: Mio. ton CO2e | B23: Input | C23: Fordeling 2 (boligbyggeri vs. øvrigt byggeri) | D23: =D30 -> Nybyggeri, boligbyggeri | E23: 0 | F23: 0 | G23: 0 | H23: 0 | I23: 0 | J23: 0 | K23: 0 | L23: 0 | M23: 0 | N23: 0 | O23: 0 | P23: 0 | Q23: 0 | R23: 0 | S23: 0 | T23: 0 | U23: 0 | V23: 0 | W23: 0 | X23: 0 | Y23: 0 | Z23: 0 | AA23: 0 | AB23: 0 | AC23: 0 | AD23: 0 | AE23: 0 | AF23: 0 | AG23: 0 | AH23: 0 | AI23: 0 | AJ23: 0 | AK23: 0 | AL23: 0 | AM23: 0
A24: Mio. ton CO2e | B24: Input | C24: Fordeling 2 (boligbyggeri vs. øvrigt byggeri) | D24: =D31 -> Nybyggeri, øvrigt byggeri | E24: 0 | F24: 0 | G24: 0 | H24: 0 | I24: 0 | J24: 0 | K24: 0 | L24: 0 | M24: 0 | N24: 0 | O24: 0 | P24: 0 | Q24: 0 | R24: 0 | S24: 0 | T24: 0 | U24: 0 | V24: 0 | W24: 0 | X24: 0 | Y24: 0 | Z24: 0 | AA24: 0 | AB24: 0 | AC24: 0 | AD24: 0 | AE24: 0 | AF24: 0 | AG24: 0 | AH24: 0 | AI24: 0 | AJ24: 0 | AK24: 0 | AL24: 0 | AM24: 0
A25: Mio. ton CO2e | B25: Input | C25: Fordeling 2 (boligbyggeri vs. øvrigt byggeri) | D25: =D32 -> R&V, prof, boligbyggeri | E25: =NAIO1!D36 -> 0.44851093 | F25: =NAIO1!E36 -> 0.48186565 | G25: =NAIO1!F36 -> 0.46799242 | H25: =NAIO1!G36 -> 0.47994204 | I25: =NAIO1!H36 -> 0.51113332 | J25: =NAIO1!I36 -> 0.44376984 | K25: =NAIO1!J36 -> 0.48962639 | L25: =NAIO1!K36 -> 0.54649479 | ... AM25: =NAIO1!AL36 -> 0.35794536
A26: Mio. ton CO2e | B26: Input | C26: Fordeling 2 (boligbyggeri vs. øvrigt byggeri) | D26: =D33 -> R&V, prof, øvrigt byggeri | E26: =NAIO1!D37 -> 0.29496319 | F26: =NAIO1!E37 -> 0.34590536 | G26: =NAIO1!F37 -> 0.37964695 | H26: =NAIO1!G37 -> 0.42030828 | I26: =NAIO1!H37 -> 0.45943304 | J26: =NAIO1!I37 -> 0.55721099 | K26: =NAIO1!J37 -> 0.56725321 | L26: =NAIO1!K37 -> 0.50951622 | ... AM26: =NAIO1!AL37 -> 0.91797777
A27: Mio. ton CO2e | B27: Input | C27: Fordeling 2 (boligbyggeri vs. øvrigt byggeri) | D27: =D34 -> R&V, gør-det-selv, boligbyggeri | E27: =NAIO1!D38 -> 0.34371257 | F27: =NAIO1!E38 -> 0.39253895 | G27: =NAIO1!F38 -> 0.41701154 | H27: =NAIO1!G38 -> 0.47879609 | I27: =NAIO1!H38 -> 0.51728329 | J27: =NAIO1!I38 -> 0.48812269 | K27: =NAIO1!J38 -> 0.58023606 | L27: =NAIO1!K38 -> 0.63618038 | ... AM27: =NAIO1!AL38 -> 0.46707859
A28: Mio. ton CO2e | B28: Input | C28: Fordeling 2 (boligbyggeri vs. øvrigt byggeri) | D28: =D35 -> R&V, gør-det-selv, øvrigt byggeri | E28: =NAIO1!D39 -> 0.26433638 | F28: =NAIO1!E39 -> 0.31951359 | G28: =NAIO1!F39 -> 0.37823653 | H28: =NAIO1!G39 -> 0.46087931 | I28: =NAIO1!H39 -> 0.50532552 | J28: =NAIO1!I39 -> 0.67895957 | K28: =NAIO1!J39 -> 0.73476988 | L28: =NAIO1!K39 -> 0.63072113 | ... AM28: =NAIO1!AL39 -> 1.2309477
A29: Mio. ton CO2e | B29: Input | C29: Fordeling 2 (boligbyggeri vs. øvrigt byggeri) | D29: =D36 -> Anlægsvirksomhed | E29: =NAIO1!D40 -> 0.87639438 | F29: =NAIO1!E40 -> 0.79207658 | G29: =NAIO1!F40 -> 0.7422215 | H29: =NAIO1!G40 -> 0.64202437 | I29: =NAIO1!H40 -> 0.69900748 | J29: =NAIO1!I40 -> 0.71040368 | K29: =NAIO1!J40 -> 0.74999861 | L29: =NAIO1!K40 -> 0.7154246 | ... AM29: =NAIO1!AL40 -> 0.57211031
A30: Mio. ton CO2e | B30: Slut- og inputudledninger | C30: Fordeling 2 (boligbyggeri vs. øvrigt byggeri) | D30: =NAIO1!C43 -> Nybyggeri, boligbyggeri | E30: =NAIO1!D43 -> 1.2841822 | F30: =NAIO1!E43 -> 1.0710866 | G30: =NAIO1!F43 -> 1.0059118 | H30: =NAIO1!G43 -> 0.80210874 | I30: =NAIO1!H43 -> 0.85739659 | J30: =NAIO1!I43 -> 1.0705099 | K30: =NAIO1!J43 -> 1.2194846 | ... AM30: =NAIO1!AL43 -> 0.99970417
A31: Mio. ton CO2e | B31: Slut- og inputudledninger | C31: Fordeling 2 (boligbyggeri vs. øvrigt byggeri) | D31: =NAIO1!C44 -> Nybyggeri, øvrigt byggeri | E31: =NAIO1!D44 -> 1.7296718 | F31: =NAIO1!E44 -> 1.6327074 | G31: =NAIO1!F44 -> 1.5339872 | H31: =NAIO1!G44 -> 1.1760353 | I31: =NAIO1!H44 -> 1.135847 | J31: =NAIO1!I44 -> 1.4273564 | K31: =NAIO1!J44 -> 1.6954514 | ... AM31: =NAIO1!AL44 -> 2.0035926
A32: Mio. ton CO2e | B32: Slut- og inputudledninger | C32: Fordeling 2 (boligbyggeri vs. øvrigt byggeri) | D32: =NAIO1!C42 -> R&V, prof, boligbyggeri | E32: =NAIO1!D42 -> 1.4221718 | F32: =NAIO1!E42 -> 1.5143618 | G32: =NAIO1!F42 -> 1.4725459 | H32: =NAIO1!G42 -> 1.4962197 | I32: =NAIO1!H42 -> 1.6758724 | J32: =NAIO1!I42 -> 1.6422715 | K32: =NAIO1!J42 -> 1.6724711 | ... AM32: =NAIO1!AL42 -> 1.6694276
A33: Mio. ton CO2e | B33: Slut- og inputudledninger | C33: Fordeling 2 (boligbyggeri vs. øvrigt byggeri) | D33: =NAIO1!C46 -> R&V, prof, øvrigt byggeri | E33: =NAIO1!D46 -> 0.72796935 | F33: =NAIO1!E46 -> 0.80960618 | G33: =NAIO1!F46 -> 0.87428748 | H33: =NAIO1!G46 -> 0.78406858 | I33: =NAIO1!H46 -> 0.82853699 | J33: =NAIO1!I46 -> 1.0078093 | K33: =NAIO1!J46 -> 1.0795795 | ... AM33: =NAIO1!AL46 -> 1.2424426
A34: Mio. ton CO2e | B34: Slut- og inputudledninger | C34: Fordeling 2 (boligbyggeri vs. øvrigt byggeri) | D34: =NAIO1!C41 -> R&V, gør-det-selv, boligbyggeri | E34: =NAIO1!D41 -> 0.63046638 | F34: =NAIO1!E41 -> 0.69145299 | G34: =NAIO1!F41 -> 0.72086436 | H34: =NAIO1!G41 -> 0.78402497 | I34: =NAIO1!H41 -> 0.82934545 | J34: =NAIO1!I41 -> 0.84206978 | K34: =NAIO1!J41 -> 0.98198073 | ... AM34: =NAIO1!AL41 -> 1.0160725
A35: Mio. ton CO2e | B35: Slut- og inputudledninger | C35: Fordeling 2 (boligbyggeri vs. øvrigt byggeri) | D35: =NAIO1!C45 -> R&V, gør-det-selv, øvrigt byggeri | E35: =NAIO1!D45 -> 0.26979756 | F35: =NAIO1!E45 -> 0.32773455 | G35: =NAIO1!F45 -> 0.38764271 | H35: =NAIO1!G45 -> 0.47198243 | I35: =NAIO1!H45 -> 0.51718636 | J35: =NAIO1!I45 -> 0.69108948 | K35: =NAIO1!J45 -> 0.74766621 | ... AM35: =NAIO1!AL45 -> 1.2374998
A36: Mio. ton CO2e | B36: Slut- og inputudledninger | C36: Fordeling 2 (boligbyggeri vs. øvrigt byggeri) | D36: =NAIO1!C47 -> Anlægsvirksomhed | E36: =NAIO1!D47 -> 3.4606014 | F36: =NAIO1!E47 -> 3.4320676 | G36: =NAIO1!F47 -> 3.4293415 | H36: =NAIO1!G47 -> 3.5810414 | I36: =NAIO1!H47 -> 3.3856325 | J36: =NAIO1!I47 -> 3.6908877 | K36: =NAIO1!J47 -> 4.0882846 | ... AM36: =NAIO1!AL47 -> 3.5559993
A37: Mio. ton CO2e | B37: Slut- og inputudledninger | C37: Fordeling 3 boligbyggeri vs. øvrigt byggeri - i alt | D37: =NAIO1!C48 -> Boligbyggeri i alt | E37: =NAIO1!D48 -> 3.3368204 | F37: =NAIO1!E48 -> 3.2769014 | G37: =NAIO1!F48 -> 3.199322 | H37: =NAIO1!G48 -> 3.0823535 | I37: =NAIO1!H48 -> 3.3626144 | J37: =NAIO1!I48 -> 3.5548512 | K37: =NAIO1!J48 -> 3.8739363 | ... AM37: =NAIO1!AL48 -> 3.6852042
A38: Mio. ton CO2e | B38: Slut- og inputudledninger | C38: Fordeling 3 boligbyggeri vs. øvrigt byggeri - i alt | D38: =NAIO1!C49 -> Øvrigt byggeri i alt | E38: =NAIO1!D49 -> 2.7274387 | F38: =NAIO1!E49 -> 2.7700482 | G38: =NAIO1!F49 -> 2.7959174 | H38: =NAIO1!G49 -> 2.4320863 | I38: =NAIO1!H49 -> 2.4815703 | J38: =NAIO1!I49 -> 3.1262553 | K38: =NAIO1!J49 -> 3.5226972 | ... AM38: =NAIO1!AL49 -> 4.483535
A39: Mio. ton CO2e | B39: Slut- og inputudledninger | C39: Fordeling 3 boligbyggeri vs. øvrigt byggeri - i alt | D39: =NAIO1!C50 -> Anlægsvirksomhed | E39: =NAIO1!D50 -> 3.4606014 | F39: =NAIO1!E50 -> 3.4320676 | G39: =NAIO1!F50 -> 3.4293415 | H39: =NAIO1!G50 -> 3.5810414 | I39: =NAIO1!H50 -> 3.3856325 | J39: =NAIO1!I50 -> 3.6908877 | K39: =NAIO1!J50 -> 4.0882846 | ... AM39: =NAIO1!AL50 -> 3.5559993
A40: Mio. ton CO2e | B40: Slut- og inputudledninger | C40: Fordeling 4 byggeritype og Rep. og vedligehold | D40: =NAIO1!C51 -> R&V-boligbyggeri | E40: =NAIO1!D51 -> 2.0526382 | F40: =NAIO1!E51 -> 2.2058148 | G40: =NAIO1!F51 -> 2.1934103 | H40: =NAIO1!G51 -> 2.2802447 | I40: =NAIO1!H51 -> 2.5052178 | J40: =NAIO1!I51 -> 2.4843413 | K40: =NAIO1!J51 -> 2.6544518 | ... AM40: =NAIO1!AL51 -> 2.6855001
A41: Mio. ton CO2e | B41: Slut- og inputudledninger | C41: Fordeling 4 byggeritype og Rep. og vedligehold | D41: =NAIO1!C52 -> R&V-øvrigt byggeri | E41: =NAIO1!D52 -> 0.99776691 | F41: =NAIO1!E52 -> 1.1373407 | G41: =NAIO1!F52 -> 1.2619302 | H41: =NAIO1!G52 -> 1.256051 | I41: =NAIO1!H52 -> 1.3457233 | J41: =NAIO1!I52 -> 1.6988988 | K41: =NAIO1!J52 -> 1.8272458 | ... AM41: =NAIO1!AL52 -> 2.4799423
A42: Mio. ton CO2e | B42: Slut- og inputudledninger | C42: Fordeling 4 byggeritype og Rep. og vedligehold | D42: =NAIO1!C53 -> Nybyggeri boligbyggeri | E42: =NAIO1!D53 -> 1.2841822 | F42: =NAIO1!E53 -> 1.0710866 | G42: =NAIO1!F53 -> 1.0059118 | H42: =NAIO1!G53 -> 0.80210874 | I42: =NAIO1!H53 -> 0.85739659 | J42: =NAIO1!I53 -> 1.0705099 | K42: =NAIO1!J53 -> 1.2194846 | ... AM42: =NAIO1!AL53 -> 0.99970417
...

Sheet Figur 3.7+3.8+3.14+5.1+5.2
A3: Måleenhed | B3: Udledningstype | C3: Fordelingstype | D3: Branche | E3: 1990 | F3: 1991 | G3: 1992 | H3: 1993 | I3: 1994 | J3: 1995 | K3: 1996 | L3: 1997 | M3: 1998 | N3: 1999 | O3: 2000 | P3: 2001 | Q3: 2002 | R3: 2003 | S3: 2004 | T3: 2005 | U3: 2006 | V3: 2007 | W3: 2008 | X3: 2009 | Y3: 2010 | Z3: 2011 | AA3: 2012 | AB3: 2013 | AC3: 2014 | AD3: 2015 | AE3: 2016 | AF3: 2017 | AG3: 2018 | AH3: 2019 | AI3: 2020 | AJ3: 2021 | AK3: 2022 | AL3: 2023 | AM3: 2024
A4: Mio. ton CO2e | B4: Slutudledninger | C4: Fordeling 1 - byggeriets 4 delbrancher | D4: =NAIO1!C3 -> Nybyggeri | E4: =NAIO1!D3 -> 3.013854 | F4: =NAIO1!E3 -> 2.703794 | G4: =NAIO1!F3 -> 2.539899 | H4: =NAIO1!G3 -> 1.978144 | I4: =NAIO1!H3 -> 1.992198 | J4: =NAIO1!I3 -> 2.495239 | K4: =NAIO1!J3 -> 2.914936 | ... AM4: =NAIO1!AL3 -> 3.003288
A5: Mio. ton CO2e | B5: Slutudledninger | C5: Fordeling 1 - byggeriets 4 delbrancher | D5: =NAIO1!C4 -> Anlægsvirksomhed | E5: =NAIO1!D4 -> 2.584207 | F5: =NAIO1!E4 -> 2.639991 | G5: =NAIO1!F4 -> 2.68712 | H5: =NAIO1!G4 -> 2.939017 | I5: =NAIO1!H4 -> 2.686625 | J5: =NAIO1!I4 -> 2.980484 | K5: =NAIO1!J4 -> 3.338286 | ... AM5: =NAIO1!AL4 -> 2.983889
A6: Mio. ton CO2e | B6: Slutudledninger | C6: Fordeling 1 - byggeriets 4 delbrancher | D6: =NAIO1!C5 -> Prof. rep. og vedl. | E6: =NAIO1!D5 -> 1.406667 | F6: =NAIO1!E5 -> 1.496197 | G6: =NAIO1!F5 -> 1.499194 | H6: =NAIO1!G5 -> 1.380038 | I6: =NAIO1!H5 -> 1.533843 | J6: =NAIO1!I5 -> 1.6491 | K6: =NAIO1!J5 -> 1.695171 | ... AM6: =NAIO1!AL5 -> 1.635947
A7: Mio. ton CO2e | B7: Slutudledninger | C7: Fordeling 1 - byggeriets 4 delbrancher | D7: =NAIO1!C6 -> Gør-det-selv rep. og vedl. | E7: =NAIO1!D6 -> 0.292215 | F7: =NAIO1!E6 -> 0.307135 | G7: =NAIO1!F6 -> 0.313259 | H7: =NAIO1!G6 -> 0.316332 | I7: =NAIO1!H6 -> 0.323923 | J7: =NAIO1!I6 -> 0.366077 | K7: =NAIO1!J6 -> 0.414641 | ... AM7: =NAIO1!AL6 -> 0.555546
A8: Mio. ton CO2e | B8: Input | C8: Fordeling 1 - byggeriets 4 delbrancher | D8: =D4 -> Nybyggeri | E8: =NAIO1!D18 -> 0 | F8: =NAIO1!E18 -> 0 | G8: =NAIO1!F18 -> 0 | H8: =NAIO1!G18 -> 0 | I8: =NAIO1!H18 -> 0.0010455526 | J8: =NAIO1!I18 -> 0.0026273158 | K8: =NAIO1!J18 -> 0 | L8: =NAIO1!K18 -> 0.00042339604 | ... AM8: =NAIO1!AL18 -> 8.8100057e-06
A9: Mio. ton CO2e | B9: Input | C9: Fordeling 1 - byggeriets 4 delbrancher | D9: =D5 -> Anlægsvirksomhed | E9: =NAIO1!D19 -> 0.87639438 | F9: =NAIO1!E19 -> 0.79207658 | G9: =NAIO1!F19 -> 0.7422215 | H9: =NAIO1!G19 -> 0.64202437 | I9: =NAIO1!H19 -> 0.69900748 | J9: =NAIO1!I19 -> 0.71040368 | K9: =NAIO1!J19 -> 0.74999861 | L9: =NAIO1!K19 -> 0.7154246 | ... AM9: =NAIO1!AL19 -> 0.57211031
A10: Mio. ton CO2e | B10: Input | C10: Fordeling 1 - byggeriets 4 delbrancher | D10: =D6 -> Prof. rep. og vedl. | E10: =NAIO1!D20 -> 0.74347412 | F10: =NAIO1!E20 -> 0.82777101 | G10: =NAIO1!F20 -> 0.84763937 | H10: =NAIO1!G20 -> 0.90025033 | I10: =NAIO1!H20 -> 0.97056636 | J10: =NAIO1!I20 -> 1.0009808 | K10: =NAIO1!J20 -> 1.0568796 | L10: =NAIO1!K20 -> 1.056011 | ... AM10: =NAIO1!AL20 -> 1.2759231
A11: Mio. ton CO2e | B11: Input | C11: Fordeling 1 - byggeriets 4 delbrancher | D11: =D7 -> Gør-det-selv rep. og vedl. | E11: =NAIO1!D21 -> 0.60804895 | F11: =NAIO1!E21 -> 0.71205254 | G11: =NAIO1!F21 -> 0.79524807 | H11: =NAIO1!G21 -> 0.9396754 | I11: =NAIO1!H21 -> 1.0226088 | J11: =NAIO1!I21 -> 1.1670823 | K11: =NAIO1!J21 -> 1.3150059 | L11: =NAIO1!K21 -> 1.2669015 | ... AM11: =NAIO1!AL21 -> 1.6980263
A12: Mio. ton CO2e | B12: Slut- og inputudledninger | C12: Fordeling 1 - byggeriets 4 delbrancher | D12: =D8 -> Nybyggeri | E12: =NAIO1!D23 -> 3.013854 | F12: =NAIO1!E23 -> 2.703794 | G12: =NAIO1!F23 -> 2.539899 | H12: =NAIO1!G23 -> 1.978144 | I12: =NAIO1!H23 -> 1.9932436 | J12: =NAIO1!I23 -> 2.4978663 | K12: =NAIO1!J23 -> 2.914936 | L12: =NAIO1!K23 -> 3.1846584 | ... AM12: =NAIO1!AL23 -> 3.0032968
A13: Mio. ton CO2e | B13: Slut- og inputudledninger | C13: Fordeling 1 - byggeriets 4 delbrancher | D13: =D9 -> Anlægsvirksomhed | E13: =NAIO1!D24 -> 3.4606014 | F13: =NAIO1!E24 -> 3.4320676 | G13: =NAIO1!F24 -> 3.4293415 | H13: =NAIO1!G24 -> 3.5810414 | I13: =NAIO1!H24 -> 3.3856325 | J13: =NAIO1!I24 -> 3.6908877 | K13: =NAIO1!J24 -> 4.0882846 | L13: =NAIO1!K24 -> 3.7512596 | ... AM13: =NAIO1!AL24 -> 3.5559993
A14: Mio. ton CO2e | B14: Slut- og inputudledninger | C14: Fordeling 1 - byggeriets 4 delbrancher | D14: =D10 -> Prof. rep. og vedl. | E14: =NAIO1!D25 -> 2.1501411 | F14: =NAIO1!E25 -> 2.323968 | G14: =NAIO1!F25 -> 2.3468334 | H14: =NAIO1!G25 -> 2.2802883 | I14: =NAIO1!H25 -> 2.5044094 | J14: =NAIO1!I25 -> 2.6500808 | K14: =NAIO1!J25 -> 2.7520506 | L14: =NAIO1!K25 -> 2.71914 | ... AM14: =NAIO1!AL25 -> 2.9118701
A15: Mio. ton CO2e | B15: Slut- og inputudledninger | C15: Fordeling 1 - byggeriets 4 delbrancher | D15: =D11 -> Gør-det-selv rep. og vedl. | E15: =NAIO1!D26 -> 0.90026395 | F15: =NAIO1!E26 -> 1.0191875 | G15: =NAIO1!F26 -> 1.1085071 | H15: =NAIO1!G26 -> 1.2560074 | I15: =NAIO1!H26 -> 1.3465318 | J15: =NAIO1!I26 -> 1.5331593 | K15: =NAIO1!J26 -> 1.7296469 | L15: =NAIO1!K26 -> 1.7088085 | ... AM15: =NAIO1!AL26 -> 2.2535723
A16: Mio. ton CO2e | B16: Slutudledninger | C16: Fordeling 2 (boligbyggeri vs. øvrigt byggeri) | D16: =D30 -> Nybyggeri, boligbyggeri | E16: =NAIO1!D29 -> 1.2841822 | F16: =NAIO1!E29 -> 1.0710866 | G16: =NAIO1!F29 -> 1.0059118 | H16: =NAIO1!G29 -> 0.80210874 | I16: =NAIO1!H29 -> 0.85739659 | J16: =NAIO1!I29 -> 1.0705099 | K16: =NAIO1!J29 -> 1.2194846 | L16: =NAIO1!K29 -> 1.3905164 | ... AM16: =NAIO1!AL29 -> 0.99970417
A17: Mio. ton CO2e | B17: Slutudledninger | C17: Fordeling 2 (boligbyggeri vs. øvrigt byggeri) | D17: =D31 -> Nybyggeri, øvrigt byggeri | E17: =NAIO1!D30 -> 1.7296718 | F17: =NAIO1!E30 -> 1.6327074 | G17: =NAIO1!F30 -> 1.5339872 | H17: =NAIO1!G30 -> 1.1760353 | I17: =NAIO1!H30 -> 1.135847 | J17: =NAIO1!I30 -> 1.4273564 | K17: =NAIO1!J30 -> 1.6954514 | L17: =NAIO1!K30 -> 1.794142 | ... AM17: =NAIO1!AL30 -> 2.0035926
A18: Mio. ton CO2e | B18: Slutudledninger | C18: Fordeling 2 (boligbyggeri vs. øvrigt byggeri) | D18: =D32 -> R&V, prof, boligbyggeri | E18: =NAIO1!D32 -> 0.97366084 | F18: =NAIO1!E32 -> 1.0324962 | G18: =NAIO1!F32 -> 1.0045535 | H18: =NAIO1!G32 -> 1.0162777 | I18: =NAIO1!H32 -> 1.164739 | J18: =NAIO1!I32 -> 1.1985017 | K18: =NAIO1!J32 -> 1.1828447 | L18: =NAIO1!K32 -> 1.0919566 | ... AM18: =NAIO1!AL32 -> 1.3114822
A19: Mio. ton CO2e | B19: Slutudledninger | C19: Fordeling 2 (boligbyggeri vs. øvrigt byggeri) | D19: =D33 -> R&V, prof, øvrigt byggeri | E19: =NAIO1!D33 -> 0.43300616 | F19: =NAIO1!E33 -> 0.46370082 | G19: =NAIO1!F33 -> 0.49464053 | H19: =NAIO1!G33 -> 0.3637603 | I19: =NAIO1!H33 -> 0.36910395 | J19: =NAIO1!I33 -> 0.45059834 | K19: =NAIO1!J33 -> 0.51232633 | L19: =NAIO1!K33 -> 0.57117242 | ... AM19: =NAIO1!AL33 -> 0.32446479
A20: Mio. ton CO2e | B20: Slutudledninger | C20: Fordeling 2 (boligbyggeri vs. øvrigt byggeri) | D20: =D34 -> R&V, gør-det-selv, boligbyggeri | E20: =NAIO1!D34 -> 0.28675382 | F20: =NAIO1!E34 -> 0.29891403 | G20: =NAIO1!F34 -> 0.30385283 | H20: =NAIO1!G34 -> 0.30522888 | I20: =NAIO1!H34 -> 0.31206216 | J20: =NAIO1!I34 -> 0.35394709 | K20: =NAIO1!J34 -> 0.40174467 | L20: =NAIO1!K34 -> 0.43057644 | ... AM20: =NAIO1!AL34 -> 0.54899391
A21: Mio. ton CO2e | B21: Slutudledninger | C21: Fordeling 2 (boligbyggeri vs. øvrigt byggeri) | D21: =D35 -> R&V, gør-det-selv, øvrigt byggeri | E21: =NAIO1!D35 -> 0.0054611827 | F21: =NAIO1!E35 -> 0.0082209657 | G21: =NAIO1!F35 -> 0.0094061744 | H21: =NAIO1!G35 -> 0.011103123 | I21: =NAIO1!H35 -> 0.011860844 | J21: =NAIO1!I35 -> 0.012129912 | K21: =NAIO1!J35 -> 0.01289633 | L21: =NAIO1!K35 -> 0.011330556 | ... AM21: =NAIO1!AL35 -> 0.0065520909
A22: Mio. ton CO2e | B22: Slutudledninger | C22: Fordeling 2 (boligbyggeri vs. øvrigt byggeri) | D22: =D36 -> Anlægsvirksomhed | E22: =NAIO1!D31 -> 2.584207 | F22: =NAIO1!E31 -> 2.639991 | G22: =NAIO1!F31 -> 2.68712 | H22: =NAIO1!G31 -> 2.939017 | I22: =NAIO1!H31 -> 2.686625 | J22: =NAIO1!I31 -> 2.980484 | K22: =NAIO1!J31 -> 3.338286 | L22: =NAIO1!K31 -> 3.035835 | ... AM22: =NAIO1!AL31 -> 2.983889
A23: Mio. ton CO2e | B23: Input | C23: Fordeling 2 (boligbyggeri vs. øvrigt byggeri) | D23: =D30 -> Nybyggeri, boligbyggeri | E23: 0 | F23: 0 | G23: 0 | H23: 0 | I23: 0 | J23: 0 | K23: 0 | L23: 0 | M23: 0 | N23: 0 | O23: 0 | P23: 0 | Q23: 0 | R23: 0 | S23: 0 | T23: 0 | U23: 0 | V23: 0 | W23: 0 | X23: 0 | Y23: 0 | Z23: 0 | AA23: 0 | AB23: 0 | AC23: 0 | AD23: 0 | AE23: 0 | AF23: 0 | AG23: 0 | AH23: 0 | AI23: 0 | AJ23: 0 | AK23: 0 | AL23: 0 | AM23: 0
A24: Mio. ton CO2e | B24: Input | C24: Fordeling 2 (boligbyggeri vs. øvrigt byggeri) | D24: =D31 -> Nybyggeri, øvrigt byggeri | E24: 0 | F24: 0 | G24: 0 | H24: 0 | I24: 0 | J24: 0 | K24: 0 | L24: 0 | M24: 0 | N24: 0 | O24: 0 | P24: 0 | Q24: 0 | R24: 0 | S24: 0 | T24: 0 | U24: 0 | V24: 0 | W24: 0 | X24: 0 | Y24: 0 | Z24: 0 | AA24: 0 | AB24: 0 | AC24: 0 | AD24: 0 | AE24: 0 | AF24: 0 | AG24: 0 | AH24: 0 | AI24: 0 | AJ24: 0 | AK24: 0 | AL24: 0 | AM24: 0
A25: Mio. ton CO2e | B25: Input | C25: Fordeling 2 (boligbyggeri vs. øvrigt byggeri) | D25: =D32 -> R&V, prof, boligbyggeri | E25: =NAIO1!D36 -> 0.44851093 | F25: =NAIO1!E36 -> 0.48186565 | G25: =NAIO1!F36 -> 0.46799242 | H25: =NAIO1!G36 -> 0.47994204 | I25: =NAIO1!H36 -> 0.51113332 | J25: =NAIO1!I36 -> 0.44376984 | K25: =NAIO1!J36 -> 0.48962639 | L25: =NAIO1!K36 -> 0.54649479 | ... AM25: =NAIO1!AL36 -> 0.35794536
A26: Mio. ton CO2e | B26: Input | C26: Fordeling 2 (boligbyggeri vs. øvrigt byggeri) | D26: =D33 -> R&V, prof, øvrigt byggeri | E26: =NAIO1!D37 -> 0.29496319 | F26: =NAIO1!E37 -> 0.34590536 | G26: =NAIO1!F37 -> 0.37964695 | H26: =NAIO1!G37 -> 0.42030828 | I26: =NAIO1!H37 -> 0.45943304 | J26: =NAIO1!I37 -> 0.55721099 | K26: =NAIO1!J37 -> 0.56725321 | L26: =NAIO1!K37 -> 0.50951622 | ... AM26: =NAIO1!AL37 -> 0.91797777
A27: Mio. ton CO2e | B27: Input | C27: Fordeling 2 (boligbyggeri vs. øvrigt byggeri) | D27: =D34 -> R&V, gør-det-selv, boligbyggeri | E27: =NAIO1!D38 -> 0.34371257 | F27: =NAIO1!E38 -> 0.39253895 | G27: =NAIO1!F38 -> 0.41701154 | H27: =NAIO1!G38 -> 0.47879609 | I27: =NAIO1!H38 -> 0.51728329 | J27: =NAIO1!I38 -> 0.48812269 | K27: =NAIO1!J38 -> 0.58023606 | L27: =NAIO1!K38 -> 0.63618038 | ... AM27: =NAIO1!AL38 -> 0.46707859
A28: Mio. ton CO2e | B28: Input | C28: Fordeling 2 (boligbyggeri vs. øvrigt byggeri) | D28: =D35 -> R&V, gør-det-selv, øvrigt byggeri | E28: =NAIO1!D39 -> 0.26433638 | F28: =NAIO1!E39 -> 0.31951359 | G28: =NAIO1!F39 -> 0.37823653 | H28: =NAIO1!G39 -> 0.46087931 | I28: =NAIO1!H39 -> 0.50532552 | J28: =NAIO1!I39 -> 0.67895957 | K28: =NAIO1!J39 -> 0.73476988 | L28: =NAIO1!K39 -> 0.63072113 | ... AM28: =NAIO1!AL39 -> 1.2309477
A29: Mio. ton CO2e | B29: Input | C29: Fordeling 2 (boligbyggeri vs. øvrigt byggeri) | D29: =D36 -> Anlægsvirksomhed | E29: =NAIO1!D40 -> 0.87639438 | F29: =NAIO1!E40 -> 0.79207658 | G29: =NAIO1!F40 -> 0.7422215 | H29: =NAIO1!G40 -> 0.64202437 | I29: =NAIO1!H40 -> 0.69900748 | J29: =NAIO1!I40 -> 0.71040368 | K29: =NAIO1!J40 -> 0.74999861 | L29: =NAIO1!K40 -> 0.7154246 | ... AM29: =NAIO1!AL40 -> 0.57211031
A30: Mio. ton CO2e | B30: Slut- og inputudledninger | C30: Fordeling 2 (boligbyggeri vs. øvrigt byggeri) | D30: =NAIO1!C43 -> Nybyggeri, boligbyggeri | E30: =NAIO1!D43 -> 1.2841822 | F30: =NAIO1!E43 -> 1.0710866 | G30: =NAIO1!F43 -> 1.0059118 | H30: =NAIO1!G43 -> 0.80210874 | I30: =NAIO1!H43 -> 0.85739659 | J30: =NAIO1!I43 -> 1.0705099 | K30: =NAIO1!J43 -> 1.2194846 | ... AM30: =NAIO1!AL43 -> 0.99970417
A31: Mio. ton CO2e | B31: Slut- og inputudledninger | C31: Fordeling 2 (boligbyggeri vs. øvrigt byggeri) | D31: =NAIO1!C44 -> Nybyggeri, øvrigt byggeri | E31: =NAIO1!D44 -> 1.7296718 | F31: =NAIO1!E44 -> 1.6327074 | G31: =NAIO1!F44 -> 1.5339872 | H31: =NAIO1!G44 -> 1.1760353 | I31: =NAIO1!H44 -> 1.135847 | J31: =NAIO1!I44 -> 1.4273564 | K31: =NAIO1!J44 -> 1.6954514 | ... AM31: =NAIO1!AL44 -> 2.0035926
A32: Mio. ton CO2e | B32: Slut- og inputudledninger | C32: Fordeling 2 (boligbyggeri vs. øvrigt byggeri) | D32: =NAIO1!C42 -> R&V, prof, boligbyggeri | E32: =NAIO1!D42 -> 1.4221718 | F32: =NAIO1!E42 -> 1.5143618 | G32: =NAIO1!F42 -> 1.4725459 | H32: =NAIO1!G42 -> 1.4962197 | I32: =NAIO1!H42 -> 1.6758724 | J32: =NAIO1!I42 -> 1.6422715 | K32: =NAIO1!J42 -> 1.6724711 | ... AM32: =NAIO1!AL42 -> 1.6694276
A33: Mio. ton CO2e | B33: Slut- og inputudledninger | C33: Fordeling 2 (boligbyggeri vs. øvrigt byggeri) | D33: =NAIO1!C46 -> R&V, prof, øvrigt byggeri | E33: =NAIO1!D46 -> 0.72796935 | F33: =NAIO1!E46 -> 0.80960618 | G33: =NAIO1!F46 -> 0.87428748 | H33: =NAIO1!G46 -> 0.78406858 | I33: =NAIO1!H46 -> 0.82853699 | J33: =NAIO1!I46 -> 1.0078093 | K33: =NAIO1!J46 -> 1.0795795 | ... AM33: =NAIO1!AL46 -> 1.2424426
A34: Mio. ton CO2e | B34: Slut- og inputudledninger | C34: Fordeling 2 (boligbyggeri vs. øvrigt byggeri) | D34: =NAIO1!C41 -> R&V, gør-det-selv, boligbyggeri | E34: =NAIO1!D41 -> 0.63046638 | F34: =NAIO1!E41 -> 0.69145299 | G34: =NAIO1!F41 -> 0.72086436 | H34: =NAIO1!G41 -> 0.78402497 | I34: =NAIO1!H41 -> 0.82934545 | J34: =NAIO1!I41 -> 0.84206978 | K34: =NAIO1!J41 -> 0.98198073 | ... AM34: =NAIO1!AL41 -> 1.0160725
A35: Mio. ton CO2e | B35: Slut- og inputudledninger | C35: Fordeling 2 (boligbyggeri vs. øvrigt byggeri) | D35: =NAIO1!C45 -> R&V, gør-det-selv, øvrigt byggeri | E35: =NAIO1!D45 -> 0.26979756 | F35: =NAIO1!E45 -> 0.32773455 | G35: =NAIO1!F45 -> 0.38764271 | H35: =NAIO1!G45 -> 0.47198243 | I35: =NAIO1!H45 -> 0.51718636 | J35: =NAIO1!I45 -> 0.69108948 | K35: =NAIO1!J45 -> 0.74766621 | ... AM35: =NAIO1!AL45 -> 1.2374998
A36: Mio. ton CO2e | B36: Slut- og inputudledninger | C36: Fordeling 2 (boligbyggeri vs. øvrigt byggeri) | D36: =NAIO1!C47 -> Anlægsvirksomhed | E36: =NAIO1!D47 -> 3.4606014 | F36: =NAIO1!E47 -> 3.4320676 | G36: =NAIO1!F47 -> 3.4293415 | H36: =NAIO1!G47 -> 3.5810414 | I36: =NAIO1!H47 -> 3.3856325 | J36: =NAIO1!I47 -> 3.6908877 | K36: =NAIO1!J47 -> 4.0882846 | ... AM36: =NAIO1!AL47 -> 3.5559993
A37: Mio. ton CO2e | B37: Slut- og inputudledninger | C37: Fordeling 3 boligbyggeri vs. øvrigt byggeri - i alt | D37: =NAIO1!C48 -> Boligbyggeri i alt | E37: =NAIO1!D48 -> 3.3368204 | F37: =NAIO1!E48 -> 3.2769014 | G37: =NAIO1!F48 -> 3.199322 | H37: =NAIO1!G48 -> 3.0823535 | I37: =NAIO1!H48 -> 3.3626144 | J37: =NAIO1!I48 -> 3.5548512 | K37: =NAIO1!J48 -> 3.8739363 | ... AM37: =NAIO1!AL48 -> 3.6852042
A38: Mio. ton CO2e | B38: Slut- og inputudledninger | C38: Fordeling 3 boligbyggeri vs. øvrigt byggeri - i alt | D38: =NAIO1!C49 -> Øvrigt byggeri i alt | E38: =NAIO1!D49 -> 2.7274387 | F38: =NAIO1!E49 -> 2.7700482 | G38: =NAIO1!F49 -> 2.7959174 | H38: =NAIO1!G49 -> 2.4320863 | I38: =NAIO1!H49 -> 2.4815703 | J38: =NAIO1!I49 -> 3.1262553 | K38: =NAIO1!J49 -> 3.5226972 | ... AM38: =NAIO1!AL49 -> 4.483535
A39: Mio. ton CO2e | B39: Slut- og inputudledninger | C39: Fordeling 3 boligbyggeri vs. øvrigt byggeri - i alt | D39: =NAIO1!C50 -> Anlægsvirksomhed | E39: =NAIO1!D50 -> 3.4606014 | F39: =NAIO1!E50 -> 3.4320676 | G39: =NAIO1!F50 -> 3.4293415 | H39: =NAIO1!G50 -> 3.5810414 | I39: =NAIO1!H50 -> 3.3856325 | J39: =NAIO1!I50 -> 3.6908877 | K39: =NAIO1!J50 -> 4.0882846 | ... AM39: =NAIO1!AL50 -> 3.5559993
A40: Mio. ton CO2e | B40: Slut- og inputudledninger | C40: Fordeling 4 byggeritype og Rep. og vedligehold | D40: =NAIO1!C51 -> R&V-boligbyggeri | E40: =NAIO1!D51 -> 2.0526382 | F40: =NAIO1!E51 -> 2.2058148 | G40: =NAIO1!F51 -> 2.1934103 | H40: =NAIO1!G51 -> 2.2802447 | I40: =NAIO1!H51 -> 2.5052178 | J40: =NAIO1!I51 -> 2.4843413 | K40: =NAIO1!J51 -> 2.6544518 | ... AM40: =NAIO1!AL51 -> 2.6855001
A41: Mio. ton CO2e | B41: Slut- og inputudledninger | C41: Fordeling 4 byggeritype og Rep. og vedligehold | D41: =NAIO1!C52 -> R&V-øvrigt byggeri | E41: =NAIO1!D52 -> 0.99776691 | F41: =NAIO1!E52 -> 1.1373407 | G41: =NAIO1!F52 -> 1.2619302 | H41: =NAIO1!G52 -> 1.256051 | I41: =NAIO1!H52 -> 1.3457233 | J41: =NAIO1!I52 -> 1.6988988 | K41: =NAIO1!J52 -> 1.8272458 | ... AM41: =NAIO1!AL52 -> 2.4799423
A42: Mio. ton CO2e | B42: Slut- og inputudledninger | C42: Fordeling 4 byggeritype og Rep. og vedligehold | D42: =NAIO1!C53 -> Nybyggeri boligbyggeri | E42: =NAIO1!D53 -> 1.2841822 | F42: =NAIO1!E53 -> 1.0710866 | G42: =NAIO1!F53 -> 1.0059118 | H42: =NAIO1!G53 -> 0.80210874 | I42: =NAIO1!H53 -> 0.85739659 | J42: =NAIO1!I53 -> 1.0705099 | K42: =NAIO1!J53 -> 1.2194846 | ... AM42: =NAIO1!AL53 -> 0.99970417
...

Sheet 3.2
A1: =NAIO1!B18 -> Mio. ton.
A2: =NAIO1!C17 -> CO2e fra inputudledninger i andre brancher | B2: =NAIO1!D2 -> 1990 | C2: =NAIO1!E2 -> 1991 | D2: =NAIO1!F2 -> 1992 | E2: =NAIO1!G2 -> 1993 | F2: =NAIO1!H2 -> 1994 | G2: =NAIO1!I2 -> 1995 | H2: =NAIO1!J2 -> 1996 | I2: =NAIO1!K2 -> 1997 | ... AJ2: =NAIO1!AL2 -> 2024
A3: =NAIO1!C18 -> Nybyggeri | B3: =NAIO1!D3 -> 3.013854 | C3: =NAIO1!E3 -> 2.703794 | D3: =NAIO1!F3 -> 2.539899 | E3: =NAIO1!G3 -> 1.978144 | F3: =NAIO1!H3 -> 1.992198 | G3: =NAIO1!I3 -> 2.495239 | H3: =NAIO1!J3 -> 2.914936 | I3: =NAIO1!K3 -> 3.184235 | ... AJ3: =NAIO1!AL3 -> 3.003288
A4: =NAIO1!C19 -> Anlægsvirksomhed | B4: =NAIO1!D4 -> 2.584207 | C4: =NAIO1!E4 -> 2.639991 | D4: =NAIO1!F4 -> 2.68712 | E4: =NAIO1!G4 -> 2.939017 | F4: =NAIO1!H4 -> 2.686625 | G4: =NAIO1!I4 -> 2.980484 | H4: =NAIO1!J4 -> 3.338286 | I4: =NAIO1!K4 -> 3.035835 | ... AJ4: =NAIO1!AL4 -> 2.983889
A5: =NAIO1!C20 -> Prof. rep. og vedl. | B5: =NAIO1!D5 -> 1.406667 | C5: =NAIO1!E5 -> 1.496197 | D5: =NAIO1!F5 -> 1.499194 | E5: =NAIO1!G5 -> 1.380038 | F5: =NAIO1!H5 -> 1.533843 | G5: =NAIO1!I5 -> 1.6491 | H5: =NAIO1!J5 -> 1.695171 | I5: =NAIO1!K5 -> 1.663129 | ... AJ5: =NAIO1!AL5 -> 1.635947
A6: =NAIO1!C21 -> Gør-det-selv rep. og vedl. | B6: =NAIO1!D6 -> 0.292215 | C6: =NAIO1!E6 -> 0.307135 | D6: =NAIO1!F6 -> 0.313259 | E6: =NAIO1!G6 -> 0.316332 | F6: =NAIO1!H6 -> 0.323923 | G6: =NAIO1!I6 -> 0.366077 | H6: =NAIO1!J6 -> 0.414641 | I6: =NAIO1!K6 -> 0.441907 | ... AJ6: =NAIO1!AL6 -> 0.555546

Sheet 3.3
A1: Kroneintensitet
C2: =NAIO1!B13 -> Kilo CO2e pr. kr. aktivitet
A3: =NAIO1!C12 -> Kroneintensitet | B3: =NAIO1!D2 -> 1990 | C3: =NAIO1!E2 -> 1991 | D3: =NAIO1!F2 -> 1992 | E3: =NAIO1!G2 -> 1993 | F3: =NAIO1!H2 -> 1994 | G3: =NAIO1!I2 -> 1995 | H3: =NAIO1!J2 -> 1996 | I3: =NAIO1!K2 -> 1997 | ... AJ3: =NAIO1!AL2 -> 2024
A4: =NAIO1!C13 -> Nybyggeri | B4: =NAIO1!D13 -> 0.094165861 | C4: =NAIO1!E13 -> 0.09534495 | D4: =NAIO1!F13 -> 0.095253073 | E4: =NAIO1!G13 -> 0.088044859 | F4: =NAIO1!H13 -> 0.08494212 | G4: =NAIO1!I13 -> 0.088946978 | H4: =NAIO1!J13 -> 0.085321754 | ... AJ4: =NAIO1!AL13 -> 0.026700963
A5: =NAIO1!C14 -> Anlægsvirksomhed | B5: =NAIO1!D14 -> 0.1050803 | C5: =NAIO1!E14 -> 0.11258454 | D5: =NAIO1!F14 -> 0.11042705 | E5: =NAIO1!G14 -> 0.10930097 | F5: =NAIO1!H14 -> 0.10294665 | G5: =NAIO1!I14 -> 0.10780294 | H5: =NAIO1!J14 -> 0.10581356 | ... AJ5: =NAIO1!AL14 -> 0.039016755
A6: =NAIO1!C15 -> Prof. rep. og vedl. | B6: =NAIO1!D15 -> 0.07859829 | C6: =NAIO1!E15 -> 0.083360852 | D6: =NAIO1!F15 -> 0.077217171 | E6: =NAIO1!G15 -> 0.072473443 | F6: =NAIO1!H15 -> 0.07239172 | G6: =NAIO1!I15 -> 0.072190541 | H6: =NAIO1!J15 -> 0.071646617 | ... AJ6: =NAIO1!AL15 -> 0.024260419
A7: =NAIO1!C16 -> Gør-det-selv rep. og vedl. | B7: =NAIO1!D16 -> 0.12721134 | C7: =NAIO1!E16 -> 0.13585229 | D7: =NAIO1!F16 -> 0.13152361 | E7: =NAIO1!G16 -> 0.13267758 | F7: =NAIO1!H16 -> 0.13011161 | G7: =NAIO1!I16 -> 0.12783804 | H7: =NAIO1!J16 -> 0.13206822 | ... AJ7: =NAIO1!AL16 -> 0.048057186

Sheet 3.4
A1: Kroneintensitet
C2: =NAIO1!B13 -> Kilo CO2e pr. kr. aktivitet
A3: =NAIO1!C12 -> Kroneintensitet | B3: =NAIO1!D2 -> 1990 | C3: =NAIO1!E2 -> 1991 | D3: =NAIO1!F2 -> 1992 | E3: =NAIO1!G2 -> 1993 | F3: =NAIO1!H2 -> 1994 | G3: =NAIO1!I2 -> 1995 | H3: =NAIO1!J2 -> 1996 | I3: =NAIO1!K2 -> 1997 | ... AJ3: =NAIO1!AL2 -> 2024
A4: Nybyggeri nominelt | B4: =NAIO1!D13 -> 0.094165861 | C4: =NAIO1!E13 -> 0.09534495 | D4: =NAIO1!F13 -> 0.095253073 | E4: =NAIO1!G13 -> 0.088044859 | F4: =NAIO1!H13 -> 0.08494212 | G4: =NAIO1!I13 -> 0.088946978 | H4: =NAIO1!J13 -> 0.085321754 | I4: =NAIO1!K13 -> 0.078727415 | ... AJ4: =NAIO1!AL13 -> 0.026700963
A5: =NAIO1!C14 -> Anlægsvirksomhed | B5: =NAIO1!D14 -> 0.1050803 | C5: =NAIO1!E14 -> 0.11258454 | D5: =NAIO1!F14 -> 0.11042705 | E5: =NAIO1!G14 -> 0.10930097 | F5: =NAIO1!H14 -> 0.10294665 | G5: =NAIO1!I14 -> 0.10780294 | H5: =NAIO1!J14 -> 0.10581356 | ... AJ5: =NAIO1!AL14 -> 0.039016755
A6: =NAIO1!C15 -> Prof. rep. og vedl. | B6: =NAIO1!D15 -> 0.07859829 | C6: =NAIO1!E15 -> 0.083360852 | D6: =NAIO1!F15 -> 0.077217171 | E6: =NAIO1!G15 -> 0.072473443 | F6: =NAIO1!H15 -> 0.07239172 | G6: =NAIO1!I15 -> 0.072190541 | H6: =NAIO1!J15 -> 0.071646617 | ... AJ6: =NAIO1!AL15 -> 0.024260419
A7: =NAIO1!C16 -> Gør-det-selv rep. og vedl. | B7: =NAIO1!D16 -> 0.12721134 | C7: =NAIO1!E16 -> 0.13585229 | D7: =NAIO1!F16 -> 0.13152361 | E7: =NAIO1!G16 -> 0.13267758 | F7: =NAIO1!H16 -> 0.13011161 | G7: =NAIO1!I16 -> 0.12783804 | H7: =NAIO1!J16 -> 0.13206822 | ... AJ7: =NAIO1!AL16 -> 0.048057186
C8: (SE TAL FRA BYG32+33)
A9: Nybyggeri+prof. R&V deflator (BYG32+33 i alt,enfamiliehuse) | B9: ='BYG32+33'!D17 -> 100 | C9: ='BYG32+33'!E17 -> 103.49515 | D9: ='BYG32+33'!F17 -> 106.40777 | E9: ='BYG32+33'!G17 -> 108.34951 | F9: ='BYG32+33'!H17 -> 111.06796 | G9: ='BYG32+33'!I17 -> 115.33981 | H9: ='BYG32+33'!J17 -> 118.64078 | I9: ='BYG32+33'!K17 -> 121.94175 | ... AK9: ='BYG32+33'!AM17 -> 256.49654
A10: Anlæg deflator (byg62, veje, asfalt, jern, jord,beton) | B10: ='BYG32+33'!D32 -> 100.66338 | C10: ='BYG32+33'!E32 -> 102.31904 | D10: ='BYG32+33'!F32 -> 99.798466 | E10: ='BYG32+33'!G32 -> 102.68012 | F10: ='BYG32+33'!H32 -> 104.48973 | G10: ='BYG32+33'!I32 -> 108.60998 | H10: ='BYG32+33'!J32 -> 111.77294 | I10: ='BYG32+33'!K32 -> 115.22141 | ... AL10: ='BYG32+33'!AN32 -> 0
A11: Gør-det-selv R&V | B11: ='BYG32+33'!D18 -> 100 | C11: ='BYG32+33'!E18 -> 103.38681 | D11: ='BYG32+33'!F18 -> 106.41711 | E11: ='BYG32+33'!G18 -> 108.19964 | F11: ='BYG32+33'!H18 -> 110.16043 | G11: ='BYG32+33'!I18 -> 114.61676 | H11: ='BYG32+33'!J18 -> 117.64706 | I11: ='BYG32+33'!K18 -> 120.32086 | ... AK11: ='BYG32+33'!AM18 -> 237.47216
A13: Nybyggeri realt | B13: =B4*B$9/100 -> 0.094165861 | C13: =C4*C$9/100 -> 0.098677395 | D13: =D4*D$9/100 -> 0.10135667 | E13: =E4*E$9/100 -> 0.095396178 | F13: =F4*F$9/100 -> 0.094343481 | G13: =G4*G$9/100 -> 0.10259127 | H13: =H4*H$9/100 -> 0.10122639 | I13: =I4*I$9/100 -> 0.096001585 | ... AJ13: =AJ4*AJ$9/100 -> 0.067119584
A14: Anlægsvirksomhed realt | B14: =B5*B$10/100 -> 0.10577738 | C14: =C5*C$10/100 -> 0.11519542 | D14: =D5*D$10/100 -> 0.1102045 | E14: =E5*E$10/100 -> 0.11223037 | F14: =F5*F$10/100 -> 0.10756868 | G14: =G5*G$10/100 -> 0.11708475 | H14: =H5*H$10/100 -> 0.11827093 | I14: =I5*I$10/100 -> 0.11116775 | ... AJ14: =AJ5*AJ$10/100 -> 0.099492179
A15: Prof. rep. og vedl. realt | B15: =B6*B$9/100 -> 0.07859829 | C15: =C6*C$9/100 -> 0.086274435 | D15: =D6*D$9/100 -> 0.082165067 | E15: =E6*E$9/100 -> 0.078524624 | F15: =F6*F$9/100 -> 0.080404007 | G15: =G6*G$9/100 -> 0.08326443 | H15: =H6*H$9/100 -> 0.085002103 | I15: =I6*I$9/100 -> 0.081790633 | ... AJ15: =AJ6*AJ$9/100 -> 0.060984663
A16: Gør-det-selv rep. og vedl. realt | B16: =B7*B$11/100 -> 0.12721134 | C16: =C7*C$11/100 -> 0.14045335 | D16: =D7*D$11/100 -> 0.13996363 | E16: =E7*E$11/100 -> 0.14355666 | F16: =F7*F$11/100 -> 0.14333151 | G16: =G7*G$11/100 -> 0.14652381 | H16: =H7*H$11/100 -> 0.15537438 | I16: =I7*I$11/100 -> 0.13849349 | ... AJ16: =AJ7*AJ$11/100 -> 0.11171401

Sheet 3.5
A1: =NAIO1!B18 -> Mio. ton.
A2: =NAIO1!C17 -> CO2e fra inputudledninger i andre brancher | B2: =NAIO1!D2 -> 1990 | C2: =NAIO1!E2 -> 1991 | D2: =NAIO1!F2 -> 1992 | E2: =NAIO1!G2 -> 1993 | F2: =NAIO1!H2 -> 1994 | G2: =NAIO1!I2 -> 1995 | H2: =NAIO1!J2 -> 1996 | I2: =NAIO1!K2 -> 1997 | ... AJ2: =NAIO1!AL2 -> 2024
A3: =NAIO1!C18 -> Nybyggeri | B3: =NAIO1!D18 -> 0 | C3: =NAIO1!E18 -> 0 | D3: =NAIO1!F18 -> 0 | E3: =NAIO1!G18 -> 0 | F3: =NAIO1!H18 -> 0.0010455526 | G3: =NAIO1!I18 -> 0.0026273158 | H3: =NAIO1!J18 -> 0 | ... AJ3: =NAIO1!AL18 -> 8.8100057e-06
A4: =NAIO1!C19 -> Anlægsvirksomhed | B4: =NAIO1!D19 -> 0.87639438 | C4: =NAIO1!E19 -> 0.79207658 | D4: =NAIO1!F19 -> 0.7422215 | E4: =NAIO1!G19 -> 0.64202437 | F4: =NAIO1!H19 -> 0.69900748 | G4: =NAIO1!I19 -> 0.71040368 | H4: =NAIO1!J19 -> 0.74999861 | ... AJ4: =NAIO1!AL19 -> 0.57211031
A5: =NAIO1!C20 -> Prof. rep. og vedl. | B5: =NAIO1!D20 -> 0.74347412 | C5: =NAIO1!E20 -> 0.82777101 | D5: =NAIO1!F20 -> 0.84763937 | E5: =NAIO1!G20 -> 0.90025033 | F5: =NAIO1!H20 -> 0.97056636 | G5: =NAIO1!I20 -> 1.0009808 | H5: =NAIO1!J20 -> 1.0568796 | ... AJ5: =NAIO1!AL20 -> 1.2759231
A6: =NAIO1!C21 -> Gør-det-selv rep. og vedl. | B6: =NAIO1!D21 -> 0.60804895 | C6: =NAIO1!E21 -> 0.71205254 | D6: =NAIO1!F21 -> 0.79524807 | E6: =NAIO1!G21 -> 0.9396754 | F6: =NAIO1!H21 -> 1.0226088 | G6: =NAIO1!I21 -> 1.1670823 | H6: =NAIO1!J21 -> 1.3150059 | ... AJ6: =NAIO1!AL21 -> 1.6980263

Sheet 3.10
A1: =NAIO1!B18 -> Mio. ton.
A2: =NAIO1!C17 -> CO2e fra inputudledninger i andre brancher | B2: =NAIO1!D2 -> 1990 | C2: =NAIO1!E2 -> 1991 | D2: =NAIO1!F2 -> 1992 | E2: =NAIO1!G2 -> 1993 | F2: =NAIO1!H2 -> 1994 | G2: =NAIO1!I2 -> 1995 | H2: =NAIO1!J2 -> 1996 | I2: =NAIO1!K2 -> 1997 | ... AJ2: =NAIO1!AL2 -> 2024
A3: =NAIO1!C18 -> Nybyggeri | B3: =NAIO1!D23 -> 3.013854 | C3: =NAIO1!E23 -> 2.703794 | D3: =NAIO1!F23 -> 2.539899 | E3: =NAIO1!G23 -> 1.978144 | F3: =NAIO1!H23 -> 1.9932436 | G3: =NAIO1!I23 -> 2.4978663 | H3: =NAIO1!J23 -> 2.914936 | I3: =NAIO1!K23 -> 3.1846584 | ... AJ3: =NAIO1!AL23 -> 3.0032968
A4: =NAIO1!C19 -> Anlægsvirksomhed | B4: =NAIO1!D24 -> 3.4606014 | C4: =NAIO1!E24 -> 3.4320676 | D4: =NAIO1!F24 -> 3.4293415 | E4: =NAIO1!G24 -> 3.5810414 | F4: =NAIO1!H24 -> 3.3856325 | G4: =NAIO1!I24 -> 3.6908877 | H4: =NAIO1!J24 -> 4.0882846 | I4: =NAIO1!K24 -> 3.7512596 | ... AJ4: =NAIO1!AL24 -> 3.5559993
